BEGIN:VCALENDAR
VERSION:2.0
PRODID:-//AIA-LBSB - ECPv6.15.20//NONSGML v1.0//EN
CALSCALE:GREGORIAN
METHOD:PUBLISH
X-ORIGINAL-URL:https://aialb-sb.org
X-WR-CALDESC:Events for AIA-LBSB
REFRESH-INTERVAL;VALUE=DURATION:PT1H
X-Robots-Tag:noindex
X-PUBLISHED-TTL:PT1H
BEGIN:VTIMEZONE
TZID:America/Los_Angeles
BEGIN:DAYLIGHT
TZOFFSETFROM:-0800
TZOFFSETTO:-0700
TZNAME:PDT
DTSTART:20220313T100000
END:DAYLIGHT
BEGIN:STANDARD
TZOFFSETFROM:-0700
TZOFFSETTO:-0800
TZNAME:PST
DTSTART:20221106T090000
END:STANDARD
BEGIN:DAYLIGHT
TZOFFSETFROM:-0800
TZOFFSETTO:-0700
TZNAME:PDT
DTSTART:20230312T100000
END:DAYLIGHT
BEGIN:STANDARD
TZOFFSETFROM:-0700
TZOFFSETTO:-0800
TZNAME:PST
DTSTART:20231105T090000
END:STANDARD
BEGIN:DAYLIGHT
TZOFFSETFROM:-0800
TZOFFSETTO:-0700
TZNAME:PDT
DTSTART:20240310T100000
END:DAYLIGHT
BEGIN:STANDARD
TZOFFSETFROM:-0700
TZOFFSETTO:-0800
TZNAME:PST
DTSTART:20241103T090000
END:STANDARD
END:VTIMEZONE
BEGIN:VEVENT
DTSTART;TZID=America/Los_Angeles:20230907T180000
DTEND;TZID=America/Los_Angeles:20230907T190000
DTSTAMP:20260422T175110
CREATED:20230829T213910Z
LAST-MODIFIED:20230829T230831Z
UID:19085-1694109600-1694113200@aialb-sb.org
SUMMARY: ARE/CSE California Study Hub: PcM Firm Finances
DESCRIPTION:Normally the Study Hub will be held bi-weekly on Mondays. Due to the Labor Day holiday\, this session is being held on a Thursday.  \n\n\n\n\n\n\nREGISTER\n\n\n\n\nAIA CA is officially launching the ARE/CSE California Study Hub! Come join us for a FREE study session\, bi-weekly on Mondays at 6PM. Each session will be hosted by a different professional and exam divisions change every two months. Join our network and find other programs to support you on your path to licensure. We know licensure is a long road\, lets traverse it together. \n\n\n\nAmber Book will be doing a special sale during the launch of the program. From September 7-8\, for 48 hours only\, attendees will have access to Amber Book architecture licensure exam prep at the lowest rate they offer. All who attend the first session will be sent a code and are eligible to receive $170 off tuition —so you’ll pay $240 per month instead of $410 per month. The discount is good for each month you subscribe (not just the first one). Everyone gets the full course\, including the mailed hardcopy textbook\, animated videos\, online flash cards\, and practice exams. If you’re not thrilled with the course\, they’ll give you your money back—no questions asked and no fine print.  \n\n\n\n\n\n\n\n\n\n\n\nPractice Management (PcM) focuses on the management of architectural practice\, including professional ethics\, fiduciary responsibilities\, and the regulations governing the practice of architecture. \n\n\n\nSpeaker: Ben Norkin \n\n\n\nAbout Our Speaker: Creator of Hyperfine and Principal at Ben Norkin Architecture\, Ben is a licensed Architect\, teacher\, student\, parent\, and a Navy veteran. From designing contemporary net-zero-ready homes to humble residential additions; from completing a Master’s thesis to A.R.E. exams\, Ben has picked up a lot over the last five years and is excited to be able to share it with others. Ben teaches architecture as well\, and he always stresses to his students that he is just like they are…only a few years into the future. \n\n\n\n\n\n\n\nJoin the ARE/CSE Study Hub Slack group
URL:https://aialb-sb.org/event/are-cse-california-study-hub-pcm-firm-finances/
CATEGORIES:A.R.E.,A.R.E. Study Group
ATTACH;FMTTYPE=image/png:https://aialb-sb.org/wp-content/uploads/2023/08/California-Study-Hub-Thumbnail-1.png
END:VEVENT
END:VCALENDAR