BEGIN:VCALENDAR
VERSION:2.0
PRODID:-//AIA-LBSB - ECPv6.15.20//NONSGML v1.0//EN
CALSCALE:GREGORIAN
METHOD:PUBLISH
X-ORIGINAL-URL:https://aialb-sb.org
X-WR-CALDESC:Events for AIA-LBSB
REFRESH-INTERVAL;VALUE=DURATION:PT1H
X-Robots-Tag:noindex
X-PUBLISHED-TTL:PT1H
BEGIN:VTIMEZONE
TZID:America/Los_Angeles
BEGIN:DAYLIGHT
TZOFFSETFROM:-0800
TZOFFSETTO:-0700
TZNAME:PDT
DTSTART:20220313T100000
END:DAYLIGHT
BEGIN:STANDARD
TZOFFSETFROM:-0700
TZOFFSETTO:-0800
TZNAME:PST
DTSTART:20221106T090000
END:STANDARD
BEGIN:DAYLIGHT
TZOFFSETFROM:-0800
TZOFFSETTO:-0700
TZNAME:PDT
DTSTART:20230312T100000
END:DAYLIGHT
BEGIN:STANDARD
TZOFFSETFROM:-0700
TZOFFSETTO:-0800
TZNAME:PST
DTSTART:20231105T090000
END:STANDARD
BEGIN:DAYLIGHT
TZOFFSETFROM:-0800
TZOFFSETTO:-0700
TZNAME:PDT
DTSTART:20240310T100000
END:DAYLIGHT
BEGIN:STANDARD
TZOFFSETFROM:-0700
TZOFFSETTO:-0800
TZNAME:PST
DTSTART:20241103T090000
END:STANDARD
END:VTIMEZONE
BEGIN:VEVENT
DTSTART;TZID=America/Los_Angeles:20230615T173000
DTEND;TZID=America/Los_Angeles:20230615T183000
DTSTAMP:20260422T045701
CREATED:20230523T145110Z
LAST-MODIFIED:20230523T145110Z
UID:18569-1686850200-1686853800@aialb-sb.org
SUMMARY:COTE Meeting
DESCRIPTION:A meeting of the Committee on the Environment. Email the committee for more information on the committee and to participate. \n\n\n\nEmail us for more information
URL:https://aialb-sb.org/event/cote-meeting-june-2023/
CATEGORIES:COTE
ATTACH;FMTTYPE=image/png:https://aialb-sb.org/wp-content/uploads/2020/09/AIALBSB_COTE.png
END:VEVENT
BEGIN:VEVENT
DTSTART;TZID=America/Los_Angeles:20230622T120000
DTEND;TZID=America/Los_Angeles:20230622T123000
DTSTAMP:20260422T045701
CREATED:20230516T232831Z
LAST-MODIFIED:20230621T030627Z
UID:18544-1687435200-1687437000@aialb-sb.org
SUMMARY:EDI Committee Meeting
DESCRIPTION:A meeting of the Equity\, Diversity & Inclusion Committee. Email us for more information on the committee and to participate. \n\n\n\nEmail us for more information
URL:https://aialb-sb.org/event/edi-committee-meeting-june-2023/
CATEGORIES:EDI Committee
ATTACH;FMTTYPE=image/png:https://aialb-sb.org/wp-content/uploads/2021/06/AIA-LBSB-EDI-Committee4.png
END:VEVENT
END:VCALENDAR