BEGIN:VCALENDAR
VERSION:2.0
PRODID:-//AIA-LBSB - ECPv6.15.20//NONSGML v1.0//EN
CALSCALE:GREGORIAN
METHOD:PUBLISH
X-ORIGINAL-URL:https://aialb-sb.org
X-WR-CALDESC:Events for AIA-LBSB
REFRESH-INTERVAL;VALUE=DURATION:PT1H
X-Robots-Tag:noindex
X-PUBLISHED-TTL:PT1H
BEGIN:VTIMEZONE
TZID:America/Los_Angeles
BEGIN:DAYLIGHT
TZOFFSETFROM:-0800
TZOFFSETTO:-0700
TZNAME:PDT
DTSTART:20220313T100000
END:DAYLIGHT
BEGIN:STANDARD
TZOFFSETFROM:-0700
TZOFFSETTO:-0800
TZNAME:PST
DTSTART:20221106T090000
END:STANDARD
BEGIN:DAYLIGHT
TZOFFSETFROM:-0800
TZOFFSETTO:-0700
TZNAME:PDT
DTSTART:20230312T100000
END:DAYLIGHT
BEGIN:STANDARD
TZOFFSETFROM:-0700
TZOFFSETTO:-0800
TZNAME:PST
DTSTART:20231105T090000
END:STANDARD
BEGIN:DAYLIGHT
TZOFFSETFROM:-0800
TZOFFSETTO:-0700
TZNAME:PDT
DTSTART:20240310T100000
END:DAYLIGHT
BEGIN:STANDARD
TZOFFSETFROM:-0700
TZOFFSETTO:-0800
TZNAME:PST
DTSTART:20241103T090000
END:STANDARD
END:VTIMEZONE
BEGIN:VEVENT
DTSTART;TZID=America/Los_Angeles:20230725T120000
DTEND;TZID=America/Los_Angeles:20230725T130000
DTSTAMP:20260422T033352
CREATED:20230613T152525Z
LAST-MODIFIED:20230725T011852Z
UID:18622-1690286400-1690290000@aialb-sb.org
SUMMARY:COTE Presents: 2022 Code Breaker - Solar\, Battery & Zero Net Carbon Design
DESCRIPTION:AIA Long Beach / South Bay & Southern California Edison\, a Collaborative Partnership \n\n\n\n\n\n1.0 LU/HSW/ZNCD  \n\n\n\n\nBuy Tickets on Eventbrite\n\nREGISTER\n\n\n\n\n\n\n\nRegistration available only to AIA LBSB members until July 3. Use your AIA ID # as the promo code to reveal the early registration ticket. \n\n\n\nPresented on Zoom \n\n\n\nDescription: \n\n\n\nSolar and battery requirements have evolved over the past decade in the California energy code. We will cover 2022 code requirements for all occupancies of buildings at a high level in a short 1-hour introduction to solar and battery for Single Family\, Multifamily\, and Nonresidential buildings. We will use examples to illustrate how much is required\, exceptions\, and Zero Net Carbon design concepts and give previews of longer Energy Code Ace offerings on renewable energy. \n\n\n\nLearning objectives: \n\n\n\n\nRecognize when solar photovoltaic and battery systems are required in single-family homes.\n\n\n\nRecognize when solar photovoltaic and battery systems are required in Nonresidential buildings and Multifamily buildings.\n\n\n\nExplain how solar and battery systems improve grid harmony of buildings and onsite consumption of solar energy.\n\n\n\nUnderstand how alternative design options for single-family homes and nonresidential buildings can achieve ZNCD using efficiency measures\, solar\, and battery systems.\n\n\n\nIdentify online resources for more guidance on these topics.\n\n\n\n\nSpeaker: \n\n\n\n\n\n\n\nNick Brown\, Allied member of AIA LBSB\, is President of Build Smart\, an independent energy consultancy specializing in California energy modeling\, energy code\, and building performance that supports builders and architects in designing energy-efficient buildings. Nick is a Certified Energy Analyst (CEA) for residential and an Associate Energy Analyst (AEA) for nonresidential construction by the California Association of Building Energy Consultants (CABEC). He is a Subject Matter Expert on the Energy Code Ace statewide education team and teaches classes for Southern California Edison on Net Zero Design\, All-electric Homes\, Heat Pumps\, and Selling Clean Energy Homes. As part of a CalSEED team\, Nick is currently researching phase change material applications in HVAC systems. Nick was elected to the Board of Directors of CABEC beginning in 2018. He holds a BA in Economics from Princeton University and an MBA in Manufacturing from the University of Michigan. He remodeled his own home in 2014 in a deep energy retrofit and has written and presented extensively on Net Zero buildings\, high-performance walls\, and energy efficient building. Prior to starting Build Smart\, he served as President of Merlex Stucco for 15 years\, a $15 million Southern California stucco manufacturer. \n\n\n\n\n\n\n\n\nBuy Tickets on Eventbrite\n\nREGISTER
URL:https://aialb-sb.org/event/cote-sce-072523/
CATEGORIES:CEU,COTE,HSW,ZNCD
ATTACH;FMTTYPE=image/png:https://aialb-sb.org/wp-content/uploads/2023/01/ZNCD-3-1.png
END:VEVENT
END:VCALENDAR