BEGIN:VCALENDAR
VERSION:2.0
PRODID:-//AIA-LBSB - ECPv6.15.20//NONSGML v1.0//EN
CALSCALE:GREGORIAN
METHOD:PUBLISH
X-WR-CALNAME:AIA-LBSB
X-ORIGINAL-URL:https://aialb-sb.org
X-WR-CALDESC:Events for AIA-LBSB
REFRESH-INTERVAL;VALUE=DURATION:PT1H
X-Robots-Tag:noindex
X-PUBLISHED-TTL:PT1H
BEGIN:VTIMEZONE
TZID:America/Los_Angeles
BEGIN:DAYLIGHT
TZOFFSETFROM:-0800
TZOFFSETTO:-0700
TZNAME:PDT
DTSTART:20220313T100000
END:DAYLIGHT
BEGIN:STANDARD
TZOFFSETFROM:-0700
TZOFFSETTO:-0800
TZNAME:PST
DTSTART:20221106T090000
END:STANDARD
BEGIN:DAYLIGHT
TZOFFSETFROM:-0800
TZOFFSETTO:-0700
TZNAME:PDT
DTSTART:20230312T100000
END:DAYLIGHT
BEGIN:STANDARD
TZOFFSETFROM:-0700
TZOFFSETTO:-0800
TZNAME:PST
DTSTART:20231105T090000
END:STANDARD
BEGIN:DAYLIGHT
TZOFFSETFROM:-0800
TZOFFSETTO:-0700
TZNAME:PDT
DTSTART:20240310T100000
END:DAYLIGHT
BEGIN:STANDARD
TZOFFSETFROM:-0700
TZOFFSETTO:-0800
TZNAME:PST
DTSTART:20241103T090000
END:STANDARD
END:VTIMEZONE
BEGIN:VEVENT
DTSTART;TZID=America/Los_Angeles:20231106T180000
DTEND;TZID=America/Los_Angeles:20231106T190000
DTSTAMP:20260421T220115
CREATED:20231025T212424Z
LAST-MODIFIED:20240414T221025Z
UID:19490-1699293600-1699297200@aialb-sb.org
SUMMARY:ARE/CSE California Study Hub - - PjM Utilization Rate & Related Metrics
DESCRIPTION:REGISTER\n\n\n\n\nAIA CA has launched the ARE/CSE California Study Hub! Come join us for a FREE study session\, bi-weekly on Mondays at 6PM. Each session will be hosted by a different professional and exam divisions change every two months. Join our network and find other programs to support you on your path to licensure. We know licensure is a long road\, lets traverse it together. \n\n\n\n\n\n\n\n\n\n\n\nProject Management (PjM) focuses on the management of architectural projects\, including organizing principles\, contract management\, and consultant management. You should be able to demonstrate an understanding of and abilities in quality control\, project team configuration\, and project scheduling. \n\n\n\nSpeaker: Ben Norkin \n\n\n\nAbout Our Speaker: Creator of Hyperfine and Principal at Ben Norkin Architecture\, Ben is a licensed Architect\, teacher\, student\, parent\, and a Navy veteran. From designing contemporary net-zero-ready homes to humble residential additions; from completing a Master’s thesis to A.R.E. exams\, Ben has picked up a lot over the last five years and is excited to be able to share it with others. Ben teaches architecture as well\, and he always stresses to his students that he is just like they are…only a few years into the future. \n\n\n\n\n\n\n\nJoin the ARE/CSE Study Hub Slack group – access the group after registering for a session
URL:https://aialb-sb.org/event/are-cse-california-study-hub-pjm-utilization-rate-related-metrics/
CATEGORIES:A.R.E. Study Group,Meetings
ATTACH;FMTTYPE=image/png:https://aialb-sb.org/wp-content/uploads/2023/08/California-Study-Hub-Thumbnail-1.png
END:VEVENT
BEGIN:VEVENT
DTSTART;TZID=America/Los_Angeles:20231120T180000
DTEND;TZID=America/Los_Angeles:20231120T190000
DTSTAMP:20260421T220115
CREATED:20231114T182202Z
LAST-MODIFIED:20240414T220910Z
UID:19607-1700503200-1700506800@aialb-sb.org
SUMMARY:ARE/CSE California Study Hub - - PjM: Project Fees
DESCRIPTION:REGISTER\n\n\n\n\nAIA CA has launched the ARE/CSE California Study Hub! Come join us for a FREE study session\, bi-weekly on Mondays at 6PM. Each session will be hosted by a different professional and exam divisions change every two months. Join our network and find other programs to support you on your path to licensure. We know licensure is a long road\, lets traverse it together. \n\n\n\n\n\n\n\n\n\n\n\nJoin the ARE/CSE Study Hub Slack group – access the group after registering for a session
URL:https://aialb-sb.org/event/are-cse-california-study-hub-112023/
CATEGORIES:A.R.E. Study Group,Meetings
ATTACH;FMTTYPE=image/png:https://aialb-sb.org/wp-content/uploads/2023/08/California-Study-Hub-Thumbnail-1.png
END:VEVENT
END:VCALENDAR