BEGIN:VCALENDAR
VERSION:2.0
PRODID:-//AIA-LBSB - ECPv6.15.20//NONSGML v1.0//EN
CALSCALE:GREGORIAN
METHOD:PUBLISH
X-WR-CALNAME:AIA-LBSB
X-ORIGINAL-URL:https://aialb-sb.org
X-WR-CALDESC:Events for AIA-LBSB
REFRESH-INTERVAL;VALUE=DURATION:PT1H
X-Robots-Tag:noindex
X-PUBLISHED-TTL:PT1H
BEGIN:VTIMEZONE
TZID:America/Los_Angeles
BEGIN:DAYLIGHT
TZOFFSETFROM:-0800
TZOFFSETTO:-0700
TZNAME:PDT
DTSTART:20230312T100000
END:DAYLIGHT
BEGIN:STANDARD
TZOFFSETFROM:-0700
TZOFFSETTO:-0800
TZNAME:PST
DTSTART:20231105T090000
END:STANDARD
BEGIN:DAYLIGHT
TZOFFSETFROM:-0800
TZOFFSETTO:-0700
TZNAME:PDT
DTSTART:20240310T100000
END:DAYLIGHT
BEGIN:STANDARD
TZOFFSETFROM:-0700
TZOFFSETTO:-0800
TZNAME:PST
DTSTART:20241103T090000
END:STANDARD
BEGIN:DAYLIGHT
TZOFFSETFROM:-0800
TZOFFSETTO:-0700
TZNAME:PDT
DTSTART:20250309T100000
END:DAYLIGHT
BEGIN:STANDARD
TZOFFSETFROM:-0700
TZOFFSETTO:-0800
TZNAME:PST
DTSTART:20251102T090000
END:STANDARD
END:VTIMEZONE
BEGIN:VEVENT
DTSTART;TZID=America/Los_Angeles:20240304T180000
DTEND;TZID=America/Los_Angeles:20240304T190000
DTSTAMP:20260421T171416
CREATED:20240222T164327Z
LAST-MODIFIED:20240414T220051Z
UID:20429-1709575200-1709578800@aialb-sb.org
SUMMARY:ARE/CSE California Study Hub - - Programming & Analysis
DESCRIPTION:REGISTER\n\n\n\n\nProgramming & Analysis (PA) focuses on the evaluation of project requirements\, constraints\, and opportunities. You should be able to demonstrate an understanding of and abilities in project type analysis\, the establishment of qualitative and quantitative project requirements\, evaluation of project site and context\, and assessment of economic issues. \n\n\n\nSpeaker: Ben Norkin \n\n\n\nAbout Our Speaker: Creator of Hyperfine and Principal at Ben Norkin Architecture\, Ben is a licensed Architect\, teacher\, student\, parent\, and a Navy veteran. From designing contemporary net-zero-ready homes to humble residential additions; from completing a Master’s thesis to A.R.E. exams\, Ben has picked up a lot over the last five years and is excited to be able to share it with others. Ben teaches architecture as well\, and he always stresses to his students that he is just like they are…only a few years into the future. \n\n\n\nAIA CA has launched the ARE/CSE California Study Hub! Come join us for a FREE study session. Each session will be hosted by a different professional and exam divisions change every two months. Join our network and find other programs to support you on your path to licensure. We know licensure is a long road\, lets traverse it together. \n\n\n\n\n\n\n\nJoin the ARE/CSE Study Hub Slack group – access the group after registering for a session
URL:https://aialb-sb.org/event/are-cse-california-study-hub-030424/
CATEGORIES:A.R.E. Study Group,Meetings
ATTACH;FMTTYPE=image/png:https://aialb-sb.org/wp-content/uploads/2023/08/California-Study-Hub-Thumbnail-1.png
END:VEVENT
BEGIN:VEVENT
DTSTART;TZID=America/Los_Angeles:20240308T120000
DTEND;TZID=America/Los_Angeles:20240308T130000
DTSTAMP:20260421T171416
CREATED:20240305T203623Z
LAST-MODIFIED:20240414T220018Z
UID:19846-1709899200-1709902800@aialb-sb.org
SUMMARY:EDI Committee Meeting
DESCRIPTION:A meeting of the Equity\, Diversity & Inclusion Committee. Email us for more information on the committee and to participate. \n\n\n\nEmail us for more information   \n\n\n\nLearn more about the EDI Committee
URL:https://aialb-sb.org/event/edi-committee-030824/
CATEGORIES:EDI Committee,Meetings
ATTACH;FMTTYPE=image/png:https://aialb-sb.org/wp-content/uploads/2021/06/AIA-LBSB-EDI-Committee4.png
END:VEVENT
BEGIN:VEVENT
DTSTART;TZID=America/Los_Angeles:20240318T180000
DTEND;TZID=America/Los_Angeles:20240318T190000
DTSTAMP:20260421T171416
CREATED:20240306T180211Z
LAST-MODIFIED:20240414T215958Z
UID:20525-1710784800-1710788400@aialb-sb.org
SUMMARY:ARE/CSE California Study Hub - - Programming & Analysis
DESCRIPTION:REGISTER\n\n\n\n\nProgramming & Analysis (PA) focuses on the evaluation of project requirements\, constraints\, and opportunities. You should be able to demonstrate an understanding of and abilities in project type analysis\, the establishment of qualitative and quantitative project requirements\, evaluation of project site and context\, and assessment of economic issues. \n\n\n\nSpeaker: Ben Norkin \n\n\n\nAbout Our Speaker: Creator of Hyperfine and Principal at Ben Norkin Architecture\, Ben is a licensed Architect\, teacher\, student\, parent\, and a Navy veteran. From designing contemporary net-zero-ready homes to humble residential additions; from completing a Master’s thesis to A.R.E. exams\, Ben has picked up a lot over the last five years and is excited to be able to share it with others. Ben teaches architecture as well\, and he always stresses to his students that he is just like they are…only a few years into the future. \n\n\n\n\n\n\n\nAIA CA launched the ARE/CSE California Study Hub in September 2023. Come join us for a FREE study session. Each session will be hosted by a different professional and exam divisions change every two months. Join our network and find other programs to support you on your path to licensure. We know licensure is a long road\, lets traverse it together. \n\n\n\n\n\n\n\nJoin the ARE/CSE Study Hub Slack group – access the group after registering for a session
URL:https://aialb-sb.org/event/are-cse-california-study-hub-031824/
CATEGORIES:A.R.E. Study Group,Meetings
ATTACH;FMTTYPE=image/png:https://aialb-sb.org/wp-content/uploads/2023/08/California-Study-Hub-Thumbnail-1.png
END:VEVENT
END:VCALENDAR