BEGIN:VCALENDAR
VERSION:2.0
PRODID:-//AIA-LBSB - ECPv6.15.20//NONSGML v1.0//EN
CALSCALE:GREGORIAN
METHOD:PUBLISH
X-WR-CALNAME:AIA-LBSB
X-ORIGINAL-URL:https://aialb-sb.org
X-WR-CALDESC:Events for AIA-LBSB
REFRESH-INTERVAL;VALUE=DURATION:PT1H
X-Robots-Tag:noindex
X-PUBLISHED-TTL:PT1H
BEGIN:VTIMEZONE
TZID:America/Los_Angeles
BEGIN:DAYLIGHT
TZOFFSETFROM:-0800
TZOFFSETTO:-0700
TZNAME:PDT
DTSTART:20230312T100000
END:DAYLIGHT
BEGIN:STANDARD
TZOFFSETFROM:-0700
TZOFFSETTO:-0800
TZNAME:PST
DTSTART:20231105T090000
END:STANDARD
BEGIN:DAYLIGHT
TZOFFSETFROM:-0800
TZOFFSETTO:-0700
TZNAME:PDT
DTSTART:20240310T100000
END:DAYLIGHT
BEGIN:STANDARD
TZOFFSETFROM:-0700
TZOFFSETTO:-0800
TZNAME:PST
DTSTART:20241103T090000
END:STANDARD
BEGIN:DAYLIGHT
TZOFFSETFROM:-0800
TZOFFSETTO:-0700
TZNAME:PDT
DTSTART:20250309T100000
END:DAYLIGHT
BEGIN:STANDARD
TZOFFSETFROM:-0700
TZOFFSETTO:-0800
TZNAME:PST
DTSTART:20251102T090000
END:STANDARD
END:VTIMEZONE
BEGIN:VEVENT
DTSTART;TZID=America/Los_Angeles:20240401T180000
DTEND;TZID=America/Los_Angeles:20240401T190000
DTSTAMP:20260421T155852
CREATED:20240321T030453Z
LAST-MODIFIED:20240414T215845Z
UID:20527-1711994400-1711998000@aialb-sb.org
SUMMARY:ARE/CSE California Study Hub - - Programming & Analysis
DESCRIPTION:REGISTER\n\n\n\n\nProgramming & Analysis (PA) focuses on the evaluation of project requirements\, constraints\, and opportunities. You should be able to demonstrate an understanding of and abilities in project type analysis\, the establishment of qualitative and quantitative project requirements\, evaluation of project site and context\, and assessment of economic issues. \n\n\n\nSpeaker: Tyler Laskowski / AIA Redwood Empire \n\n\n\n\n\n\n\nAIA CA launched the ARE/CSE California Study Hub in September 2023. Come join us for a FREE study session. Each session will be hosted by a different professional and exam divisions change every two months. Join our network and find other programs to support you on your path to licensure. We know licensure is a long road\, lets traverse it together.
URL:https://aialb-sb.org/event/are-cse-california-study-hub-programming-analysis/
CATEGORIES:A.R.E. Study Group,Meetings
ATTACH;FMTTYPE=image/png:https://aialb-sb.org/wp-content/uploads/2023/08/California-Study-Hub-Thumbnail-1.png
END:VEVENT
BEGIN:VEVENT
DTSTART;TZID=America/Los_Angeles:20240410T173000
DTEND;TZID=America/Los_Angeles:20240410T183000
DTSTAMP:20260421T155852
CREATED:20240402T151010Z
LAST-MODIFIED:20240414T215718Z
UID:20751-1712770200-1712773800@aialb-sb.org
SUMMARY:COTE Meeting
DESCRIPTION:A meeting of the Committee on the Environment. Email the committee for more information on the committee and to participate. \n\n\n\nEmail us for more information \n\n\n\nLearn more about the Committee On The Environment
URL:https://aialb-sb.org/event/cote-meeting-4/
CATEGORIES:COTE,Meetings
ATTACH;FMTTYPE=image/png:https://aialb-sb.org/wp-content/uploads/2020/09/AIALBSB_COTE.png
END:VEVENT
BEGIN:VEVENT
DTSTART;TZID=America/Los_Angeles:20240412T120000
DTEND;TZID=America/Los_Angeles:20240412T130000
DTSTAMP:20260421T155852
CREATED:20240402T151116Z
LAST-MODIFIED:20240414T215658Z
UID:20753-1712923200-1712926800@aialb-sb.org
SUMMARY:EDI Committee Meeting
DESCRIPTION:A meeting of the Equity\, Diversity & Inclusion Committee. Email us for more information on the committee and to participate. \n\n\n\nEmail us for more information   \n\n\n\nLearn more about the EDI Committee
URL:https://aialb-sb.org/event/edi-committee-meeting-5/
CATEGORIES:EDI Committee,Meetings
ATTACH;FMTTYPE=image/png:https://aialb-sb.org/wp-content/uploads/2021/06/AIA-LBSB-EDI-Committee4.png
END:VEVENT
BEGIN:VEVENT
DTSTART;TZID=America/Los_Angeles:20240415T180000
DTEND;TZID=America/Los_Angeles:20240415T190000
DTSTAMP:20260421T155852
CREATED:20240404T174306Z
LAST-MODIFIED:20240404T174338Z
UID:20806-1713204000-1713207600@aialb-sb.org
SUMMARY:ARE/CSE California Study Hub - - Programming & Analysis
DESCRIPTION:REGISTER\n\n\n\n\nProgramming & Analysis (PA) focuses on the evaluation of project requirements\, constraints\, and opportunities. You should be able to demonstrate an understanding of and abilities in project type analysis\, the establishment of qualitative and quantitative project requirements\, evaluation of project site and context\, and assessment of economic issues. \n\n\n\nSpeaker: Ron Culver\, AIA – Co-Founder of Form Found Design \n\n\n\n\n\n\n\nAIA CA launched the ARE/CSE California Study Hub in September 2023. Come join us for a FREE study session. Each session will be hosted by a different professional and exam divisions change every two months. Join our network and find other programs to support you on your path to licensure. We know licensure is a long road\, lets traverse it together.
URL:https://aialb-sb.org/event/are-cse-california-study-hub-041524/
CATEGORIES:A.R.E.,A.R.E. Study Group
ATTACH;FMTTYPE=image/png:https://aialb-sb.org/wp-content/uploads/2023/08/California-Study-Hub-Thumbnail-1.png
END:VEVENT
END:VCALENDAR