BEGIN:VCALENDAR
VERSION:2.0
PRODID:-//AIA-LBSB - ECPv6.15.20//NONSGML v1.0//EN
CALSCALE:GREGORIAN
METHOD:PUBLISH
X-WR-CALNAME:AIA-LBSB
X-ORIGINAL-URL:https://aialb-sb.org
X-WR-CALDESC:Events for AIA-LBSB
REFRESH-INTERVAL;VALUE=DURATION:PT1H
X-Robots-Tag:noindex
X-PUBLISHED-TTL:PT1H
BEGIN:VTIMEZONE
TZID:America/Los_Angeles
BEGIN:DAYLIGHT
TZOFFSETFROM:-0800
TZOFFSETTO:-0700
TZNAME:PDT
DTSTART:20230312T100000
END:DAYLIGHT
BEGIN:STANDARD
TZOFFSETFROM:-0700
TZOFFSETTO:-0800
TZNAME:PST
DTSTART:20231105T090000
END:STANDARD
BEGIN:DAYLIGHT
TZOFFSETFROM:-0800
TZOFFSETTO:-0700
TZNAME:PDT
DTSTART:20240310T100000
END:DAYLIGHT
BEGIN:STANDARD
TZOFFSETFROM:-0700
TZOFFSETTO:-0800
TZNAME:PST
DTSTART:20241103T090000
END:STANDARD
BEGIN:DAYLIGHT
TZOFFSETFROM:-0800
TZOFFSETTO:-0700
TZNAME:PDT
DTSTART:20250309T100000
END:DAYLIGHT
BEGIN:STANDARD
TZOFFSETFROM:-0700
TZOFFSETTO:-0800
TZNAME:PST
DTSTART:20251102T090000
END:STANDARD
END:VTIMEZONE
BEGIN:VEVENT
DTSTART;TZID=America/Los_Angeles:20240506T180000
DTEND;TZID=America/Los_Angeles:20240506T190000
DTSTAMP:20260421T143653
CREATED:20240414T222918Z
LAST-MODIFIED:20240418T161204Z
UID:21037-1715018400-1715022000@aialb-sb.org
SUMMARY:ARE/CSE California Study Hub - - Project Planning & Design (PPD)
DESCRIPTION:REGISTER\n\n\n\n\nProject Planning & Design (PPD) focuses on the preliminary design of sites and buildings. You should be able to demonstrate an understanding of and abilities in design concepts\, sustainability/environmental design\, universal design\, and other forms of governing codes and regulations. \n\n\n\nSpeaker: Elif Bayram \n\n\n\n\n\n\n\nAIA CA launched the ARE/CSE California Study Hub in September 2023. Come join us for a FREE study session. Each session will be hosted by a different professional and exam divisions change every two months. Join our network and find other programs to support you on your path to licensure. We know licensure is a long road\, lets traverse it together. \n\n\n\nMore A.R.E. Study Sessions
URL:https://aialb-sb.org/event/are-cse-california-study-hub-050624/
CATEGORIES:A.R.E. Study Group,Meetings
ATTACH;FMTTYPE=image/png:https://aialb-sb.org/wp-content/uploads/2023/08/California-Study-Hub-Thumbnail-1.png
END:VEVENT
BEGIN:VEVENT
DTSTART;TZID=America/Los_Angeles:20240509T173000
DTEND;TZID=America/Los_Angeles:20240509T183000
DTSTAMP:20260421T143653
CREATED:20240414T224057Z
LAST-MODIFIED:20240507T173052Z
UID:21051-1715275800-1715279400@aialb-sb.org
SUMMARY:COTE Meeting
DESCRIPTION:A meeting of the Committee on the Environment. Email the committee for more information on the committee and to participate. \n\n\n\nEmail us for more information \n\n\n\nLearn more about the Committee On The Environment
URL:https://aialb-sb.org/event/cote-meeting-may2024/
CATEGORIES:COTE,Meetings
ATTACH;FMTTYPE=image/png:https://aialb-sb.org/wp-content/uploads/2020/09/AIALBSB_COTE.png
END:VEVENT
BEGIN:VEVENT
DTSTART;TZID=America/Los_Angeles:20240510T120000
DTEND;TZID=America/Los_Angeles:20240510T130000
DTSTAMP:20260421T143653
CREATED:20240414T224409Z
LAST-MODIFIED:20240414T224409Z
UID:21054-1715342400-1715346000@aialb-sb.org
SUMMARY:EDI Committee Meeting
DESCRIPTION:A meeting of the Equity\, Diversity & Inclusion Committee. Email us for more information on the committee and to participate. \n\n\n\nEmail us for more information   \n\n\n\nLearn more about the EDI Committee
URL:https://aialb-sb.org/event/edi-committee-meeting-may2024/
CATEGORIES:EDI Committee,Meetings
ATTACH;FMTTYPE=image/png:https://aialb-sb.org/wp-content/uploads/2021/06/AIA-LBSB-EDI-Committee4.png
END:VEVENT
BEGIN:VEVENT
DTSTART;TZID=America/Los_Angeles:20240520T180000
DTEND;TZID=America/Los_Angeles:20240520T190000
DTSTAMP:20260421T143653
CREATED:20240414T223245Z
LAST-MODIFIED:20240414T223708Z
UID:21041-1716228000-1716231600@aialb-sb.org
SUMMARY:ARE/CSE California Study Hub - - Project Planning & Design (PPD)
DESCRIPTION:REGISTER\n\n\n\n\nProject Planning & Design (PPD) focuses on the preliminary design of sites and buildings. You should be able to demonstrate an understanding of and abilities in design concepts\, sustainability/environmental design\, universal design\, and other forms of governing codes and regulations. \n\n\n\nSpeaker: Ben Norkin (Hyperfine) \n\n\n\n\n\n\n\nAIA CA launched the ARE/CSE California Study Hub in September 2023. Come join us for a FREE study session. Each session will be hosted by a different professional and exam divisions change every two months. Join our network and find other programs to support you on your path to licensure. We know licensure is a long road\, lets traverse it together. \n\n\n\nMore A.R.E. Study Sessions
URL:https://aialb-sb.org/event/are-cse-california-study-hub-052024/
CATEGORIES:A.R.E. Study Group,Meetings
ATTACH;FMTTYPE=image/png:https://aialb-sb.org/wp-content/uploads/2023/08/California-Study-Hub-Thumbnail-1.png
END:VEVENT
BEGIN:VEVENT
DTSTART;TZID=America/Los_Angeles:20240521T183000
DTEND;TZID=America/Los_Angeles:20240521T200000
DTSTAMP:20260421T143653
CREATED:20240407T212228Z
LAST-MODIFIED:20240414T223930Z
UID:20855-1716316200-1716321600@aialb-sb.org
SUMMARY:Board of Directors Meeting
DESCRIPTION:Contact our Executive Director\, Kristine Hammond\, for location information
URL:https://aialb-sb.org/event/board-of-directors-meeting-052124/
CATEGORIES:Board of Directors,Meetings
ATTACH;FMTTYPE=image/png:https://aialb-sb.org/wp-content/uploads/2024/03/aia-logo.png
END:VEVENT
END:VCALENDAR