BEGIN:VCALENDAR
VERSION:2.0
PRODID:-//AIA-LBSB - ECPv6.15.20//NONSGML v1.0//EN
CALSCALE:GREGORIAN
METHOD:PUBLISH
X-WR-CALNAME:AIA-LBSB
X-ORIGINAL-URL:https://aialb-sb.org
X-WR-CALDESC:Events for AIA-LBSB
REFRESH-INTERVAL;VALUE=DURATION:PT1H
X-Robots-Tag:noindex
X-PUBLISHED-TTL:PT1H
BEGIN:VTIMEZONE
TZID:America/Los_Angeles
BEGIN:DAYLIGHT
TZOFFSETFROM:-0800
TZOFFSETTO:-0700
TZNAME:PDT
DTSTART:20230312T100000
END:DAYLIGHT
BEGIN:STANDARD
TZOFFSETFROM:-0700
TZOFFSETTO:-0800
TZNAME:PST
DTSTART:20231105T090000
END:STANDARD
BEGIN:DAYLIGHT
TZOFFSETFROM:-0800
TZOFFSETTO:-0700
TZNAME:PDT
DTSTART:20240310T100000
END:DAYLIGHT
BEGIN:STANDARD
TZOFFSETFROM:-0700
TZOFFSETTO:-0800
TZNAME:PST
DTSTART:20241103T090000
END:STANDARD
BEGIN:DAYLIGHT
TZOFFSETFROM:-0800
TZOFFSETTO:-0700
TZNAME:PDT
DTSTART:20250309T100000
END:DAYLIGHT
BEGIN:STANDARD
TZOFFSETFROM:-0700
TZOFFSETTO:-0800
TZNAME:PST
DTSTART:20251102T090000
END:STANDARD
END:VTIMEZONE
BEGIN:VEVENT
DTSTART;TZID=America/Los_Angeles:20240805T180000
DTEND;TZID=America/Los_Angeles:20240805T190000
DTSTAMP:20260421T104148
CREATED:20240711T150354Z
LAST-MODIFIED:20240711T150354Z
UID:22398-1722880800-1722884400@aialb-sb.org
SUMMARY:ARE/CSE California Study Hub - - Project Planning & Design (PPD)
DESCRIPTION:REGISTER\n\n\n\n\nProject Planning & Design (PPD) focuses on the preliminary design of sites and buildings. You should be able to demonstrate an understanding of and abilities in design concepts\, sustainability/environmental design\, universal design\, and other forms of governing codes and regulations. \n\n\n\nSpeaker: TBA \n\n\n\n\n\n\n\nAIA CA launched the ARE/CSE California Study Hub in September 2023. Come join us for a FREE study session. Each session will be hosted by a different professional and exam divisions change every two months. Join our network and find other programs to support you on your path to licensure. We know licensure is a long road\, lets traverse it together. \n\n\n\nMore A.R.E. Study Sessions
URL:https://aialb-sb.org/event/are-cse-study-hub-080524/
CATEGORIES:A.R.E. Study Group,Meetings
ATTACH;FMTTYPE=image/png:https://aialb-sb.org/wp-content/uploads/2023/08/California-Study-Hub-Thumbnail-1.png
END:VEVENT
BEGIN:VEVENT
DTSTART;TZID=America/Los_Angeles:20240809T120000
DTEND;TZID=America/Los_Angeles:20240809T130000
DTSTAMP:20260421T104148
CREATED:20240711T160118Z
LAST-MODIFIED:20240711T160250Z
UID:22414-1723204800-1723208400@aialb-sb.org
SUMMARY:EDI Committee Meeting
DESCRIPTION:A meeting of the Equity\, Diversity & Inclusion Committee. Email us for more information on the committee and to participate. \n\n\n\nEmail us for more information   \n\n\n\nLearn more about the EDI Committee
URL:https://aialb-sb.org/event/edi-committee-meeting-080924/
CATEGORIES:EDI Committee,Meetings
ATTACH;FMTTYPE=image/png:https://aialb-sb.org/wp-content/uploads/2021/06/AIA-LBSB-EDI-Committee4.png
END:VEVENT
BEGIN:VEVENT
DTSTART;TZID=America/Los_Angeles:20240814T173000
DTEND;TZID=America/Los_Angeles:20240814T183000
DTSTAMP:20260421T104148
CREATED:20240722T173447Z
LAST-MODIFIED:20240722T173448Z
UID:22434-1723656600-1723660200@aialb-sb.org
SUMMARY:COTE Meeting
DESCRIPTION:A meeting of the Committee on the Environment. Email the committee for more information on the committee and to participate. \n\n\n\nEmail us for more information \n\n\n\nLearn more about the Committee On The Environment
URL:https://aialb-sb.org/event/cote-meeting-aug-2024/
CATEGORIES:COTE,Meetings
ATTACH;FMTTYPE=image/png:https://aialb-sb.org/wp-content/uploads/2020/09/AIALBSB_COTE.png
END:VEVENT
BEGIN:VEVENT
DTSTART;TZID=America/Los_Angeles:20240820T000000
DTEND;TZID=America/Los_Angeles:20240820T235959
DTSTAMP:20260421T104148
CREATED:20240812T174248Z
LAST-MODIFIED:20240812T174249Z
UID:22612-1724112000-1724198399@aialb-sb.org
SUMMARY:Build & Become: The One-Year Architect Licensure Program
DESCRIPTION:APPLICATIONS DUE \n\n\n\n\n\n\n\n\n\nDownload flyer
URL:https://aialb-sb.org/event/build-become-the-one-year-architect-licensure-program/
CATEGORIES:A.R.E.,A.R.E. Study Group
ATTACH;FMTTYPE=image/png:https://aialb-sb.org/wp-content/uploads/2024/08/LBCC-Logo-Copy.png
END:VEVENT
BEGIN:VEVENT
DTSTART;TZID=America/Los_Angeles:20240823T120000
DTEND;TZID=America/Los_Angeles:20240823T130000
DTSTAMP:20260421T104148
CREATED:20240812T162924Z
LAST-MODIFIED:20240812T162925Z
UID:22418-1724414400-1724418000@aialb-sb.org
SUMMARY:EDI Committee Meeting
DESCRIPTION:A meeting of the Equity\, Diversity & Inclusion Committee. Email us for more information on the committee and to participate. \n\n\n\nEmail us for more information   \n\n\n\nLearn more about the EDI Committee
URL:https://aialb-sb.org/event/edi-committee-meeting-091324/
CATEGORIES:EDI Committee,Meetings
ATTACH;FMTTYPE=image/png:https://aialb-sb.org/wp-content/uploads/2021/06/AIA-LBSB-EDI-Committee4.png
END:VEVENT
END:VCALENDAR