BEGIN:VCALENDAR
VERSION:2.0
PRODID:-//AIA-LBSB - ECPv6.15.20//NONSGML v1.0//EN
CALSCALE:GREGORIAN
METHOD:PUBLISH
X-WR-CALNAME:AIA-LBSB
X-ORIGINAL-URL:https://aialb-sb.org
X-WR-CALDESC:Events for AIA-LBSB
REFRESH-INTERVAL;VALUE=DURATION:PT1H
X-Robots-Tag:noindex
X-PUBLISHED-TTL:PT1H
BEGIN:VTIMEZONE
TZID:America/Los_Angeles
BEGIN:DAYLIGHT
TZOFFSETFROM:-0800
TZOFFSETTO:-0700
TZNAME:PDT
DTSTART:20230312T100000
END:DAYLIGHT
BEGIN:STANDARD
TZOFFSETFROM:-0700
TZOFFSETTO:-0800
TZNAME:PST
DTSTART:20231105T090000
END:STANDARD
BEGIN:DAYLIGHT
TZOFFSETFROM:-0800
TZOFFSETTO:-0700
TZNAME:PDT
DTSTART:20240310T100000
END:DAYLIGHT
BEGIN:STANDARD
TZOFFSETFROM:-0700
TZOFFSETTO:-0800
TZNAME:PST
DTSTART:20241103T090000
END:STANDARD
BEGIN:DAYLIGHT
TZOFFSETFROM:-0800
TZOFFSETTO:-0700
TZNAME:PDT
DTSTART:20250309T100000
END:DAYLIGHT
BEGIN:STANDARD
TZOFFSETFROM:-0700
TZOFFSETTO:-0800
TZNAME:PST
DTSTART:20251102T090000
END:STANDARD
END:VTIMEZONE
BEGIN:VEVENT
DTSTART;TZID=America/Los_Angeles:20241001T183000
DTEND;TZID=America/Los_Angeles:20241001T200000
DTSTAMP:20260421T080756
CREATED:20240414T223858Z
LAST-MODIFIED:20240925T204216Z
UID:21049-1727807400-1727812800@aialb-sb.org
SUMMARY:Board of Directors Meeting
DESCRIPTION:Contact our Executive Director\, Kristine Hammond\, for location information
URL:https://aialb-sb.org/event/board-of-directors-meeting-071624/
CATEGORIES:Board of Directors,Meetings
ATTACH;FMTTYPE=image/png:https://aialb-sb.org/wp-content/uploads/2024/03/aia-logo.png
END:VEVENT
BEGIN:VEVENT
DTSTART;TZID=America/Los_Angeles:20241007T180000
DTEND;TZID=America/Los_Angeles:20241007T190000
DTSTAMP:20260421T080756
CREATED:20240925T231729Z
LAST-MODIFIED:20240925T231731Z
UID:23059-1728324000-1728327600@aialb-sb.org
SUMMARY:ARE/CSE California Study Hub - - California Supplemental Examination (CSE)
DESCRIPTION:REGISTER\n\n\n\n\n \n\n\n\nSpeaker: TBA \n\n\n\n\n\n\n\nAIA CA launched the ARE/CSE California Study Hub in September 2023. Come join us for a FREE study session. Each session will be hosted by a different professional and exam divisions change every two months. Join our network and find other programs to support you on your path to licensure. We know licensure is a long road\, lets traverse it together. \n\n\n\nMore A.R.E. Study Sessions
URL:https://aialb-sb.org/event/are-cse-california-study-hub-100721/
CATEGORIES:A.R.E. Study Group,Meetings
ATTACH;FMTTYPE=image/png:https://aialb-sb.org/wp-content/uploads/2023/08/California-Study-Hub-Thumbnail-1.png
END:VEVENT
BEGIN:VEVENT
DTSTART;TZID=America/Los_Angeles:20241009T173000
DTEND;TZID=America/Los_Angeles:20241009T183000
DTSTAMP:20260421T080756
CREATED:20240913T224703Z
LAST-MODIFIED:20240913T224704Z
UID:22902-1728495000-1728498600@aialb-sb.org
SUMMARY:COTE Meeting
DESCRIPTION:A meeting of the Committee on the Environment. Email the committee for more information on the committee and to participate. \n\n\n\nEmail us for more information \n\n\n\nLearn more about the Committee On The Environment
URL:https://aialb-sb.org/event/cote-meeting-oct-2024/
CATEGORIES:COTE,Meetings
ATTACH;FMTTYPE=image/png:https://aialb-sb.org/wp-content/uploads/2020/09/AIALBSB_COTE.png
END:VEVENT
BEGIN:VEVENT
DTSTART;TZID=America/Los_Angeles:20241021T180000
DTEND;TZID=America/Los_Angeles:20241021T190000
DTSTAMP:20260421T080756
CREATED:20240925T231827Z
LAST-MODIFIED:20240925T231828Z
UID:23061-1729533600-1729537200@aialb-sb.org
SUMMARY:ARE/CSE California Study Hub - - California Supplemental Examination (CSE)
DESCRIPTION:REGISTER\n\n\n\n\n \n\n\n\nSpeaker: TBA \n\n\n\n\n\n\n\nAIA CA launched the ARE/CSE California Study Hub in September 2023. Come join us for a FREE study session. Each session will be hosted by a different professional and exam divisions change every two months. Join our network and find other programs to support you on your path to licensure. We know licensure is a long road\, lets traverse it together. \n\n\n\nMore A.R.E. Study Sessions
URL:https://aialb-sb.org/event/are-cse-california-study-hub-102124/
CATEGORIES:A.R.E. Study Group,Meetings
ATTACH;FMTTYPE=image/png:https://aialb-sb.org/wp-content/uploads/2023/08/California-Study-Hub-Thumbnail-1.png
END:VEVENT
BEGIN:VEVENT
DTSTART;TZID=America/Los_Angeles:20241025T120000
DTEND;TZID=America/Los_Angeles:20241025T130000
DTSTAMP:20260421T080756
CREATED:20240913T224733Z
LAST-MODIFIED:20241009T220414Z
UID:22417-1729857600-1729861200@aialb-sb.org
SUMMARY:EDI Committee Meeting
DESCRIPTION:A meeting of the Equity\, Diversity & Inclusion Committee. Email us for more information on the committee and to participate. \n\n\n\nEmail us for more information   \n\n\n\nLearn more about the EDI Committee
URL:https://aialb-sb.org/event/edi-committee-meeting-101124/
CATEGORIES:EDI Committee,Meetings
ATTACH;FMTTYPE=image/png:https://aialb-sb.org/wp-content/uploads/2021/06/AIA-LBSB-EDI-Committee4.png
END:VEVENT
END:VCALENDAR