BEGIN:VCALENDAR
VERSION:2.0
PRODID:-//AIA-LBSB - ECPv6.15.20//NONSGML v1.0//EN
CALSCALE:GREGORIAN
METHOD:PUBLISH
X-ORIGINAL-URL:https://aialb-sb.org
X-WR-CALDESC:Events for AIA-LBSB
REFRESH-INTERVAL;VALUE=DURATION:PT1H
X-Robots-Tag:noindex
X-PUBLISHED-TTL:PT1H
BEGIN:VTIMEZONE
TZID:America/Los_Angeles
BEGIN:DAYLIGHT
TZOFFSETFROM:-0800
TZOFFSETTO:-0700
TZNAME:PDT
DTSTART:20230312T100000
END:DAYLIGHT
BEGIN:STANDARD
TZOFFSETFROM:-0700
TZOFFSETTO:-0800
TZNAME:PST
DTSTART:20231105T090000
END:STANDARD
BEGIN:DAYLIGHT
TZOFFSETFROM:-0800
TZOFFSETTO:-0700
TZNAME:PDT
DTSTART:20240310T100000
END:DAYLIGHT
BEGIN:STANDARD
TZOFFSETFROM:-0700
TZOFFSETTO:-0800
TZNAME:PST
DTSTART:20241103T090000
END:STANDARD
BEGIN:DAYLIGHT
TZOFFSETFROM:-0800
TZOFFSETTO:-0700
TZNAME:PDT
DTSTART:20250309T100000
END:DAYLIGHT
BEGIN:STANDARD
TZOFFSETFROM:-0700
TZOFFSETTO:-0800
TZNAME:PST
DTSTART:20251102T090000
END:STANDARD
END:VTIMEZONE
BEGIN:VEVENT
DTSTART;TZID=America/Los_Angeles:20241205T180000
DTEND;TZID=America/Los_Angeles:20241205T220000
DTSTAMP:20260421T054858
CREATED:20241015T215520Z
LAST-MODIFIED:20241203T184239Z
UID:23187-1733421600-1733436000@aialb-sb.org
SUMMARY:2024 Holiday Party & Annual Meeting
DESCRIPTION:AIA Members\, Allied Members\, General Sponsors $40 (max 2 per purchase) \n\n\n\nGeneral Admission $60 \n\n\n\nGold Level Sponsors: Your unique ID reveals your free ticket \n\n\n\n\nBuy Tickets on Eventbrite\n\nBuy Tickets\n\n\n\n\n\n\n\nCelebrate the season at our 2024 Holiday Party & Annual Meeting! Join us in The Red Room at The Petroleum Club! An iconic space rich with history and character. It’s a Mid-Century Modern Classic! \n\n\n\nWe will hear the Annual Report of the Chapter President\, meet the 2025 Board of Directors\, and mix and mingle with chapter members and friends. It’s always a good time and a great way to celebrate a successful year for the AIA Long Beach / South Bay! \n\n\n\nTickets include heavy appetizers\, dessert\, and two premium bar drink tickets \n\n\n\nPrices increase $10 after Nov. 25 \n\n\n\nFood and beverages sponsored by\, \n\n\n\n\n\n\n\n\n\n\n\n\n\n\n\n\n\n\n\n\n\n\n\nThank you to these Gold Level Sponsors for their annual support\,
URL:https://aialb-sb.org/event/2024-holiday-party-annual-meeting/
LOCATION:The Petroleum Club\, 3636 Linden Ave\, Long Beach\, California\, 90807
CATEGORIES:Annual Meeting,Holiday Party,Programs
ATTACH;FMTTYPE=image/png:https://aialb-sb.org/wp-content/uploads/2024/10/Holiday-party-Instagram-Post.png
END:VEVENT
BEGIN:VEVENT
DTSTART;TZID=America/Los_Angeles:20241211T173000
DTEND;TZID=America/Los_Angeles:20241211T183000
DTSTAMP:20260421T054858
CREATED:20241127T202328Z
LAST-MODIFIED:20241127T202329Z
UID:23466-1733938200-1733941800@aialb-sb.org
SUMMARY:COTE Meeting
DESCRIPTION:A meeting of the Committee on the Environment. Email the committee for more information on the committee and to participate. \n\n\n\nEmail us for more information \n\n\n\nLearn more about the Committee On The Environment
URL:https://aialb-sb.org/event/cote-meeting-dec-2024/
CATEGORIES:COTE,Meetings
ATTACH;FMTTYPE=image/png:https://aialb-sb.org/wp-content/uploads/2020/09/AIALBSB_COTE.png
END:VEVENT
END:VCALENDAR