BEGIN:VCALENDAR
VERSION:2.0
PRODID:-//AIA-LBSB - ECPv6.15.20//NONSGML v1.0//EN
CALSCALE:GREGORIAN
METHOD:PUBLISH
X-WR-CALNAME:AIA-LBSB
X-ORIGINAL-URL:https://aialb-sb.org
X-WR-CALDESC:Events for AIA-LBSB
REFRESH-INTERVAL;VALUE=DURATION:PT1H
X-Robots-Tag:noindex
X-PUBLISHED-TTL:PT1H
BEGIN:VTIMEZONE
TZID:America/Los_Angeles
BEGIN:DAYLIGHT
TZOFFSETFROM:-0800
TZOFFSETTO:-0700
TZNAME:PDT
DTSTART:20230312T100000
END:DAYLIGHT
BEGIN:STANDARD
TZOFFSETFROM:-0700
TZOFFSETTO:-0800
TZNAME:PST
DTSTART:20231105T090000
END:STANDARD
BEGIN:DAYLIGHT
TZOFFSETFROM:-0800
TZOFFSETTO:-0700
TZNAME:PDT
DTSTART:20240310T100000
END:DAYLIGHT
BEGIN:STANDARD
TZOFFSETFROM:-0700
TZOFFSETTO:-0800
TZNAME:PST
DTSTART:20241103T090000
END:STANDARD
BEGIN:DAYLIGHT
TZOFFSETFROM:-0800
TZOFFSETTO:-0700
TZNAME:PDT
DTSTART:20250309T100000
END:DAYLIGHT
BEGIN:STANDARD
TZOFFSETFROM:-0700
TZOFFSETTO:-0800
TZNAME:PST
DTSTART:20251102T090000
END:STANDARD
END:VTIMEZONE
BEGIN:VEVENT
DTSTART;TZID=America/Los_Angeles:20240104T180000
DTEND;TZID=America/Los_Angeles:20240104T193000
DTSTAMP:20260422T194336
CREATED:20231120T234557Z
LAST-MODIFIED:20240414T220412Z
UID:19629-1704391200-1704396600@aialb-sb.org
SUMMARY:BARchitecture
DESCRIPTION:BARchitecture: Joe Jost’s\n\n\n\n\n\n\n\nBARchitecture – 2024 Kickoff Event at our Favorite Watering Hole! \n\n\n\nJoin us for our monthly social. Come see old friends and make some new ones. Drinks are on you\, but the appetizers are on us! No reservations required. \n\n\n\n(Note: Joe Jost’s is a cash-only establishment.)
URL:https://aialb-sb.org/event/barchitecture-jan-2024/
LOCATION:Joe Jost’s\, 2803 East Anaheim Street\, Long Beach\, CA\, 90804\, United States
CATEGORIES:BARchitecture,Programs,Social Program
ATTACH;FMTTYPE=image/png:https://aialb-sb.org/wp-content/uploads/2020/12/BARchitecture1.png
END:VEVENT
BEGIN:VEVENT
DTSTART;TZID=America/Los_Angeles:20240124T180000
DTEND;TZID=America/Los_Angeles:20240124T200000
DTSTAMP:20260422T194336
CREATED:20231121T200224Z
LAST-MODIFIED:20240414T220340Z
UID:19641-1706119200-1706126400@aialb-sb.org
SUMMARY:Social Media for Architects and Design-Industry Professionals: How to Get Started Using Your Smart Phone
DESCRIPTION:Buy Tickets on Eventbrite\n\nREGISTER\n\n\n\n\n\n\n\n\n\n2.0 AIA LU  \n\n\n\nProgram Description: \n\n\n\nBring your smart phone and join us to learn how to harness the power of social media for business growth. Discover practical tips and strategies to expand your reach by effectively utilizing the most popular platforms – Instagram and Facebook. Our presenters will show you how to craft compelling content\, engage with your audience\, and foster connections that lead to business growth and brand identity. Don’t miss this opportunity to take your small architectural firm to new (and easy) technological heights. \n\n\n\nLearning Objectives: \n\n\n\nAttendees will gain an understanding of the significance of social media for business and learn how to create a business account and implement best practices. \n\n\n\nAttendees will learn how to craft an effective and engaging bio description that reflects their brand identity. \n\n\n\nAttendees will learn about post-editing tips and tricks to enhance the visual appeal of content\, and cross-platform integration. \n\n\n\nAttendees will learn how to leverage social media for business growth\, including lead generation\, customer engagement\, and brand building. \n\n\n\nPresented by \n\n\n\n\n\n\n\nSponsored by
URL:https://aialb-sb.org/event/social-media-for-architects-and-design-industry-professionals/
LOCATION:P2S Inc.\, 5000 E Spring St\, 8th Flr\, Long Beach\, CA\, 90815\, United States
CATEGORIES:Business of Architecture,CEU,Programs
ATTACH;FMTTYPE=image/png:https://aialb-sb.org/wp-content/uploads/2023/11/for-website-FINAL-social-media-program-2.png
END:VEVENT
BEGIN:VEVENT
DTSTART;TZID=America/Los_Angeles:20240126T090000
DTEND;TZID=America/Los_Angeles:20240126T160000
DTSTAMP:20260422T194336
CREATED:20231202T002833Z
LAST-MODIFIED:20240414T220334Z
UID:19674-1706259600-1706284800@aialb-sb.org
SUMMARY:Cal OES Safety Assessment Program: Evaluator Training
DESCRIPTION:6 HSW Units for AIA Members \n\n\n\n\n\n\nBuy Tickets on Eventbrite\n\nREGISTER\n\n\n\n\n\n\n\n\n\n\n\nThis program will be held virtually. Cameras will be required to be on. \n\n\n\nBecome a registered Safety Assessment Evaluator! \n\n\n\nTraining Description: \n\n\n\nCal-OES SAP Evaluator Training for post-disaster building Safety Assessment Program (SAP) provides architects\, engineers\, and building inspectors with the knowledge to provide valuations of facilities and buildings in the aftermath of a disaster.Disasters create terrible consequences\, forcing people out of their homes into temporary shelters and closing down communities. With SAP trainers able to deploy into an affected area\, they can quickly evaluate damaged structures\, identifying those that are safe for occupancy\, while marking those that are unsafe or have restricted use. \n\n\n\nEligible Participants:All building industry professionals are welcome. In addition\, the following licensed practitioners will be eligible to perform post-disaster assessments after successfully completing SAP training as a certified California Disaster Service Worker: \n\n\n\n\nProfessionally licensed architects (from any state)\n\n\n\nProfessionally registered civil\, structural\, or geotechnical engineers (from any state)\n\n\n\nProfessionally registered geologists or engineering geologists.\n\n\n\nICC and ACIA certified building inspectors or officials and public works inspectors.\n\n\n\n\nThe Safety Assessment Program utilizes volunteers and mutual aid resources to provide professional engineers and architects and certified building inspectors to assist local governments in safety evaluation of their built environment in an aftermath of a disaster. The program is managed by Cal OES with cooperation from professional organizations. SAP produces two resources\, SAP Evaluators\, described above\, and SAP Coordinators\, which are local government representatives that coordinate the program. \n\n\n\nObjectives: \n\n\n\n\nParticipants will review protocol for working with and assisting local governments in the aftermath of an emergency.\n\n\n\nParticipants will learn to evaluate building safety in the aftermath of a disaster.\n\n\n\nParticipants (licensed civil engineers\, architects\, or certified building inspectors) will be trained as credentialed persons to be SAP Evaluators to work in the field posting buildings.\n\n\n\nParticipants will learn how to mentor others on health\, safety\, welfare evaluations.\n\n\n\n\nDate: January 26\, 2024 (Zoom Link will be sent to participants on January 25th)Virtual Training 9AM – 4PM (one hour lunch break)Learning Units: 6 AIA HSW UnitsCost: $50 for AIA Members\, $75 for Non-Members \n\n\n\nAttendees need to purchase two books in advance of the session:  ATC 20-1 Field Manuals (Post Earthquake) for $24 and ATC 45 (Winds\, Storms\, and Floods) for $27.  Link to purchase:  Applied Technology Council Online Store (atcouncil.org)Presenters:Mark S. Kim\, AIA\, LEED AP BD+CJeffrey Gill\, FAIA \n\n\n\n\nBuy Tickets on Eventbrite\n\nREGISTER
URL:https://aialb-sb.org/event/cal-oes-sap-january-2024/
CATEGORIES:CEU,HSW,Programs
ATTACH;FMTTYPE=image/png:https://aialb-sb.org/wp-content/uploads/2022/01/OES-logo-square.png
END:VEVENT
BEGIN:VEVENT
DTSTART;TZID=America/Los_Angeles:20240129T000000
DTEND;TZID=America/Los_Angeles:20240129T235959
DTSTAMP:20260422T194336
CREATED:20240110T210754Z
LAST-MODIFIED:20240414T220323Z
UID:19902-1706486400-1706572799@aialb-sb.org
SUMMARY:Living on the Edge - Coastal Residential Design Awards
DESCRIPTION:SAVE THE DATE – REGISTER TO SUBMIT \n\n\n\nThe anticipated opening of the first-ever design awards program specific to Southern California Coastal Custom Residential Architecture \n\n\n\nLearn More \n\n\n\nPresented by the AIA Long Beach / South Bay and the Coastal CRAN Knowledge Community
URL:https://aialb-sb.org/event/living-on-the-edge-coastal-residential-design-awards/
CATEGORIES:CRAN,Design Awards,Programs
ATTACH;FMTTYPE=image/png:https://aialb-sb.org/wp-content/uploads/2024/01/thumbnail-Living-on-the-Edge-Coastal-Residential-Design-Awards-.png
END:VEVENT
BEGIN:VEVENT
DTSTART;TZID=America/Los_Angeles:20240129T000000
DTEND;TZID=America/Los_Angeles:20240229T235959
DTSTAMP:20260422T194336
CREATED:20240206T220304Z
LAST-MODIFIED:20240414T220304Z
UID:20254-1706486400-1709251199@aialb-sb.org
SUMMARY:Living on the Edge - Coastal Residential Design Awards - - Early Registration
DESCRIPTION:The first-ever design awards program specific to Southern California Coastal Custom Residential Design \n\n\n\n2024 DEADLINES & FEES\n\n\n\nEarly registration: January 29 – February 29 \n\n\n\n\n$200 AIA Members\n\n\n\n$300 Non-AIA Members\n\n\n\n\nStandard registration: March 1 – March 31 \n\n\n\n\n$250 AIA Members\n\n\n\n$350 Non-AIA Members\n\n\n\n\nSubmission window opens: March 1 \n\n\n\nLast day to submit: April 5 \n\n\n\nLearn More \n\n\n\nPresented by the AIA Long Beach / South Bay and the Coastal CRAN Knowledge Community
URL:https://aialb-sb.org/event/living-on-the-edge-coastal-residential-design-awards-last-day-for-early-registration/
CATEGORIES:CRAN,Design Awards,Programs
ATTACH;FMTTYPE=image/png:https://aialb-sb.org/wp-content/uploads/2024/01/thumbnail-Living-on-the-Edge-Coastal-Residential-Design-Awards-.png
END:VEVENT
END:VCALENDAR