BEGIN:VCALENDAR
VERSION:2.0
PRODID:-//AIA-LBSB - ECPv6.15.20//NONSGML v1.0//EN
CALSCALE:GREGORIAN
METHOD:PUBLISH
X-WR-CALNAME:AIA-LBSB
X-ORIGINAL-URL:https://aialb-sb.org
X-WR-CALDESC:Events for AIA-LBSB
REFRESH-INTERVAL;VALUE=DURATION:PT1H
X-Robots-Tag:noindex
X-PUBLISHED-TTL:PT1H
BEGIN:VTIMEZONE
TZID:America/Los_Angeles
BEGIN:DAYLIGHT
TZOFFSETFROM:-0800
TZOFFSETTO:-0700
TZNAME:PDT
DTSTART:20230312T100000
END:DAYLIGHT
BEGIN:STANDARD
TZOFFSETFROM:-0700
TZOFFSETTO:-0800
TZNAME:PST
DTSTART:20231105T090000
END:STANDARD
BEGIN:DAYLIGHT
TZOFFSETFROM:-0800
TZOFFSETTO:-0700
TZNAME:PDT
DTSTART:20240310T100000
END:DAYLIGHT
BEGIN:STANDARD
TZOFFSETFROM:-0700
TZOFFSETTO:-0800
TZNAME:PST
DTSTART:20241103T090000
END:STANDARD
BEGIN:DAYLIGHT
TZOFFSETFROM:-0800
TZOFFSETTO:-0700
TZNAME:PDT
DTSTART:20250309T100000
END:DAYLIGHT
BEGIN:STANDARD
TZOFFSETFROM:-0700
TZOFFSETTO:-0800
TZNAME:PST
DTSTART:20251102T090000
END:STANDARD
END:VTIMEZONE
BEGIN:VEVENT
DTSTART;TZID=America/Los_Angeles:20240502T083000
DTEND;TZID=America/Los_Angeles:20240502T100000
DTSTAMP:20260422T134708
CREATED:20240321T025847Z
LAST-MODIFIED:20240414T215605Z
UID:20676-1714638600-1714644000@aialb-sb.org
SUMMARY:Small Firm Symposium
DESCRIPTION:A Virtual Program Hosted by AIA New Jersey\, AIA New York State\, and AIA Pennsylvania \n\n\n\n\n\nApril 2\, 9\, 16\, 18 & May 2 | 8:30am-10:00am PST \n\n\n\nEarn CES credits | Flexible schedule | Affordable registration fees \n\n\n\nThe 2024 Small Firm Symposium\, hosted by AIA NY\, NJ\, and PA\, offers a dynamic five-part online series focused on ownership transition\, expansion\, enhancing visibility\, AI in design\, and business development for small architecture firms. Industry professionals will lead discussions on relevant trends and challenges\, providing actionable strategies. You can join the entire series or choose specific sessions\, making it a flexible and valuable opportunity for firm leaders seeking to innovate and grow their firms. \n\n\n\nRegistration fees \n\n\n\n\nAIA member (all states): $175 entire series | $45 per session\n\n\n\nNon-member: $230 entire series | $70 per session\n\n\n\n\n\nREGISTER\n\n\n\n\nThursday\, May 2 | 11:30am – 1:00pm EST \n\n\n\nBuilding a Culture of Business Development in Your Architecture Firm \n\n\n\n(Submitted for AIA CES credits) \n\n\n\nKelly Klopfer\, Principal and Owner | Kelly Klopfer Consulting\, LLCSusan Radzyminski\, CMO & Leader\, CMO for Hire | BST & Co. CPA’s\, LLP \n\n\n\nIdeally\, everyone in your firm should have a role in the stewardship of business development (BD). How do firms build an engaging\, efficient\, and effective BD culture? What does the roadmap of tactics look like\, who is responsible and how do you measure the outcome of these efforts?  \n\n\n\nCreating a sustainable business development culture is an investment. It takes time\, learning\, listening and sometimes coaching. Whether you are a sole proprietor or a small to medium sized firm\, you can develop a team of champions and partners to nurture and advance your goals and create a framework to keep you focused and accountable. \n\n\n\nIn this seminar\, we will discuss and identify the key components of a BD framework to foster a successful and strategic BD culture.  \n\n\n\nUpon attending this session\, participants will be empowered to: \n\n\n\n\nIdentify the top 5 factors in creating a healthy BD culture.\n\n\n\nExplore strategies to build your core BD team\, define your ideal clients and integrate regular BD activities into day-to-day operations.\n\n\n\nImplement the BD tasks required in a productive BD framework.\n\n\n\nConsider the key performance metrics (KPIs) to measure and how to build accountability into your BD culture.\n\n\n\n\n\nREGISTER
URL:https://aialb-sb.org/event/small-firm-symposium-5/
CATEGORIES:Programs
ATTACH;FMTTYPE=image/jpeg:https://aialb-sb.org/wp-content/uploads/2024/03/2024-Small-Firm-Symposium_CC-Header_with-Tagline_NYS_NJ_PA.jpg
END:VEVENT
BEGIN:VEVENT
DTSTART;TZID=America/Los_Angeles:20240502T180000
DTEND;TZID=America/Los_Angeles:20240502T193000
DTSTAMP:20260422T134709
CREATED:20240227T013049Z
LAST-MODIFIED:20240416T232327Z
UID:20482-1714672800-1714678200@aialb-sb.org
SUMMARY:BARchitecture
DESCRIPTION:BARchitecture: Ballast Point\n\n\n\nA special BARchitecture this month: We are teaming up once again with AIA Orange County\, and this time also with members of the National Organization of Minority Architects (NOMA). Join us!  \n\n\n\n\n\n\n\nCome see old friends and make some new ones. Drinks are on you\, but the appetizers are on us! No reservations required. \n\n\n\nMeet us on the ground floor near the main bar! \n\n\n\n\n\n\n\nThank you to our sponsor\, PENTA Building Group! \n\n\n\nThe PENTA Building Group is a nationally recognized commercial general contractor with nearly $10 billion in projects across the United States.
URL:https://aialb-sb.org/event/barchitecture-may-2024/
LOCATION:Ballast Point\, 110 Marina Dr.\, Long Beach\, CA\, 90803\, United States
CATEGORIES:BARchitecture,Programs,Social Program
ATTACH;FMTTYPE=image/png:https://aialb-sb.org/wp-content/uploads/2020/12/BARchitecture1.png
END:VEVENT
BEGIN:VEVENT
DTSTART;TZID=America/Los_Angeles:20240508T180000
DTEND;TZID=America/Los_Angeles:20240508T200000
DTSTAMP:20260422T134709
CREATED:20240422T193833Z
LAST-MODIFIED:20240429T145236Z
UID:21160-1715191200-1715198400@aialb-sb.org
SUMMARY:Neighborhood Revitalization in Overlooked Communities
DESCRIPTION:Buy Tickets on Eventbrite\n\nREGISTER\n\n\n\n\n\n\n\n\n\n\n\n2.0 AIA LU  \n\n\n\n\n\n\n\nDescription: \n\n\n\nThis panel discussion will focus on how to improve the quality of life for residents in neighborhoods that have had limited investment while exploring how to discourage gentrification and displacement. We will hear from a nonprofit and for-profit developer\, planning director\, and City of Long Beach Equity Officer\, with the discussion moderated by an urban designer. Panelists will explore the community opportunities\, challenges\, and fears of neighborhood investment. \n\n\n\nLearning Objectives: \n\n\n\n\nUnderstand the goals and objectives of neighborhood revitalization.\n\n\n\nUnderstand the criteria for affordable housing developers and community benefits available through various funding programs.\n\n\n\nLearn what it takes for a small-scale infill builder to invest in a neighborhood.\n\n\n\nWhat infrastructure improvements can the city provide to encourage investment and uplift communities?\n\n\n\nWhat are the challenges to allowing investment that could promote gentrification and displacement?\n\n\n\n\nPanelists: \n\n\n\n\nRochelle Mills\, President and CEO – Innovative Housing Opportunities\n\n\n\nEd Feo\, Principal – Seaward Road\n\n\n\nAlanah Grant\, Equity Officer – City of Long Beach\n\n\n\nMark Vallianatos\, Cofounder / Planning Director – Abundant Housing LA\n\n\n\n\nModerated by Shruti Shankar\, AICP\, LEED AP ND\, Urban Design Director – Studio One Eleven \n\n\n\n\n\n\n\n\nBuy Tickets on Eventbrite\n\nREGISTER
URL:https://aialb-sb.org/event/neighborhood-revitalization-in-overlooked-communities/
LOCATION:Cal Rec Community Center at Ernest McBride Park\, 1550 Martin Luther King\, Jr. Ave.\, Long Beach\, 90813
CATEGORIES:Community,Programs
ATTACH;FMTTYPE=image/jpeg:https://aialb-sb.org/wp-content/uploads/2024/04/AIA-Collage-Selected-scaled.jpg
END:VEVENT
BEGIN:VEVENT
DTSTART;TZID=America/Los_Angeles:20240517T180000
DTEND;TZID=America/Los_Angeles:20240517T220000
DTSTAMP:20260422T134709
CREATED:20240419T001306Z
LAST-MODIFIED:20240419T001306Z
UID:21142-1715968800-1715983200@aialb-sb.org
SUMMARY:ENVISION: CSULB 2024 Senior Show
DESCRIPTION:RSVP\n\n\n\n\n\n\n\n\nWe are delighted to extend to you a cordial invitation to the 2024 Interior Design BFA Senior Show. This event will be showcasing the innovative designs of our graduating students at California State University Long Beach. \n\n\n\nENVISION represents the culmination of years of hard work\, dedication\, and artistic exploration. This showcase will feature a wide spectrum of design concepts that reflect the unique perspectives and creative ingenuity of our students. \n\n\n\nYour presence at the Interior Design BFA Senior Show would mean a great deal to the us as we celebrate the accomplishments of our students and the vibrant future of the design industry. We look forward to welcoming you to an evening filled with inspiration\, creativity\, and artistic excellence.
URL:https://aialb-sb.org/event/envision-csulb-2024-senior-show/
LOCATION:The Duncan Anderson Gallery\, 6300 State University Dr\, Long Beach\, California\, 90815
CATEGORIES:Community,Programs
ATTACH;FMTTYPE=image/png:https://aialb-sb.org/wp-content/uploads/2024/04/CSULB-thumbnail.png
END:VEVENT
BEGIN:VEVENT
DTSTART;TZID=America/Los_Angeles:20240529T000000
DTEND;TZID=America/Los_Angeles:20240609T235959
DTSTAMP:20260422T134709
CREATED:20240604T002658Z
LAST-MODIFIED:20240604T002659Z
UID:21944-1716940800-1717977599@aialb-sb.org
SUMMARY:Long Beach Architecture Week
DESCRIPTION:ARCHITECTURE\, DESIGN & DISCOVERY \n\n\n\nLong Beach Architecture Week is a series of tours\, events and educational opportunities that celebrate architecture\, promote preservation\, sustainability\, and new ideas. Giving the Long Beach community members the opportunity to explore important structures in the city through educational talks\, exciting tours\, and community events.  \n\n\n\n \n\n\n\n\nLEARN MORE & REGISTER
URL:https://aialb-sb.org/event/long-beach-architecture-week-3/
CATEGORIES:Community
ATTACH;FMTTYPE=image/png:https://aialb-sb.org/wp-content/uploads/2023/05/LBarchweekLogo_nobkgd.png
END:VEVENT
BEGIN:VEVENT
DTSTART;TZID=America/Los_Angeles:20240529T120000
DTEND;TZID=America/Los_Angeles:20240529T130000
DTSTAMP:20260422T134709
CREATED:20240407T223035Z
LAST-MODIFIED:20250814T003551Z
UID:20862-1716984000-1716987600@aialb-sb.org
SUMMARY:COTE Presents: 2022 Code Breaker - Embodied Carbon & CALGreen
DESCRIPTION:AIA Long Beach / South Bay & Southern California Edison\, a Collaborative Partnership \n\n\n\n\n\n1.0 LU/HSW/ZNCD  \n\n\n\n\nBuy Tickets on Eventbrite\n\nREGISTER\n\n\n\n\n\n\n\nDescription: \n\n\n\nJuly 2024 brings new CALGreen requirements for commercial buildings over 100\,000 square feet and school buildings over 50\,000 square feet to show embodied carbon savings.  This short one-hour session will cover these new requirements\, as well as explain the concepts\, why embodied carbon matters\, how to measure and reduce embodied carbon\, and how to show compliance with the new CALGreen requirements via Prescriptive and Performance pathways.  \n\n\n\nLearning objectives: \n\n\n\n\nDifferentiate between embodied carbon and operational carbon.\n\n\n\nDescribe the importance of managing embodied carbon in achieving California’s climate goals.\n\n\n\nExplain how to measure and reduce embodied carbon and support design decisions with the most significant impact.  \n\n\n\nIdentify CALGreen requirements on embodied carbon that will take effect July 1\, 2024.\n\n\n\n\nSpeaker: \n\n\n\n\n\n\n\nGina Rodda is currently the Owner of Gabel Energy out of Castro Valley\, California\, and has been in the energy modeling field since 1991. She is an energy analyst performing a wide range of responsibilities in both residential and nonresidential construction pertaining to compliance standards and energy modeling within the United States\, while specializing in California Building Code. California local ordinances (or Reach codes) supporting electrification and electric preferred for multifamily\, hotel/motel and nonresidential buildings dictates much of the work Gabel Energy provides in Northern California in which Gabel Energy has been an active leader in heat pump mechanical equipment design choices as supported by the Energy Code and compliance software modeling. \n\n\n\nGina has worked with Energy Code Ace as a subject matter expert developing and supporting trainings\, resources and tools on the Residential and Nonresidential Title 24 Building Energy Efficiency Standards for building department staff\, energy consultants\, engineers\, contractors and architects. \n\n\n\nGina also works as a respected subject matter expert informing the statewide code development process since the 2013 Building Code cycle. \n\n\n\nGina’s Certifications: \n\n\n\n\nResidential and Nonresidential Certified Energy Analyst (CEA) via CABEC\n\n\n\nLEED Accredited Professional (AP) via USGBC\n\n\n\nEducation: Bachelor of Arts from University of the Pacific (UOP) graduated 1989
URL:https://aialb-sb.org/event/cote-presents-052924/
CATEGORIES:CEU,COTE,HSW,Net Zero Energy,Programs,ZNCD
ATTACH;FMTTYPE=image/png:https://aialb-sb.org/wp-content/uploads/2023/01/ZNCD-3-1.png
END:VEVENT
END:VCALENDAR