BEGIN:VCALENDAR
VERSION:2.0
PRODID:-//AIA-LBSB - ECPv6.15.20//NONSGML v1.0//EN
CALSCALE:GREGORIAN
METHOD:PUBLISH
X-WR-CALNAME:AIA-LBSB
X-ORIGINAL-URL:https://aialb-sb.org
X-WR-CALDESC:Events for AIA-LBSB
REFRESH-INTERVAL;VALUE=DURATION:PT1H
X-Robots-Tag:noindex
X-PUBLISHED-TTL:PT1H
BEGIN:VTIMEZONE
TZID:America/Los_Angeles
BEGIN:DAYLIGHT
TZOFFSETFROM:-0800
TZOFFSETTO:-0700
TZNAME:PDT
DTSTART:20230312T100000
END:DAYLIGHT
BEGIN:STANDARD
TZOFFSETFROM:-0700
TZOFFSETTO:-0800
TZNAME:PST
DTSTART:20231105T090000
END:STANDARD
BEGIN:DAYLIGHT
TZOFFSETFROM:-0800
TZOFFSETTO:-0700
TZNAME:PDT
DTSTART:20240310T100000
END:DAYLIGHT
BEGIN:STANDARD
TZOFFSETFROM:-0700
TZOFFSETTO:-0800
TZNAME:PST
DTSTART:20241103T090000
END:STANDARD
BEGIN:DAYLIGHT
TZOFFSETFROM:-0800
TZOFFSETTO:-0700
TZNAME:PDT
DTSTART:20250309T100000
END:DAYLIGHT
BEGIN:STANDARD
TZOFFSETFROM:-0700
TZOFFSETTO:-0800
TZNAME:PST
DTSTART:20251102T090000
END:STANDARD
END:VTIMEZONE
BEGIN:VEVENT
DTSTART;TZID=America/Los_Angeles:20240529T000000
DTEND;TZID=America/Los_Angeles:20240609T235959
DTSTAMP:20260422T074345
CREATED:20240604T002658Z
LAST-MODIFIED:20240604T002659Z
UID:21944-1716940800-1717977599@aialb-sb.org
SUMMARY:Long Beach Architecture Week
DESCRIPTION:ARCHITECTURE\, DESIGN & DISCOVERY \n\n\n\nLong Beach Architecture Week is a series of tours\, events and educational opportunities that celebrate architecture\, promote preservation\, sustainability\, and new ideas. Giving the Long Beach community members the opportunity to explore important structures in the city through educational talks\, exciting tours\, and community events.  \n\n\n\n \n\n\n\n\nLEARN MORE & REGISTER
URL:https://aialb-sb.org/event/long-beach-architecture-week-3/
CATEGORIES:Community
ATTACH;FMTTYPE=image/png:https://aialb-sb.org/wp-content/uploads/2023/05/LBarchweekLogo_nobkgd.png
END:VEVENT
BEGIN:VEVENT
DTSTART;TZID=America/Los_Angeles:20240605T080000
DTEND;TZID=America/Los_Angeles:20240608T170000
DTSTAMP:20260422T074345
CREATED:20240404T013202Z
LAST-MODIFIED:20240414T215512Z
UID:20765-1717574400-1717866000@aialb-sb.org
SUMMARY:AIA Conference on Architecture & Design 2024
DESCRIPTION:AIA24 will bring together the often-siloed AEC industry in Washington\, D.C. to network\, share knowledge\, gain exposure\, and find multidisciplinary solutions to today’s most pressing issues. \n\n\n\n\n\n\n\n\n\n\nLEARN MORE
URL:https://aialb-sb.org/event/aia-conference-on-architecture-design-2024/
CATEGORIES:AIA,Programs
ATTACH;FMTTYPE=image/jpeg:https://aialb-sb.org/wp-content/uploads/2024/04/AIA24_Instagram-static-image3_1080x1080.jpg
END:VEVENT
BEGIN:VEVENT
DTSTART;TZID=America/Los_Angeles:20240606T180000
DTEND;TZID=America/Los_Angeles:20240606T193000
DTSTAMP:20260422T074345
CREATED:20240522T194621Z
LAST-MODIFIED:20240523T163834Z
UID:21458-1717696800-1717702200@aialb-sb.org
SUMMARY:BARchitecture
DESCRIPTION:BARchitecture: ISM Brewing\n\n\n\nCelebrating Long Beach Architecture Week for our monthly social at this new DTLB establishment. Join us and bring a friend!  \n\n\n\nDrinks are on you\, but the appetizers are on us! No reservations required. \n\n\n\n\nfamily\, friends\, fresh beer
URL:https://aialb-sb.org/event/barchitecture-june-2024/
LOCATION:ISM Brewing\, 210 E 3rd St\, Long Beach\, California\, 90802
CATEGORIES:BARchitecture,Programs,Social Program
ATTACH;FMTTYPE=image/png:https://aialb-sb.org/wp-content/uploads/2020/12/BARchitecture1.png
END:VEVENT
BEGIN:VEVENT
DTSTART;TZID=America/Los_Angeles:20240610T235900
DTEND;TZID=America/Los_Angeles:20240610T235900
DTSTAMP:20260422T074345
CREATED:20240508T145121Z
LAST-MODIFIED:20240508T145150Z
UID:21404-1718063940-1718063940@aialb-sb.org
SUMMARY:ARE Scholarship Application Deadline
DESCRIPTION:The AIA Long Beach/South Bay Architect Registration Examination (ARE) Scholarship recognizes Associate AIA members early in their careers. It encourages them to complete the licensure process by covering the associated costs of becoming a licensed architect in California. \n\n\n\nUp to two (2) ARE Scholarships are offered for Spring 2024. \n\n\n\n\nlearn more & apply
URL:https://aialb-sb.org/event/are-scholarship-application-deadline-3/
CATEGORIES:A.R.E.,Programs,Scholarships
ATTACH;FMTTYPE=image/png:https://aialb-sb.org/wp-content/uploads/2023/06/ARE-Scholarship.png
END:VEVENT
BEGIN:VEVENT
DTSTART;TZID=America/Los_Angeles:20240612T180000
DTEND;TZID=America/Los_Angeles:20240612T200000
DTSTAMP:20260422T074345
CREATED:20240414T204957Z
LAST-MODIFIED:20240530T171931Z
UID:21025-1718215200-1718222400@aialb-sb.org
SUMMARY:Social Media for Architects and Design-Industry Professionals: Level Up Your Content Creation
DESCRIPTION:Buy Tickets on Eventbrite\n\nREGISTER\n\n\n\n\n\n\n\nAIA LBSB Members\, Allieds & Sponsors – use your ID# to receive your discount. Must be current with membership dues. \n\n\n\n\n\n\n\n\n\n\n\n\n\n\n\n2.0 AIA LU  \n\n\n\nIn-person at P2S Inc.\, 5000 E Spring St\, 7th flr\, Long Beach\, CA 90815 \n\n\n\nProgram Description: \n\n\n\nHands-on social media training for AEC industry professionals! Get ready to level up your content creation game as we guide you through how to create posts for Instagram\, Facebook\, and LinkedIn using videos\, static posts\, and interactive carousels.  \n\n\n\nCome with your ideas ready and images/videos before arriving. By the end of this in-person session\, you’ll walk away with a week’s worth of content and the skills to shine on social media!  \n\n\n\nApp downloads required: \n\n\n\nCapCut – Download: Apple or Android  \n\n\n\nCanva – Download: Apple or Android  \n\n\n\nLearning Objectives: \n\n\n\n\nAttendees will learn strategies for Instagram\, Facebook\, and LinkedIn\, including post formats like videos\, static images\, and interactive carousels\, to optimize engagement and reach on each platform.\n\n\n\nParticipants will acquire proficiency in using CapCut and Canva for editing videos and creating graphics\, ensuring their content stands out with professional-quality visuals.\n\n\n\nThrough practical guidance\, attendees will learn about the implementation of content calendars.\n\n\n\nBy the end of the session\, attendees will create a week’s worth of content\, applying the techniques learned to produce compelling posts that resonate with their target audience\, setting them up for success on social media.\n\n\n\n\nPlease come with a couple photos of on-site projects\, and a couple of people in your office so that you can create two types of posts. \n\n\n\nPresented by \n\n\n\n\n\n\n\nSponsored by \n\n\n\n\n\n\n\n\n\n\n\n\n\nSPONSOR THIS PROGRAM \n\n\n\nSupport an AIA LBSB program that advances our profession and increases visibility for your organization. Contact us to learn how.
URL:https://aialb-sb.org/event/social-media-content-creation/
LOCATION:P2S Inc.\, 5000 E Spring St\, 8th Flr\, Long Beach\, CA\, 90815\, United States
CATEGORIES:Business of Architecture,CEU,Programs
ATTACH;FMTTYPE=image/png:https://aialb-sb.org/wp-content/uploads/2023/11/for-website-FINAL-social-media-program-2.png
END:VEVENT
BEGIN:VEVENT
DTSTART;TZID=America/Los_Angeles:20240622T100000
DTEND;TZID=America/Los_Angeles:20240622T120000
DTSTAMP:20260422T074345
CREATED:20240222T154912Z
LAST-MODIFIED:20240620T154513Z
UID:20411-1719050400-1719057600@aialb-sb.org
SUMMARY:Annual Summer Solstice Architectural Tour
DESCRIPTION:Downtown Long Beach Architectural “Eras” Tour\n\n\n\nThis year’s tour is a walking tour – comfortable shoes are recommended \n\n\n\nThe tour concludes at Altar Society Brewing & Coffee Company – join us for a snack and libations  \n\n\n\n\n\n\n\n\nBuy Tickets on Eventbrite\n\nREGISTER\n\n\n\n\n\n\n\n\n\n$25 General Admission \n\n\n\n$10 AIA LBSB Members\, Allieds\, and Sponsors (use your ID# to receive $15 discount off of General Admission) (2.0 AIA LU) \n\n\n\n$5 Students \n\n\n\n\n\n\n\n\nThe Eras\n\n\n\nWildest Dreams: The Birth of a City Era (Early 1900s) \n\n\n\nThe Last Great American Dynasty: The Oil Boom Era (1920s) \n\n\n\nThe Archer: The Depression Era and the Earthquake (1930s) \n\n\n\nBegin Again: Post War Boom Era (1950-1970s) \n\n\n\nThe Romantics: The Present Era \n\n\n\n\n\n\n\n\nThe walking tour will have the following stops where we will be able to tour the building’s interiors: \n\n\n\n\nF&M Bank\n\n\n\nThe Vault 350\n\n\n\n100 Ocean Center\n\n\n\nThe Masonic Temple (Altar Society Brewing)\n\n\n\n\n\n\nDescription: \n\n\n\nStep into the rich architectural narrative of downtown Long Beach\, where each building has a story to tell. Embark on an immersive journey through time with our ‘Eras’ tour\, as we peel back the layers of history woven into the city’s urban fabric. \n\n\n\nLong Beach’s journey from a modest beachfront enclave to a bustling urban center is a captivating saga. Wander through streets steeped in the dreams of the early 1900s\, witness the extravagance and tumult of the roaring 20s\, and feel the echoes of resilience from the Depression era\, along with the post-war aerospace era with its modernist aspirations. \n\n\n\nWe’ll also uncover the modern marvels reshaping Long Beach’s urban fabric. Experience firsthand how adaptive reuse breathes new life into historic buildings\, seamlessly blending the charm of yesteryear with the lifestyle of today. From revitalized landmarks to contemporary structures\, you’ll develop a deeper appreciation for the city’s architectural tapestry. \n\n\n\nOur journey isn’t merely about buildings; it’s about understanding the evolution of Long Beach’s vision. Discover how each era has left an indelible mark on the city’s identity\, shaping its vibrant present. Together\, we’ll decipher stories etched in glass and masonry that narrate Long Beach’s journey through time. \n\n\n\nLearning Objectives: \n\n\n\n\nAttendees will discover the diverse eras that have shaped the City of Long Beach\, from its origins as a small beach resort to its current status as a large and dynamic city.\n\n\n\nAttendees will explore the history and evolution of Downtown Long Beach and surrounding neighborhoods\, learning about past and present influences on the urban fabric.\n\n\n\nAttendees will visit both historic and contemporary buildings\, witnessing firsthand the value of adaptive reuse in preserving architectural heritage while meeting modern needs.\n\n\n\nAttendees will gain insights into recent development efforts in housing\, civic projects\, and retail/office sectors\, understanding the ongoing evolution of Downtown Long Beach.\n\n\n\n\n\n\n\n\n\n\nThe tour concludes at Altar Society Brewing & Coffee Company – join us for a snack and libations  \n\n\n\n\nBuy Tickets on Eventbrite\n\nREGISTER\n\n\n\n\n\n\n\n\n\n\n\nTour starting location: \n\n\n\n\n\n\n\n\n\n\n\nSponsored by \n\n\n\n\n\n\n\n\n\n\n\n\nMany thanks to AIA LBSB chapter sponsor and friend Maureen Neeley of HouStories for assisting with this program \n\n\n\n\n\n\n\n\nOur Summer Solstice event is in honor of the late Jonathan Glasgow\, AIA. In addition to initiating and leading this annual tour for the AIA Long Beach / South Bay\, Jon was an influential architect and mentor for so many in the Long Beach community. \n\n\n\nLearn more about Jonathan Glasgow\, AIA \n\n\n\n\n\n\n\n\n\n\n\nSPONSOR THIS PROGRAM \n\n\n\nSupport an AIA LBSB program that advances our profession and increases visibility for your organization. Contact us to learn how.
URL:https://aialb-sb.org/event/summer-solstice-arch-tour-2024/
CATEGORIES:Community,Programs,Tour
ATTACH;FMTTYPE=image/jpeg:https://aialb-sb.org/wp-content/uploads/2024/02/Poster-image-AIA-Walking-tour-2024-1080x1080-2.jpg
END:VEVENT
BEGIN:VEVENT
DTSTART;TZID=America/Los_Angeles:20240626T120000
DTEND;TZID=America/Los_Angeles:20240626T133000
DTSTAMP:20260422T074345
CREATED:20240605T162010Z
LAST-MODIFIED:20240605T165900Z
UID:21962-1719403200-1719408600@aialb-sb.org
SUMMARY:Small Business Savvy Series
DESCRIPTION:Offered in partnership with the LAX Coastal Chamber of Commerce \n\n\n\n\n\nTO REGISTER: \n\n\n\nSTEP 1: Click on the link here or graphic below! \n\n\n\nSTEP 2: Select REGISTER\, then click under NOT A MEMBER \n\n\n\nSTEP 3: Enter promo code: AIAMEMBER in the top left and hit APPLY \n\n\n\nWe are excited to announce that our AIA Long Beach/South Bay Chapter has teamed up with the LAX Coastal Chamber of Commerce for their Small Business Savvy Series on Wednesday\, June 26th from 12 to 1:30 PM. This quarterly series focuses on providing valuable tools to support small to mid-size companies with running an effective business. This month’s Small Business Finance Crash Course will be led by AIA Member & LAX Coastal Chamber member\, Joe Cangelosi – Founder of Tee Lex. \n\n\n\nDuring the course of this interactive session\, business leaders will better understand some key small business finance concepts that include: \n\n\n\n\nUnderstanding Accounting & Accountants\n\n\n\nP&L & the Balance Sheet\n\n\n\nSoftware\, Data & Processes\n\n\n\nTheft\, Fraud & Controls\n\n\n\nFinance Operations vs. Bookkeeping\n\n\n\n\nLunch will be generously provided by our Business Sponsor\, Justworks and each participant will be entered into a special raffle! \n\n\n\nCOST:                  $10 for AIA Members (After applying the AIA Member Promo Code) \n\n\n\nLOCATION:        LAX Coastal Chamber Office – 9100 S. Sepulveda Blvd.\, Suite 210\, Los Angeles\, CA 90045 \n\n\n\nTO REGISTER: \n\n\n\nSTEP 1: Click on the link here or graphic below! \n\n\n\nSTEP 2: Select REGISTER\, then click under NOT A MEMBER \n\n\n\nSTEP 3: Enter promo code: AIAMEMBER in the top left and hit APPLY.
URL:https://aialb-sb.org/event/small-business-savvy-series/
LOCATION:LAX Coastal Chamber Office\, 9100 S. Sepulveda Blvd.\, Suite 210\, Los Angeles\, California\, 90045
CATEGORIES:Business of Architecture,Community
ATTACH;FMTTYPE=image/png:https://aialb-sb.org/wp-content/uploads/2024/06/Small-Business-Savvy-Series-.png
END:VEVENT
END:VCALENDAR