BEGIN:VCALENDAR
VERSION:2.0
PRODID:-//AIA-LBSB - ECPv6.15.20//NONSGML v1.0//EN
CALSCALE:GREGORIAN
METHOD:PUBLISH
X-ORIGINAL-URL:https://aialb-sb.org
X-WR-CALDESC:Events for AIA-LBSB
REFRESH-INTERVAL;VALUE=DURATION:PT1H
X-Robots-Tag:noindex
X-PUBLISHED-TTL:PT1H
BEGIN:VTIMEZONE
TZID:America/Los_Angeles
BEGIN:DAYLIGHT
TZOFFSETFROM:-0800
TZOFFSETTO:-0700
TZNAME:PDT
DTSTART:20230312T100000
END:DAYLIGHT
BEGIN:STANDARD
TZOFFSETFROM:-0700
TZOFFSETTO:-0800
TZNAME:PST
DTSTART:20231105T090000
END:STANDARD
BEGIN:DAYLIGHT
TZOFFSETFROM:-0800
TZOFFSETTO:-0700
TZNAME:PDT
DTSTART:20240310T100000
END:DAYLIGHT
BEGIN:STANDARD
TZOFFSETFROM:-0700
TZOFFSETTO:-0800
TZNAME:PST
DTSTART:20241103T090000
END:STANDARD
BEGIN:DAYLIGHT
TZOFFSETFROM:-0800
TZOFFSETTO:-0700
TZNAME:PDT
DTSTART:20250309T100000
END:DAYLIGHT
BEGIN:STANDARD
TZOFFSETFROM:-0700
TZOFFSETTO:-0800
TZNAME:PST
DTSTART:20251102T090000
END:STANDARD
END:VTIMEZONE
BEGIN:VEVENT
DTSTART;TZID=America/Los_Angeles:20240711T170000
DTEND;TZID=America/Los_Angeles:20240711T200000
DTSTAMP:20260422T062838
CREATED:20240221T211740Z
LAST-MODIFIED:20240702T203507Z
UID:20384-1720717200-1720728000@aialb-sb.org
SUMMARY:Game Night: Lawn Bowling
DESCRIPTION:Space is limited. Don’t delay – register today! \n\n\n\n\n\n\n\n\n\nPrices increase June 29th! \n\n\n\n\nBuy Tickets on Eventbrite\n\nBuy Tickets\n\n\n\n\n\n\n\nJoin in the fun this summer and learn to lawn bowl! Everyone is welcome! \n\n\n\nFood\, beverages\, and instruction included \n\n\n\n5 – 5:20 social \n\n\n\n5:20 – 5:45 instruction and more social \n\n\n\n5:45 – 7:15 play \n\n\n\n7:15 – 8 dinner & awards \n\n\n\n\n\n\n\nSponsored by \n\n\n\nGilbert Aguirre | Director of Business Development \n\n\n\n\n\n\n\n\n\n\n\nCheck out clips of last year’s event! \n\n\n\n        View this post on Instagram            A post shared by AIA Long Beach/South Bay (@aialbsb)  \n\n\n\n\n\nSPONSOR THIS PROGRAM \n\n\n\nSupport an AIA LBSB program that advances our profession and increases visibility for your organization. Contact us to learn how.
URL:https://aialb-sb.org/event/game-night-lawn-bowling-2024/
LOCATION:Long Beach Lawn Bowling Club\, 1109 Federation Drive\, Long Beach\, California\, 90804
CATEGORIES:Programs,Social Program
ATTACH;FMTTYPE=image/png:https://aialb-sb.org/wp-content/uploads/2023/07/IG-GAME-NIGHT-Lawn-Bowling-2.png
END:VEVENT
BEGIN:VEVENT
DTSTART;TZID=America/Los_Angeles:20240713T090000
DTEND;TZID=America/Los_Angeles:20240713T170000
DTSTAMP:20260422T062838
CREATED:20240711T153255Z
LAST-MODIFIED:20240711T160023Z
UID:22405-1720861200-1720890000@aialb-sb.org
SUMMARY:SoCal NOMA: Summer Architecture Camp for Kids
DESCRIPTION:Saturdays: July 13\, 20\, 27\, and August 3\, 9 am – 5 pm \n\n\n\nREGISTER \n\n\n\nThe 2024 SUMMER CAMP is in it’s 15th year! \n\n\n\nSoCal NOMA Architecture Summer Camp will be held in person: July 13th\, 20th\, 27th\, and August 3rd\, 2024.  In 2023\, we successfully hosted 180 students and this year’s goal is to host 200 students. Our camp curriculum will include drawing and model building workshops & activities\, a design project\, field trips\, and group presentations. \n\n\n\n60% of our campers are inner-city youth with very limited access to resources like transportation\, the internet and personal laptops. Your VITAL contribution will assist in providing resources to students who most need them! During these times of uncertainty\, the divide between students with and without opportunities widens. Join our team of passionate mentors and volunteers to deliver an amazing camp by sponsoring a camper. Together\, we can continue our efforts to expose youth to the profession\, empower them with the tools to make a difference in their community\, and expand all of our understanding of the built environment. \n\n\n\nREGISTRATION IS CLOSING SOON!   https://socalnoma.breezechms.com/form/91f2b64679336746  Thank you in advance for sharing the camp information with your network of parents\, potential campers and administrators.  See attached information and visit our website www.socalnoma.org    \n\n\n\nDownload Camp Flyer \n\n\n\nSPONSOR A CAMPER!  https://socalnoma.breezechms.com/form/b8102760  Thank you in advance for your support in making this the best camp ever. \n\n\n\n2024 Project Pipeline Summer Camp Information: \n\n\n\n CAMP DEMOGRAPHICS: \n\n\n\nAges: 10 – 18 \n\n\n\nIntroductory & Advanced Classes for middle school campers \n\n\n\nArchitectural Boot Camp for high school campers \n\n\n\nCLASSROOM: \n\n\n\nCAMP SESSIONS \n\n\n\n Workshops & Activities \n\n\n\nBuilding & Office Tours \n\n\n\nFor more information email admin@socalnomacamp.org
URL:https://aialb-sb.org/event/socal-noma-summer-architecture-camp-for-kids/
CATEGORIES:Community
ATTACH;FMTTYPE=image/jpeg:https://aialb-sb.org/wp-content/uploads/2022/04/SoCal-NOMA-logo.jpg
END:VEVENT
BEGIN:VEVENT
DTSTART;TZID=America/Los_Angeles:20240713T160000
DTEND;TZID=America/Los_Angeles:20240713T180000
DTSTAMP:20260422T062838
CREATED:20240701T184828Z
LAST-MODIFIED:20240703T202801Z
UID:22266-1720886400-1720893600@aialb-sb.org
SUMMARY:“The Genius of the Place: The Life and Work of Geoffrey Bawa”
DESCRIPTION:REGISTER\n\n\n\n\nJoin Studio One Eleven in collaboration with the LA Design Festival’s Docos on Design Series at the Downtown Long Beach ArtWalk for an exclusive screening of the 2023 film celebrating the legendary Sri Lankan architect\, Geoffrey Bawa. Directed by Afdhel Aziz and co-created by Paul Vu\, this film offers an intimate exploration of Bawa’s iconic works\, highlighting his profound influence on modern architecture in South Asia. \n\n\n\n\n\n\n\nRead the press release
URL:https://aialb-sb.org/event/the-genius-of-the-place-the-life-and-work-of-geoffrey-bawa/
LOCATION:Studio One Eleven\, 245 East Third St.\, Long Beach\, 90802
CATEGORIES:Community
ATTACH;FMTTYPE=image/jpeg:https://aialb-sb.org/wp-content/uploads/2024/07/The-Genius-of-Place.jpg
END:VEVENT
BEGIN:VEVENT
DTSTART;TZID=America/Los_Angeles:20240718T173000
DTEND;TZID=America/Los_Angeles:20240718T193000
DTSTAMP:20260422T062838
CREATED:20240701T190550Z
LAST-MODIFIED:20240703T202612Z
UID:22279-1721323800-1721331000@aialb-sb.org
SUMMARY:The Making of a Design District: A Panel Discussion
DESCRIPTION:REGISTER\n\n\n\n\nThis event will introduce the concept of a downtown design district to the Long Beach community\, examining it through business\, community\, and economic lenses. The discussion aims to provide attendees with valuable insights into the lessons learned from the creation of other successful design districts\, as well as an opportunity to share what this might look like for Long Beach. \n\n\n\n\n\n\n\nRead the press release
URL:https://aialb-sb.org/event/the-making-of-a-design-district/
LOCATION:Studio One Eleven\, 245 East Third St.\, Long Beach\, 90802
CATEGORIES:Community,Programs
ATTACH;FMTTYPE=image/png:https://aialb-sb.org/wp-content/uploads/2024/07/Making-of-a-Design-District.png
END:VEVENT
BEGIN:VEVENT
DTSTART;TZID=America/Los_Angeles:20240723T230000
DTEND;TZID=America/Los_Angeles:20240723T233000
DTSTAMP:20260422T062838
CREATED:20240523T153447Z
LAST-MODIFIED:20240724T195833Z
UID:21490-1721775600-1721777400@aialb-sb.org
SUMMARY:Architecture School Scholarship Applications Due
DESCRIPTION:Go to the AIA LBSB Scholarship Page for details and link to apply.
URL:https://aialb-sb.org/event/architecture-school-scholarship-applications-due/
CATEGORIES:Community,Programs,Scholarships
ATTACH;FMTTYPE=image/png:https://aialb-sb.org/wp-content/uploads/2024/05/website-Scholarship-logo.png
END:VEVENT
BEGIN:VEVENT
DTSTART;TZID=America/Los_Angeles:20240724T120000
DTEND;TZID=America/Los_Angeles:20240724T133000
DTSTAMP:20260422T062838
CREATED:20240620T005655Z
LAST-MODIFIED:20250814T003537Z
UID:22133-1721822400-1721827800@aialb-sb.org
SUMMARY:COTE Presents: Incentives\, Tax Credits\, and Rebates​ - Opportunities to Build your Business and Meet Clients' Electrification Goals
DESCRIPTION:AIA Long Beach / South Bay & Southern California Edison\, a Collaborative Partnership \n\n\n\n\n\n1.5 AIA LU/HSW + 1.0 ZNCD \n\n\n\n\nBuy Tickets on Eventbrite\n\nREGISTER\n\n\n\n\n\n\n\nDescription: \n\n\n\nElectrification of buildings\, both new and existing\, is increasingly encouraged by energy codes and other policies. Financial incentives are available to support this transition from utility programs as well as through State\, Federal\, and local government tax credits and rebates. This course will outline key funding available through the Inflation Reduction Act and other programs that can help your projects meet their budgetary and decarbonization objectives and give your business an advantage in the market. You’ll also access resources to help overcome common misconceptions about electrification\, provide more value to your clients\, and improve your community impact.  \n\n\n\nLearning objectives: \n\n\n\n\nUnderstand how State\, Federal\, and utility incentive programs apply to your projects and can support Zero Net Carbon Design objectives.\n\n\n\nApply best practices regarding code compliance and qualification for incentive programs. \n\n\n\nEffectively communicate the value of electric appliances and equipment\, such as heat pumps and induction cooktops.  \n\n\n\nBetter position your business for success with all-electric projects.\n\n\n\n\nSpeaker: \n\n\n\n\n\n\n\nNick Brown\, Allied member of the AIA LBSB\, is President of Build Smart\, an independent energy consultancy specializing in California energy modeling\, energy code\, and building performance that supports builders and architects in designing energy-efficient buildings.  Nick is a Certified Energy Analyst (CEA) for residential and an Associate Energy Analyst (AEA) for nonresidential construction by the California Association of Building Energy Consultants (CABEC).  He is a Subject Matter Expert on the Energy Code Ace statewide education team and teaches classes for Southern California Edison on Net Zero Design\, All-electric Homes\, Heat Pumps\, and Selling Clean Energy Homes.  As part of a CalSEED team\, Nick is currently researching phase change material applications in HVAC systems.  Nick was elected to the Board of Directors of CABEC beginning in 2018.  He holds a BA in Economics from Princeton University and an MBA in Manufacturing from the University of Michigan.  He remodeled his own home in 2014 in a deep energy retrofit and has written and presented extensively on Net Zero buildings\, high-performance walls\, and energy efficient building.  Prior to starting Build Smart\, he served as President of Merlex Stucco for 15 years\, a $15 million Southern California stucco manufacturer. \n\n\n\n\n\n\n\nJohn Shipman manages Franklin Energy’s Workforce Education & Energy Codes Services nationally. An award-winning thought leader\, innovator and instructor\, John specializes in network collaboration and equity-based program development. John pioneered green real estate innovation & practices\, supporting California Public Utilities Commission’s clean energy efforts and is a recipient of the coveted EverGreen Award from the National Association of Realtors. John is a licensed General Building Contractor and was one of the first Certified HERS Building Performance Contractors in the State of California. John holds a B.A. in Psychology from UCLA and a Master of Science in Environmental Studies with a focus on Human Behavior\, Society and the Environment from California State University\, Fullerton.
URL:https://aialb-sb.org/event/cote-presents-072424/
CATEGORIES:CEU,COTE,HSW,Programs,ZNCD
ATTACH;FMTTYPE=image/png:https://aialb-sb.org/wp-content/uploads/2023/01/ZNCD-3-1.png
END:VEVENT
BEGIN:VEVENT
DTSTART;TZID=America/Los_Angeles:20240731T000000
DTEND;TZID=America/Los_Angeles:20240731T235959
DTSTAMP:20260422T062838
CREATED:20240617T183648Z
LAST-MODIFIED:20240701T192019Z
UID:22114-1722384000-1722470399@aialb-sb.org
SUMMARY:2024 Architectural Photography Competition
DESCRIPTION:Final day to submit \n\n\n\n\nlearn more
URL:https://aialb-sb.org/event/2024-architectural-photography-competition/
CATEGORIES:Architectural Photography,Programs
ATTACH;FMTTYPE=image/jpeg:https://aialb-sb.org/wp-content/uploads/2022/08/2022-08-21-INTERIOR-Biomuseo-scaled.jpg
END:VEVENT
END:VCALENDAR