BEGIN:VCALENDAR
VERSION:2.0
PRODID:-//AIA-LBSB - ECPv6.15.20//NONSGML v1.0//EN
CALSCALE:GREGORIAN
METHOD:PUBLISH
X-ORIGINAL-URL:https://aialb-sb.org
X-WR-CALDESC:Events for AIA-LBSB
REFRESH-INTERVAL;VALUE=DURATION:PT1H
X-Robots-Tag:noindex
X-PUBLISHED-TTL:PT1H
BEGIN:VTIMEZONE
TZID:America/Los_Angeles
BEGIN:DAYLIGHT
TZOFFSETFROM:-0800
TZOFFSETTO:-0700
TZNAME:PDT
DTSTART:20230312T100000
END:DAYLIGHT
BEGIN:STANDARD
TZOFFSETFROM:-0700
TZOFFSETTO:-0800
TZNAME:PST
DTSTART:20231105T090000
END:STANDARD
BEGIN:DAYLIGHT
TZOFFSETFROM:-0800
TZOFFSETTO:-0700
TZNAME:PDT
DTSTART:20240310T100000
END:DAYLIGHT
BEGIN:STANDARD
TZOFFSETFROM:-0700
TZOFFSETTO:-0800
TZNAME:PST
DTSTART:20241103T090000
END:STANDARD
BEGIN:DAYLIGHT
TZOFFSETFROM:-0800
TZOFFSETTO:-0700
TZNAME:PDT
DTSTART:20250309T100000
END:DAYLIGHT
BEGIN:STANDARD
TZOFFSETFROM:-0700
TZOFFSETTO:-0800
TZNAME:PST
DTSTART:20251102T090000
END:STANDARD
END:VTIMEZONE
BEGIN:VEVENT
DTSTART;TZID=America/Los_Angeles:20240801T180000
DTEND;TZID=America/Los_Angeles:20240801T193000
DTSTAMP:20260422T051848
CREATED:20240723T171059Z
LAST-MODIFIED:20240723T173918Z
UID:22440-1722535200-1722540600@aialb-sb.org
SUMMARY:BARKitecture
DESCRIPTION:BARKitecture: 2nd & PCH\n\n\n\n\nCelebrating dogs! Join us and bring your furry friend! Non-furry friends are allowed too. \n\n\n\n\n\n\n\n\n\nMeet up on the turf at the fountain area inside the 2nd & PCH shopping center at 6 pm  \n\n\n\n\nWe will leave with our pups around 6:30 pm and stroll along the marina . . .  \n\n\n\n\nMeeting back up at Beachwood Brewing at 7 pm \n\n\n\n\nDrinks are on you\, but the appetizers are on us! No reservations required.
URL:https://aialb-sb.org/event/barchitecture-aug-2024/
LOCATION:BARKitecture @ 2nd & PCH\, 6400 E. Pacific Coast Highway\, Long Beach\, California\, 90803
CATEGORIES:BARchitecture,Programs,Social Program
ATTACH;FMTTYPE=image/png:https://aialb-sb.org/wp-content/uploads/2024/07/BARKitecture-web-formatted.png
END:VEVENT
BEGIN:VEVENT
DTSTART;TZID=America/Los_Angeles:20240810T150000
DTEND;TZID=America/Los_Angeles:20240810T190000
DTSTAMP:20260422T051848
CREATED:20240606T012911Z
LAST-MODIFIED:20240606T025059Z
UID:21972-1723302000-1723316400@aialb-sb.org
SUMMARY:DemoChicks Breaking Barriers 5th Anniversary Fundraiser
DESCRIPTION:AIA Long Beach / South Bay is a proud supporter of this program
URL:https://aialb-sb.org/event/demochicks-breaking-barriers-fundraiser/
LOCATION:LOCATION Museum Of Latin American Art (MOLAA)\, 628 Alamitos Ave\, Long Beach\, California\, 90802
CATEGORIES:Community
ATTACH;FMTTYPE=image/png:https://aialb-sb.org/wp-content/uploads/2024/06/DemoChicks.png
END:VEVENT
BEGIN:VEVENT
DTSTART;TZID=America/Los_Angeles:20240820T120000
DTEND;TZID=America/Los_Angeles:20240820T130000
DTSTAMP:20260422T051848
CREATED:20240701T200727Z
LAST-MODIFIED:20240725T011905Z
UID:22292-1724155200-1724158800@aialb-sb.org
SUMMARY:Flexible & Accessible: Solving Design Challenges with Interior Sliding Door Systems
DESCRIPTION:Buy Tickets on Eventbrite\n\nREGISTER\n\n\n\n\n\n\n\n1.0 AIA LU/HSW \n\n\n\nDescription: \n\n\n\nIn this course\, participants will learn how commercial interior sliding doors solve challenges for a range of commercial spaces with their ability to attenuate sound\, improve space efficiency\, promote design flexibility and visually complement today’s modern interiors. In addition to highlighting door design innovations\, this course will showcase how flexible openings can benefit projects in healthcare\, education and office settings both immediately and in the long-term. Participants will also learn how sliding doors can support complex project needs such as acoustics\, life safety\, physical security\, ventilation\, durability and accessibility without compromising aesthetics. \n\n\n\nLearning Objectives: \n\n\n\n\nDescribe the main innovations in interior sliding doors and how they contribute to privacy\, accessibility\, and flexibility goals\n\n\n\nGain a better understanding of how interior sliding doors can address with the design technical project requirements such as fire and smoke ratings\, accessibility needs and physical security\n\n\n\nExplore the different types of sliding door assemblies and how they contribute to lean or space efficient design\n\n\n\nIllustrate solutions\, through case studies\, to common challenges in healthcare facilities\, schools\, offices and more\n\n\n\n\n\n\n\n\n\n\n\n\nBe sure to register before adding to your calendar! \n\n\n\n\nBuy Tickets on Eventbrite\n\nREGISTER
URL:https://aialb-sb.org/event/wow-program-082024/
CATEGORIES:CEU,HSW,Programs,W.O.W.
ATTACH;FMTTYPE=image/png:https://aialb-sb.org/wp-content/uploads/2023/02/WOW-program.png
ORGANIZER;CN="Allegion - Stephen Bellingham | CSI%2C CDT | Architectural Services Consultant":MAILTO:stephen.bellingham@allegion.com
END:VEVENT
BEGIN:VEVENT
DTSTART;TZID=America/Los_Angeles:20240822T163000
DTEND;TZID=America/Los_Angeles:20240822T183000
DTSTAMP:20260422T051848
CREATED:20240820T154310Z
LAST-MODIFIED:20240822T231547Z
UID:22710-1724344200-1724351400@aialb-sb.org
SUMMARY:Lincoln Hall Acoustics Meet and Greet
DESCRIPTION:THIS PROGRAM HAS BEEN CANCELED DUE TO A FAMILY EMERGENCY – apologies for the inconvenience\n\n\n\nNo cost to attend! \n\n\n\nThirsty Thursday @ rdc. / studioneleven\n\n\n\nA networking opportunity for Architects and Designers! Meet representatives from Lincoln Hall Acoustics\, learn about projects they’ve worked on and see product samples. Wine & cheese provided. \n\n\n\nFree 90-minute parking nearby in the public structure \n\n\n\n\n\n\nBuy Tickets on Eventbrite\n\nRSVP
URL:https://aialb-sb.org/event/meet-and-greet-082224/
LOCATION:rdc. / Studio One Eleven\, 245 E. 3rd St.\, Long Beach\, CA\, 90802\, United States
CATEGORIES:BARchitecture
ATTACH;FMTTYPE=image/png:https://aialb-sb.org/wp-content/uploads/2024/01/LINCOL-HALL-ACOUSTICS.png
END:VEVENT
BEGIN:VEVENT
DTSTART;TZID=America/Los_Angeles:20240828T120000
DTEND;TZID=America/Los_Angeles:20240828T130000
DTSTAMP:20260422T051848
CREATED:20240805T191743Z
LAST-MODIFIED:20250814T003513Z
UID:22508-1724846400-1724850000@aialb-sb.org
SUMMARY:COTE Presents: Energy Code Compliance Forms - A Goldmine of Design Insights
DESCRIPTION:AIA Long Beach / South Bay & Southern California Edison\, a Collaborative Partnership \n\n\n\n\n\n1.0 AIA LU/HSW + 1.0 ZNCD \n\n\n\n\nBuy Tickets on Eventbrite\n\nBuy Tickets\n\n\n\n\n\n\n\nZOOM LOG-IN WILL BE EMAILED ONE DAY IN ADVANCE OF THE WEBINAR \n\n\n\nDescription: \n\n\n\nIs complying with the Energy Code just another chore? It doesn’t have to be! Gain valuable insight into your projects\, collaborate with your team\, AND build buildings that lower energy use and operational carbon. See how to transform energy code compliance from a tedious task into a strategic advantage for your architectural practice. \n\n\n\nLearning objectives: \n\n\n\n\nDetermine Energy Code requirements based on project scope of work.   \n\n\n\nIdentify the various compliance pathways available and determine which option is most appropriate for the project.   \n\n\n\nVerify that design documents align with the chosen compliance pathway by utilizing the Certificate of Compliance as a comprehensive checklist.   \n\n\n\nEmploy the performance approach to offer guidance on measuring energy usage and operational carbon of the proposed building design. \n\n\n\n\nSpeaker: \n\n\n\n\n\n\n\nGina Rodda is currently the Owner of Gabel Energy out of Castro Valley\, California\, and has been in the energy modeling field since 1991. She is an energy analyst performing a wide range of responsibilities in both residential and nonresidential construction pertaining to compliance standards and energy modeling within the United States\, while specializing in California Building Code. California local ordinances (or Reach codes) supporting electrification and electric preferred for multifamily\, hotel/motel and nonresidential buildings dictates much of the work Gabel Energy provides in Northern California in which Gabel Energy has been an active leader in heat pump mechanical equipment design choices as supported by the Energy Code and compliance software modeling. \n\n\n\nGina has worked with Energy Code Ace as a subject matter expert developing and supporting trainings\, resources and tools on the Residential and Nonresidential Title 24 Building Energy Efficiency Standards for building department staff\, energy consultants\, engineers\, contractors and architects. Gina also works as a respected subject matter expert informing the statewide code development process since the 2013 Building Code cycle. \n\n\n\nGina’s Certifications: \n\n\n\n\nResidential and Nonresidential Certified Energy Analyst (CEA) via CABEC\n\n\n\nLEED Accredited Professional (AP) via USGBC\n\n\n\nEducation: Bachelor of Arts from University of the Pacific (UOP) graduated 1989
URL:https://aialb-sb.org/event/cote-presents-082824/
CATEGORIES:CEU,COTE,HSW,Programs,ZNCD
ATTACH;FMTTYPE=image/png:https://aialb-sb.org/wp-content/uploads/2023/01/ZNCD-3-1.png
END:VEVENT
END:VCALENDAR