BEGIN:VCALENDAR
VERSION:2.0
PRODID:-//AIA-LBSB - ECPv6.15.20//NONSGML v1.0//EN
CALSCALE:GREGORIAN
METHOD:PUBLISH
X-WR-CALNAME:AIA-LBSB
X-ORIGINAL-URL:https://aialb-sb.org
X-WR-CALDESC:Events for AIA-LBSB
REFRESH-INTERVAL;VALUE=DURATION:PT1H
X-Robots-Tag:noindex
X-PUBLISHED-TTL:PT1H
BEGIN:VTIMEZONE
TZID:America/Los_Angeles
BEGIN:DAYLIGHT
TZOFFSETFROM:-0800
TZOFFSETTO:-0700
TZNAME:PDT
DTSTART:20230312T100000
END:DAYLIGHT
BEGIN:STANDARD
TZOFFSETFROM:-0700
TZOFFSETTO:-0800
TZNAME:PST
DTSTART:20231105T090000
END:STANDARD
BEGIN:DAYLIGHT
TZOFFSETFROM:-0800
TZOFFSETTO:-0700
TZNAME:PDT
DTSTART:20240310T100000
END:DAYLIGHT
BEGIN:STANDARD
TZOFFSETFROM:-0700
TZOFFSETTO:-0800
TZNAME:PST
DTSTART:20241103T090000
END:STANDARD
BEGIN:DAYLIGHT
TZOFFSETFROM:-0800
TZOFFSETTO:-0700
TZNAME:PDT
DTSTART:20250309T100000
END:DAYLIGHT
BEGIN:STANDARD
TZOFFSETFROM:-0700
TZOFFSETTO:-0800
TZNAME:PST
DTSTART:20251102T090000
END:STANDARD
END:VTIMEZONE
BEGIN:VEVENT
DTSTART;TZID=America/Los_Angeles:20241106T120000
DTEND;TZID=America/Los_Angeles:20241106T130000
DTSTAMP:20260422T011316
CREATED:20241017T170052Z
LAST-MODIFIED:20241017T201821Z
UID:23203-1730894400-1730898000@aialb-sb.org
SUMMARY:Weekday Online Webinar: Reinforcing the Design Intent
DESCRIPTION:Buy Tickets on Eventbrite\n\nREGISTER\n\n\n\n\n\n\n\n1.0 AIA LU/HSW \n\n\n\n\n\n\n\nLive webinar presented by AIA LBSB Gold Level Sponsor\, arcadia \n\n\n\nDescription: \n\n\n\nThis course will explain the differences between storefront and curtain wall designs and functions while exploring the areas of performance\, cost\, and applications like LEED\, DECLARE\, EPDs\, energy efficiency\, and specifications. This session will allow the participant to discover new materials and methods\, reinforcing the design intent while enhancing the architectural viewpoint. \n\n\n\nObjectives: \n\n\n\n1. Explore Various Aluminum Product Mix and Architectural Services offered \n\n\n\n2. Understand the Correlation and Intent Specific to Specifications and Architectural Details \n\n\n\n3. Learn product Standards and Guide Specifications \n\n\n\n4. Understand the Guidelines for Specifying and Detailing Wall Systems \n\n\n\n5. Understand the Difference Between Storefront Vs. Curtainwall \n\n\n\n6. Learn about energy efficiency options within aluminum fenestration \n\n\n\nProgram Specifics: \n\n\n\nLength: One hour \n\n\n\nCredits: 1 LU/HSW \n\n\n\nHSW Justification: ADA & LEED Course Number: SFCW1 Provider Name: Arcadia\, Inc. Provider Number: T099 \n\n\n\nLOG-IN LINK WILL BE EMAILED ONE DAY IN ADVANCE OF THE WEBINAR
URL:https://aialb-sb.org/event/wow-110624/
CATEGORIES:HSW,Programs,W.O.W.
ATTACH;FMTTYPE=image/png:https://aialb-sb.org/wp-content/uploads/2024/10/WOW-web-formatted.png
END:VEVENT
BEGIN:VEVENT
DTSTART;TZID=America/Los_Angeles:20241107T110000
DTEND;TZID=America/Los_Angeles:20241107T120000
DTSTAMP:20260422T011316
CREATED:20241021T230459Z
LAST-MODIFIED:20241030T180409Z
UID:23235-1730977200-1730980800@aialb-sb.org
SUMMARY:REDI Speaker Series
DESCRIPTION:Equity\, Diversity & Inclusion Committee (EDI) is a committee of the AIA Long Beach / South Bay \n\n\n\n\n\n1.0 LU  \n\n\n\n\nBuy Tickets on Eventbrite\n\nREGISTER\n\n\n\n\n\n\n\nThe REDI Speaker Series aims to improve our practice and make it more inclusive by creating a spotlight for those who are traditionally underrepresented in our field. \n\n\n\nProgram description: \n\n\n\n\nWe are excited to welcome Angele Robinson-Gaylord and our AIA community to join our REDI monthly meeting on November 7th at 11:00am. \n\n\n\n\nAt RDC we believe in supporting equity goals both in our project outcomes and in our internal processes.  To that end\, RDC formed the REDI committee in 2020 and we have been holding a monthly check in to come together to discuss current events\, share what we are reading/learning about\, and plan for upcoming volunteer/fundraising opportunities\, because it was not enough to have one town hall in 2020 and move on.  While this has mostly been an internal company forum\, we are exploring opportunities to expand. \n\n\n\nWe are fortunate to be joined by Angele\, Senior VP of Store Development and Design at Starbucks\, so she can share her story of navigating her own career path from law through to working in commercial real estate\, to now be leading a retail store development for retail brands which includes leading their teams of designers!  Join us to hear\, from her perspective and the motivation than can come from being told no! \n\n\n\nLearning Objectives \n\n\n\nUnderstanding the Importance of Diversity and Inclusion: \n\n\n\n\nRecognize the significance of diversity and inclusion in professional fields\, particularly architecture or related disciplines.\n\n\n\nGain insight into how diversity at leadership levels can inspire and empower underrepresented groups.\n\n\n\n\nExploring Varied Career Paths: \n\n\n\n\nLearn about the diverse career paths available within the AEC industry.\n\n\n\nUnderstand the challenges and opportunities associated with navigating professional life as a person of color or from a disadvantaged background.\n\n\n\n\nGaining Strategies for Overcoming Barriers: \n\n\n\n\nAcquire practical strategies for breaking through barriers and biases in the workplace.\n\n\n\nUnderstand how guest speakers utilized networking\, mentorship\, skill development\, and self-advocacy to advance their careers.\n\n\n\nDevelop proactive measures to overcome adversity and foster career progression.\n\n\n\n\nLeadership and Trailblazing: \n\n\n\n\nRecognize the leadership qualities demonstrated by the guest speakers as trailblazers in their fields.\n\n\n\nAnalyze how leadership roles and diversity can intersect to drive positive organizational change.\n\n\n\nIdentify opportunities for personal leadership development and the potential to inspire change within one’s own organization.\n\n\n\n\nThank you to our sponsors!
URL:https://aialb-sb.org/event/redi-speaker-series-2/
CATEGORIES:CEU,Programs
ATTACH;FMTTYPE=image/png:https://aialb-sb.org/wp-content/uploads/2023/07/EDI-logo-800x800-1.png
END:VEVENT
BEGIN:VEVENT
DTSTART;TZID=America/Los_Angeles:20241108T173000
DTEND;TZID=America/Los_Angeles:20241108T190000
DTSTAMP:20260422T011316
CREATED:20240917T005751Z
LAST-MODIFIED:20241021T205625Z
UID:22932-1731087000-1731092400@aialb-sb.org
SUMMARY:BARchitecture Special Edition: AIA California Board Installation & Social Happy Hour
DESCRIPTION:Join us for our monthly social! No reservations required. \n\n\n\n\nThis Special Edition of BARchitecture (this month on a Friday) we will celebrate the installation of AIA LBSB Past-President\, Carina Mills\, AIA\, as the 2025 AIA California President. Please join us\, along with AIA colleagues from across the state for some appetizers and beverages ~ on us!
URL:https://aialb-sb.org/event/barchitecture-nov-2024/
LOCATION:rdc. / Studio One Eleven\, 245 E. 3rd St.\, Long Beach\, CA\, 90802\, United States
CATEGORIES:BARchitecture,Programs,Social Program
ATTACH;FMTTYPE=image/png:https://aialb-sb.org/wp-content/uploads/2020/09/BARch-Special-Edition.png
END:VEVENT
BEGIN:VEVENT
DTSTART;TZID=America/Los_Angeles:20241114T093000
DTEND;TZID=America/Los_Angeles:20241114T113000
DTSTAMP:20260422T011316
CREATED:20240222T155416Z
LAST-MODIFIED:20241111T194922Z
UID:20414-1731576600-1731583800@aialb-sb.org
SUMMARY:Accessibility: 5-hr License Renewal Seminars (session 1)
DESCRIPTION:THE FIRST OF TWO SESSIONS TOTALLING 5 HOURS FOR CALIFORNIA LICENSE RENEWAL\n\n\n\nNovember 14\, 9:30 – 11:30 + November 15\, 9:30 – 12:30 = 5 Hours  (separate registration required) \n\n\n\n\n\n$50 AIA Members \n\n\n\n$100 General Admission \n\n\n\n\n\n\n\n\nBuy Tickets on Eventbrite\n\nREGISTER\n\n\n\n\n\n\n\n\n\n\n\nAccessibility — A Photographic Look at Recurrent Non-Complying Elements\n\n\n\nThursday\, November 14\, 2024\, 9:30 am – 11:30 am \n\n\n\nREGISTRATION CLOSES TUES\, NOV 12\, 2 PM \n\n\n\n2.0 AIA LU/HSW \n\n\n\nDESCRIPTION \n\n\n\nADA and other accessibility regulations have been around for well over 25 years\, yet we still see items of non-compliance even in new construction. Is this due to a lack of knowledge\, or incomplete drawings and specifications\, or sloppy construction\, or is it that the topic has become so complex that it is difficult to synthesize all of the relevant information? And many of the items are indeed extremely technical yet the solutions need to be incorporated at the early non-technical design stages. This presentation will look at many common items in non-compliance often found in new construction and alterations. Learn thru a visual synthesis of photos with pertinent regulation call-outs of numerous existing installations. We will discuss what went wrong\, was missing\, or misunderstood\, in order to recognize Access issues to be on the look-out for and how to better incorporate pertinent information into construction documents and specifications. \n\n\n\nSUMMARY \n\n\n\nBe on the look out for many common items in non-compliance often found in new construction and alterations and become aware of items needing special attention from design thru construction – a visual synthesis of photos with pertinent regulation call-outs for numerous installations. \n\n\n\nLEARNING OBJECTIVES \n\n\n\n\nIdentify typical non-complying items before they get built.\n\n\n\nRecognize items to be addressed early for compliant Access later.\n\n\n\nDistinguish those elements requiring more attention during design and construction for compliant installation.\n\n\n\nDiscuss what is required for successful Access implementation.\n\n\n\n\n\n\n\n\nIMPORTANT INFORMATION: \n\n\n\nThe Zoom log-in link will be sent one day in advance of the program. \n\n\n\nYour Zoom screen name must match the name used to register. \n\n\n\n\n\n\n\nREGISTER FOR THE SECOND SESSION\, Accessible Environments As We Age \n\n\n\n\n\n\n\nPresented by
URL:https://aialb-sb.org/event/accessibility-5-hr-license-renewal-seminar/
CATEGORIES:Accessibility,CEU,HSW,Programs
ATTACH;FMTTYPE=image/png:https://aialb-sb.org/wp-content/uploads/2022/10/Stepping-Thru-Accessibility-1.png
END:VEVENT
BEGIN:VEVENT
DTSTART;TZID=America/Los_Angeles:20241115T093000
DTEND;TZID=America/Los_Angeles:20241115T123000
DTSTAMP:20260422T011316
CREATED:20240702T011624Z
LAST-MODIFIED:20241111T200042Z
UID:22326-1731663000-1731673800@aialb-sb.org
SUMMARY:Accessibility: 5-hr License Renewal Seminars (session 2)
DESCRIPTION:THE SECOND OF TWO SESSIONS TOTALLING 5 HOURS FOR CALIFORNIA LICENSE RENEWAL\n\n\n\n\n\n$75 AIA Members \n\n\n\n$125 General Admission \n\n\n\n\n\n\n\n\nBuy Tickets on Eventbrite\n\nREGISTER\n\n\n\n\n\n\n\n\n\n\n\nAccessible Environments As We Age\n\n\n\nFriday\, November 15\, 2024\, 9:30 am – 12:30 pm \n\n\n\nREGISTRATION CLOSES WED\, NOV 13\, 2 PM \n\n\n\n3.0 AIA LU/HSW \n\n\n\nDESCRIPTION \n\n\n\nThe silver tsunami is here! Now that the baby boomer generation is aging\, we need to consider how this impacts our built environment – an overview of design considerations and lighting which can easily be addressed now to not only allow us to age in place later but also to have others visit us whether they have issues concerning accessibility or aging\, whether just slowing down\, or have a more vigorous disability. This seminar addresses more than just the minimum standards of technical accessible design\, but rather good design practices and implementation overall. We will discuss common areas of concern and issues of aging and our built environment thru photographs of both good and more challenging examples of typical elements. \n\n\n\nSUMMARY \n\n\n\nAn overview of design considerations which can easily be addressed now to not only allow us to age in place later but also have others visit us whether they have issues concerning accessibility or aging. \n\n\n\nLEARNING OBJECTIVES \n\n\n\n\nUnderstand how different types of disabilities and aging impact our navigation of the built environment.\n\n\n\nRecognize the impact of lighting and color and how it affects us and our health.\n\n\n\nLearn about different items that can easily be implemented now for aging in place later.\n\n\n\nDistinguish and identify those elements and hazards to avoid that can be more of a challenge as we age.\n\n\n\n\n\n\n\n\nIMPORTANT INFORMATION: \n\n\n\nThe Zoom log-in link will be sent one day in advance of the program. \n\n\n\nYour Zoom screen name must match the name used to register. \n\n\n\n\n\n\n\nPresented by
URL:https://aialb-sb.org/event/accessibility-5-hr-license-renewal-seminar-2/
CATEGORIES:Accessibility,CEU,HSW,Programs
ATTACH;FMTTYPE=image/png:https://aialb-sb.org/wp-content/uploads/2022/10/Stepping-Thru-Accessibility-1.png
END:VEVENT
BEGIN:VEVENT
DTSTART;TZID=America/Los_Angeles:20241115T150000
DTEND;TZID=America/Los_Angeles:20241115T210000
DTSTAMP:20260422T011316
CREATED:20241017T235337Z
LAST-MODIFIED:20241017T235338Z
UID:23228-1731682800-1731704400@aialb-sb.org
SUMMARY:AIA California Architecture Fair\, Award Ceremony & Reception
DESCRIPTION:REGISTER\n\n\n\n\nJoin us for the second annual AIA California Awards Celebration\, a dynamic in-person event celebrating excellence in architecture! This year’s ceremony promises to be an extraordinary evening\, spotlighting innovative projects\, visionary firms\, and outstanding professionals\, alongside special participation from students at Woodbury University’s College of Architecture.
URL:https://aialb-sb.org/event/aia-california-111524/
LOCATION:Woodbury University\, 7500 N Glenoaks Blvd\, Burbank\, California\, 91504
CATEGORIES:AIA California
ATTACH;FMTTYPE=image/png:https://aialb-sb.org/wp-content/uploads/2024/10/All-Awards-Colors-1600x1600rtcorner2.png
END:VEVENT
BEGIN:VEVENT
DTSTART;TZID=America/Los_Angeles:20241116T103000
DTEND;TZID=America/Los_Angeles:20241116T153000
DTSTAMP:20260422T011316
CREATED:20241010T002252Z
LAST-MODIFIED:20241111T200134Z
UID:23154-1731753000-1731771000@aialb-sb.org
SUMMARY:Tour & Social with AIA California Desert Chapter
DESCRIPTION:Whitewater Legacy: Preserving the Past\, Flowing Forward\n\n\n\nJoin us in the desert!  \n\n\n\n\nBuy Tickets on Eventbrite\n\nREGISTER\n\n\n\n\n\n\n\n\n\n$10 Students \n\n\n\nPrices increase November 8 \n\n\n\n3.0 AIA LU/HSW  \n\n\n\n\n\n\n\n\n\n\n\n10:30 am Meet Up: Visitor’s Center Wildland Conservancy Historical Building\, 9160 Whitewater Canyon Rd\, Whitewater\, CA 92282 \n\n\n\nLight breakfast snack provided; bring your own water bottle. Please wear comfortable shoes. \n\n\n\n11:00 am – 2:00 pm: Hike / guided tour and presentation led by Jack Thompson \n\n\n\n12:30 – 1:30 pm: Lunch\, networking\, and wind turbine presentation at the home of Nader Ghassemlou\, Assoc. AIA \n\n\n\nLunch\, beer\, wine\, and sodas will be provided. \n\n\n\n1:30 – 2:30 pm: Historical\, Preservation\, and Eolic Energy presentation by Kerry Berman \n\n\n\n2:30 – 3:30 pm: Social + wrap up – Kathy Friedle\, Assoc. AIA \n\n\n\nDescription: \n\n\n\nIn addition to meeting new Architects and design professionals\, the goal of this event is to introduce architects\, designers and interested persons both AIA members and non-members\, to the Whitewater Reserve. The focus is on exploring the area’s historical significance\, cultural value\, and current environmental conditions. This event aims to foster a deeper connection with the natural landscape\, providing inspiration for sustainable architectural practices while raising awareness about the history and the challenges faced by the region today. \n\n\n\nLearning objectives: \n\n\n\n\nParticipants will explain the geological evolution of White Water\, from its origins under the Pacific Ocean to the present-day landscape\, and analyze its significance in site development and construction.\n\n\n\nParticipants will investigate the historical role of Native American Cahuilla land use and later settlers such as Pauline Weaver\, identifying how historical land use practices can inform modern site preservation.\n\n\n\nParticipants will analyze the valley’s capacity for various renewable energy sources\, including wind\, solar\, and geothermal\, and discuss their integration into sustainable site planning and design.\n\n\n\nParticipants will summarize the environmental and conservation goals of the Sand to Snow National Monument and evaluate how these objectives can influence sustainable site design and wildlife protection.\n\n\n\n\n\n\n\n\nMake a weekend of it\, explore the California desert!\n\n\n\nSearch nearby hotels\n\n\n\nThank you to our sponsor\, Wills – Providing design solutions with global\, market⁠-⁠leading materials\n\n\n\n\n\n\n\n\n\nDisclaimer:Due to the outdoor nature of this event\, all attendees must be able to navigate stairs\, inclines\, and tight spaces\, and should be prepared to spend time outdoors in direct sunlight and heat. Please note that windy conditions in the area are common\, and some specific weather conditions may be present.  All participants must be 21 years or older to attend.  The hike will be light\, but we recommend wearing comfortable shoes\, a hat\, and bringing water and sunscreen. Public parking is available at the Whitewater Preserve site and at Nader’s house. Please note that some of the parking areas may not be paved.
URL:https://aialb-sb.org/event/tour-aia-calif-desert/
LOCATION:The Wildlands Conservancy Whitewater Preserve\, 9160 Whitewater Canyon Rd\, Whitewater\, CA\, 92282
CATEGORIES:CEU,HSW
ATTACH;FMTTYPE=image/jpeg:https://aialb-sb.org/wp-content/uploads/2024/10/ww-logo-scaled-e1728519677562.jpg
END:VEVENT
END:VCALENDAR