BEGIN:VCALENDAR
VERSION:2.0
PRODID:-//AIA-LBSB - ECPv6.15.20//NONSGML v1.0//EN
CALSCALE:GREGORIAN
METHOD:PUBLISH
X-WR-CALNAME:AIA-LBSB
X-ORIGINAL-URL:https://aialb-sb.org
X-WR-CALDESC:Events for AIA-LBSB
REFRESH-INTERVAL;VALUE=DURATION:PT1H
X-Robots-Tag:noindex
X-PUBLISHED-TTL:PT1H
BEGIN:VTIMEZONE
TZID:America/Los_Angeles
BEGIN:DAYLIGHT
TZOFFSETFROM:-0800
TZOFFSETTO:-0700
TZNAME:PDT
DTSTART:20240310T100000
END:DAYLIGHT
BEGIN:STANDARD
TZOFFSETFROM:-0700
TZOFFSETTO:-0800
TZNAME:PST
DTSTART:20241103T090000
END:STANDARD
BEGIN:DAYLIGHT
TZOFFSETFROM:-0800
TZOFFSETTO:-0700
TZNAME:PDT
DTSTART:20250309T100000
END:DAYLIGHT
BEGIN:STANDARD
TZOFFSETFROM:-0700
TZOFFSETTO:-0800
TZNAME:PST
DTSTART:20251102T090000
END:STANDARD
BEGIN:DAYLIGHT
TZOFFSETFROM:-0800
TZOFFSETTO:-0700
TZNAME:PDT
DTSTART:20260308T100000
END:DAYLIGHT
BEGIN:STANDARD
TZOFFSETFROM:-0700
TZOFFSETTO:-0800
TZNAME:PST
DTSTART:20261101T090000
END:STANDARD
END:VTIMEZONE
BEGIN:VEVENT
DTSTART;TZID=America/Los_Angeles:20250109T180000
DTEND;TZID=America/Los_Angeles:20250109T193000
DTSTAMP:20260421T223327
CREATED:20241119T162434Z
LAST-MODIFIED:20241209T201607Z
UID:23441-1736445600-1736451000@aialb-sb.org
SUMMARY:BARchitecture
DESCRIPTION:BARchitecture: Joe Jost’s\n\n\n\n\n\n\n\nBARchitecture – 2025 Kickoff Event at our Favorite Watering Hole! \n\n\n\nJoin us for our monthly social. Come see old friends and make some new ones. Drinks are on you\, but the appetizers are on us! No reservations required. \n\n\n\nNote: Joe Jost’s is a cash-only establishment.
URL:https://aialb-sb.org/event/barchitecture-jan-2025/
LOCATION:Joe Jost’s\, 2803 East Anaheim Street\, Long Beach\, CA\, 90804\, United States
CATEGORIES:BARchitecture,Programs,Social Program
ATTACH;FMTTYPE=image/png:https://aialb-sb.org/wp-content/uploads/2020/12/BARchitecture1.png
END:VEVENT
BEGIN:VEVENT
DTSTART;TZID=America/Los_Angeles:20250113T120000
DTEND;TZID=America/Los_Angeles:20250220T235900
DTSTAMP:20260421T223327
CREATED:20250114T003305Z
LAST-MODIFIED:20250127T173752Z
UID:23883-1736769600-1740095940@aialb-sb.org
SUMMARY:DA25 Early Submission Registration
DESCRIPTION:The AIA Long Beach / South Bay biennial Design Awards program is open for project submissions registration. \n\n\n\n\n\nEarly registration:  January 13 – February 20 \n\n\n\nLate registration: February 21 – March 3  PRICE INCREASES $100 \n\n\n\n\n\n\n\nLEARN MORE and REGISTER YOUR PROJECT \n\n\n\n\n\n\n\nSPONSOR THIS PROGRAM \n\n\n\nIncrease visibility for your organization – become a Platinum sponsor of the AIA LBSB and Design Awards 2025. Contact us to learn about the benefits.
URL:https://aialb-sb.org/event/da25-early-submission-registration/
CATEGORIES:Design Awards,Programs
ATTACH;FMTTYPE=image/png:https://aialb-sb.org/wp-content/uploads/2024/12/AIA-Long-Beach-South-Bay-biennial-Design-Awards-.png
END:VEVENT
BEGIN:VEVENT
DTSTART;TZID=America/Los_Angeles:20250123T180000
DTEND;TZID=America/Los_Angeles:20250123T200000
DTSTAMP:20260421T223327
CREATED:20241219T175057Z
LAST-MODIFIED:20250814T003643Z
UID:23624-1737655200-1737662400@aialb-sb.org
SUMMARY:Rooted: A Biophilic Design Forum
DESCRIPTION:Buy Tickets on Eventbrite\n\nREGISTER\n\n\n\n\n\n\n\n2.0 AIA LU/HSW \n\n\n\nA Committee On The Environment (COTE) Presentation \n\n\n\n\nDescription:   \n\n\n\nAs Climate Change continues to grip our environment and challenges our future\, a time to seek natural building processes has never been more urgent. Building off the age-old construction techniques of our ancestors and seeking new technologies to design and build with nature to achieve Biophilic\, Natural\, and low/no Embodied Carbon buildings is the objective of this forum. \n\n\n\nOpen to the public\, but with a concentrated effort to promote attendance from architects\, engineers\, developers\, and business decision makers\, the format of this forum will be short presentations from select guest speakers\, followed by a panel discussion. \n\n\n\n\nTopics Covered: \n\n\n\n\nOverview of what Biophilic Design is and why it is important.\n\n\n\nReview of traditional building methods.\n\n\n\nReview of established\, as well as up-and-coming Natural Building technologies.\n\n\n\nAudience driven question and answer session.\n\n\n\n\nLearning Objectives: \n\n\n\n\nDiscuss the Intersection of Traditional and Modern Building Practices to identify design strategies that reduce environmental impact\, improve occupant health\, and ensure resilient\, equitable access to sustainable buildings for future generations.\n\n\n\nExplore Biophilic Design to understand how integrating natural elements\, patterns\, and systems into built environments enhances the physical health of occupants and fosters a stronger connection to nature.\n\n\n\nExamine Natural Building Techniques that prioritize the use of locally available\, minimally processed materials to create sustainable\, healthy living environments that protect occupants from harmful pollutants and improve indoor air quality.\n\n\n\nEvaluate Low Embodied Carbon Materials for their potential to reduce greenhouse gas emissions across their lifecycle\, addressing environmental welfare while promoting safer and healthier construction processes.\n\n\n\n\nPanelists: \n\n\n\n\nAnthony Dente\, PE\, LEED AP\, Verdant Structural Engineers \n\n\n\nRead bio \n\n\n\n\n\n\n\n\n\n\n\n\n\nMike Romanowski\, SE\, WoodWorks \n\n\n\nRead bio \n\n\n\n\n\n\n\n\n\n\n\n\n\nIan Svilokos\, PIE \n\n\n\nRead bio \n\n\n\n\n\n\n\n\n\n\n\n\n\nAaron Olko\, AIA\, tlrs Architecture – moderator \n\n\n\nRead bio \n\n\n\n\n\n\n\n\n\n\n\n\nThank you to our program sponsors! \n\n\n\n\n\n\n\nGilbert Aguirre – L2specialties.com \n\n\n\nLance Collins\, AIA – Partner Energy \n\n\n\nAnne Frederiksen –  PLP SoCal \n\n\n\nKevin Berg – LINX Lighting + Controls \n\n\n\nMargarito Castillo – Castillo Engineering \n\n\n\n\nWine Sponsor \n\n\n\nhttps://thehiddensea.com
URL:https://aialb-sb.org/event/rooted-a-biophilic-design-forum/
LOCATION:TLRS Architecture\, 832 Hermosa Ave\, Hermosa Beach\, CA\, 90254
CATEGORIES:CEU,COTE,HSW,Programs
ATTACH;FMTTYPE=image/png:https://aialb-sb.org/wp-content/uploads/2025/01/Rooted-for-web-calendar.png
END:VEVENT
END:VCALENDAR