BEGIN:VCALENDAR
VERSION:2.0
PRODID:-//AIA-LBSB - ECPv6.15.20//NONSGML v1.0//EN
CALSCALE:GREGORIAN
METHOD:PUBLISH
X-WR-CALNAME:AIA-LBSB
X-ORIGINAL-URL:https://aialb-sb.org
X-WR-CALDESC:Events for AIA-LBSB
REFRESH-INTERVAL;VALUE=DURATION:PT1H
X-Robots-Tag:noindex
X-PUBLISHED-TTL:PT1H
BEGIN:VTIMEZONE
TZID:America/Los_Angeles
BEGIN:DAYLIGHT
TZOFFSETFROM:-0800
TZOFFSETTO:-0700
TZNAME:PDT
DTSTART:20240310T100000
END:DAYLIGHT
BEGIN:STANDARD
TZOFFSETFROM:-0700
TZOFFSETTO:-0800
TZNAME:PST
DTSTART:20241103T090000
END:STANDARD
BEGIN:DAYLIGHT
TZOFFSETFROM:-0800
TZOFFSETTO:-0700
TZNAME:PDT
DTSTART:20250309T100000
END:DAYLIGHT
BEGIN:STANDARD
TZOFFSETFROM:-0700
TZOFFSETTO:-0800
TZNAME:PST
DTSTART:20251102T090000
END:STANDARD
BEGIN:DAYLIGHT
TZOFFSETFROM:-0800
TZOFFSETTO:-0700
TZNAME:PDT
DTSTART:20260308T100000
END:DAYLIGHT
BEGIN:STANDARD
TZOFFSETFROM:-0700
TZOFFSETTO:-0800
TZNAME:PST
DTSTART:20261101T090000
END:STANDARD
END:VTIMEZONE
BEGIN:VEVENT
DTSTART;TZID=America/Los_Angeles:20250403T180000
DTEND;TZID=America/Los_Angeles:20250403T193000
DTSTAMP:20260421T185824
CREATED:20250319T174816Z
LAST-MODIFIED:20250403T140754Z
UID:24597-1743703200-1743708600@aialb-sb.org
SUMMARY:BARchitecture
DESCRIPTION:BARchitecture: Ten Mile Brewing\n\n\n\nDrinks are on you\, but the appetizers are on us! No reservations required. \n\n\n\n\n\n\n\nWe’re about real connection\, gathered around a table\, with great food and drink. \n\n\n\n\nNOTE: It is expected to be a busy night with the parking lot filling up rather quickly. We have been informed that it is okay to park in the adjacent lot on Lemon Ave. if needed for overflow. Thank you!  \n\n\n\n\n\n\n\n\nSponsored by\, \n\n\n\n\n\n\n\nPartition Specialties\, Inc. – The Space Management Solutions Provider \n\n\n\nMeg Sims\, Architectural Sales Consultant and AIA LBSB Allied Member
URL:https://aialb-sb.org/event/barchitecture-april-2025/
LOCATION:Ten Mile Brewing Company\, 1136 E Willow\, Signal Hill\, CA\, 90755
CATEGORIES:BARchitecture,Programs,Social Program
ATTACH;FMTTYPE=image/png:https://aialb-sb.org/wp-content/uploads/2020/12/BARchitecture1.png
END:VEVENT
BEGIN:VEVENT
DTSTART;TZID=America/Los_Angeles:20250405T100000
DTEND;TZID=America/Los_Angeles:20250405T140000
DTSTAMP:20260421T185824
CREATED:20250402T025840Z
LAST-MODIFIED:20250402T030405Z
UID:24659-1743847200-1743861600@aialb-sb.org
SUMMARY:Earth Day Family Celebration
DESCRIPTION:FREE event!Electric vehicle exhibits Electric household appliance displays: better health\, better performance\, lower cost.Kids Play AreaCraftsVegan Friendly FoodInformation BoothsRaffle Prizes
URL:https://aialb-sb.org/event/earth-day-family-celebration-2025/
LOCATION:Don Knabe Community Regional Park\, 19700 Bloomfiled Ave\, Cerritos\, California\, 90703
CATEGORIES:Community,Programs
ATTACH;FMTTYPE=image/jpeg:https://aialb-sb.org/wp-content/uploads/2025/04/JH-Earth-Day-2025.04.05-FlyerV3-Copy.jpg
END:VEVENT
BEGIN:VEVENT
DTSTART;TZID=America/Los_Angeles:20250409T120000
DTEND;TZID=America/Los_Angeles:20250409T130000
DTSTAMP:20260421T185824
CREATED:20250309T010632Z
LAST-MODIFIED:20250309T011340Z
UID:24554-1744200000-1744203600@aialb-sb.org
SUMMARY:Fire Response Session 3 | Landscape & Defensible Space: Designing for Fire Safety
DESCRIPTION:This session qualifies for 1 LU/HSW (currently pending approval; live webinar attendees only). \n\n\n\n\nREGISTER\n\n\n\n\nFREE registration for this webinar will close at 12pm PT on Wednesday\, April 9\, 2025. \n\n\n\nThe AIA in CALIFORNIA is responding to the recent southern California fires with a unified plan for response\, recovery and rebuilding for communities that were devastated by the disaster. This series of sessions will help the architectural profession understand the rapidly changing landscape\, the local issues facing communities\, and strategies for resilient design and disaster response; the AIA in California is connecting policy makers\, government officials\, and practitioners uniting architects in building a more just\, equitable\, and resilient future. \n\n\n\nProgram details for session 3 forthcoming! \n\n\n\nThis event is part of a series of LA Fire Response events presented in conjunction with AIA California and So Cal area AIA local chapters
URL:https://aialb-sb.org/event/fire-response-session-3/
CATEGORIES:AIA California,Programs
ATTACH;FMTTYPE=image/jpeg:https://aialb-sb.org/wp-content/uploads/2025/03/Fire-Related-Webinar-Landscape-Defensible-Space-1200x1200-1.jpg
END:VEVENT
BEGIN:VEVENT
DTSTART;TZID=America/Los_Angeles:20250423T120000
DTEND;TZID=America/Los_Angeles:20250423T130000
DTSTAMP:20260421T185824
CREATED:20250309T011031Z
LAST-MODIFIED:20250309T011305Z
UID:24558-1745409600-1745413200@aialb-sb.org
SUMMARY:Fire Response Session 4 | “Nothing About Us\, Without Us\, Is for Us” – Altadena\, from the Ground Up
DESCRIPTION:This session qualifies for 1 LU/HSW (currently pending approval; live webinar attendees only). \n\n\n\n\nREGISTER\n\n\n\n\nFREE registration for this webinar will close at 12pm PT on Wednesday\, April 23\, 2025. \n\n\n\nThe AIA in CALIFORNIA is responding to the recent southern California fires with a unified plan for response\, recovery and rebuilding for communities that were devastated by the disaster. This series of sessions will help the architectural profession understand the rapidly changing landscape\, the local issues facing communities\, and strategies for resilient design and disaster response; the AIA in California is connecting policy makers\, government officials\, and practitioners uniting architects in building a more just\, equitable\, and resilient future. \n\n\n\nProgram details for session 4 forthcoming! \n\n\n\nThis event is part of a series of LA Fire Response events presented in conjunction with AIA California and So Cal area AIA local chapters
URL:https://aialb-sb.org/event/fire-response-session-4/
CATEGORIES:AIA California,Programs
ATTACH;FMTTYPE=image/jpeg:https://aialb-sb.org/wp-content/uploads/2025/03/Fire-Related-Webinar-Nothing-About-Us-Without-Us-Is-for-Us-–-Altadena-from-the-Ground-Up.-1200x1200-1.jpg
END:VEVENT
BEGIN:VEVENT
DTSTART;TZID=America/Los_Angeles:20250430T120000
DTEND;TZID=America/Los_Angeles:20250430T130000
DTSTAMP:20260421T185824
CREATED:20250304T173049Z
LAST-MODIFIED:20250814T003445Z
UID:24425-1746014400-1746018000@aialb-sb.org
SUMMARY:COTE Presents: Practical Considerations for Specifying Heat Pump Water Heaters
DESCRIPTION:AIA Long Beach / South Bay & Southern California Edison\, a Collaborative Partnership \n\n\n\n\n\n1.0 LU/HSW/ZNCD \n\n\n\n\nBuy Tickets on Eventbrite\n\nREGISTER\n\n\n\n\n\n\n\nDescription: \n\n\n\nHeat pump water heaters (HPWH) have quickly become indispensable for complying with the California energy code (Title 24\, Part 6). This class will lead architects and designers through proper location choices for heat pump water heaters\, as well as ventilation\, maintenance\, power\, and condensate management\, so that you can specify these units with confidence.  This course will also detail the greenhouse gas reduction benefits of heat pump technologies and how they contribute toward achieving a project’s Zero Net Carbon Design goals. \n\n\n\nLearning objectives: \n\n\n\n\nUnderstand how heat pump water heaters work by pulling heat from the surrounding air.\n\n\n\nLearn proper locations and ventilation requirements to ensure HPWHs have an adequate source of heat and can be effectively maintained.\n\n\n\nCompare operational Carbon emissions of typical gas water heaters and HPWHs as part of a zero net carbon design.\n\n\n\nUsing case studies\, see how to show HPWHs on plan sets to ensure smooth installation in the field.\n\n\n\n\nPresenter: \n\n\n\n\nNick Brown is President of Build Smart\, an independent energy consultancy specializing in California energy modeling\, energy code\, and building performance that supports builders and architects in designing energy-efficient buildings. Nick is a Certified Energy Analyst (CEA) for residential and an Associate Energy Analyst (AEA) for nonresidential construction by the California Association of Building Energy Consultants (CABEC). He is a Subject Matter Expert on the Energy Code Ace statewide education team and teaches classes for Southern California Edison on Net Zero Design\, All-electric Homes\, Heat Pumps\, and Selling Clean Energy Homes. \n\n\n\n\n\n\n\n\nPresented in partnership with Southern California Edison
URL:https://aialb-sb.org/event/cote-presents-043025/
CATEGORIES:CEU,COTE,HSW,Net Zero Energy,Programs,ZNCD
ATTACH;FMTTYPE=image/png:https://aialb-sb.org/wp-content/uploads/2023/01/ZNCD-3-1.png
END:VEVENT
END:VCALENDAR