BEGIN:VCALENDAR
VERSION:2.0
PRODID:-//AIA-LBSB - ECPv6.15.20//NONSGML v1.0//EN
CALSCALE:GREGORIAN
METHOD:PUBLISH
X-ORIGINAL-URL:https://aialb-sb.org
X-WR-CALDESC:Events for AIA-LBSB
REFRESH-INTERVAL;VALUE=DURATION:PT1H
X-Robots-Tag:noindex
X-PUBLISHED-TTL:PT1H
BEGIN:VTIMEZONE
TZID:America/Los_Angeles
BEGIN:DAYLIGHT
TZOFFSETFROM:-0800
TZOFFSETTO:-0700
TZNAME:PDT
DTSTART:20240310T100000
END:DAYLIGHT
BEGIN:STANDARD
TZOFFSETFROM:-0700
TZOFFSETTO:-0800
TZNAME:PST
DTSTART:20241103T090000
END:STANDARD
BEGIN:DAYLIGHT
TZOFFSETFROM:-0800
TZOFFSETTO:-0700
TZNAME:PDT
DTSTART:20250309T100000
END:DAYLIGHT
BEGIN:STANDARD
TZOFFSETFROM:-0700
TZOFFSETTO:-0800
TZNAME:PST
DTSTART:20251102T090000
END:STANDARD
BEGIN:DAYLIGHT
TZOFFSETFROM:-0800
TZOFFSETTO:-0700
TZNAME:PDT
DTSTART:20260308T100000
END:DAYLIGHT
BEGIN:STANDARD
TZOFFSETFROM:-0700
TZOFFSETTO:-0800
TZNAME:PST
DTSTART:20261101T090000
END:STANDARD
END:VTIMEZONE
BEGIN:VEVENT
DTSTART;TZID=America/Los_Angeles:20250501T180000
DTEND;TZID=America/Los_Angeles:20250501T193000
DTSTAMP:20260421T174045
CREATED:20250414T014332Z
LAST-MODIFIED:20250417T195549Z
UID:24826-1746122400-1746127800@aialb-sb.org
SUMMARY:BARchitecture
DESCRIPTION:BARchitecture: TrustedGut – Redondo Beach\n\n\n\nDrinks are on you\, but the appetizers are on us! No reservations required. \n\n\n\n\nYes\, we trust in ourselves and our delicious liquids. \n\n\n\nYes\, our gut gives us both intuition and a place to deposit our delicious liquids. But we created this brand to mean more. TrustedGut is dedicated to wellness in all forms. And our Trusted Triad of beer\, kombucha and seltzer are crafted with that in mind. \n\n\n\n\n\n\n\n\nSponsored by \n\n\n\n\nJoshua Myers – Area Sales Manager \n\n\n\njoshua.myers@azekco.com \n\n\n\n949-805-8794
URL:https://aialb-sb.org/event/barchitecture-may-2025/
LOCATION:Trusted Gut\, 2907 182nd St\, Redondo Beach\, California\, 90278
CATEGORIES:BARchitecture,Programs,Social Program
ATTACH;FMTTYPE=image/png:https://aialb-sb.org/wp-content/uploads/2020/12/BARchitecture1.png
END:VEVENT
BEGIN:VEVENT
DTSTART;TZID=America/Los_Angeles:20250511T000000
DTEND;TZID=America/Los_Angeles:20250511T235959
DTSTAMP:20260421T174045
CREATED:20250501T175036Z
LAST-MODIFIED:20250501T220738Z
UID:25132-1746921600-1747007999@aialb-sb.org
SUMMARY:Home Improvement Expo (May 31): Deadline to Participate
DESCRIPTION:May is National Home Improvement Month!\n\n\n\n\n\n\n\n\n\n\n\n\n\nLearn about this event provided by the City of Long Beach – Community Development Department\n\n\n\nWant to connect with Long Beach homeowners and renters during Home Improvement Month?  \n\n\n\nJoin the City of Long Beach at our Home Improvement Expo on Saturday\, May 31\, 2025\, 10 a.m. – 2 p.m. at Whaley Park (5620 Atherton St.)! \n\n\n\nWhat’s in it for you!? Showcase your services and choose how you’d like to participate – hold a live demonstration\, hands-on activity\, or simply feature your organization by tabling. Let’s create an exciting event together!  \n\n\n\nComplete this form to get involved. Deadline to sign-up is Sunday\, May 11\, 2025. 
URL:https://aialb-sb.org/event/home-improvement-expo-deadline-to-participate/
LOCATION:Whaley Park\, 5620 E. Atherton St.\, Long Beach\, California\, 90815
CATEGORIES:Community,Programs
ATTACH;FMTTYPE=image/png:https://aialb-sb.org/wp-content/uploads/2025/05/Thumbnail-AIA-Square.png
END:VEVENT
BEGIN:VEVENT
DTSTART;TZID=America/Los_Angeles:20250515T170000
DTEND;TZID=America/Los_Angeles:20250515T210000
DTSTAMP:20260421T174045
CREATED:20250103T183702Z
LAST-MODIFIED:20250508T172746Z
UID:23724-1747328400-1747342800@aialb-sb.org
SUMMARY:2025 Design Awards Gala
DESCRIPTION:T   H   E      E   V   E   N   T \n\n\n\n\n\n\n\n\nBuy Tickets on Eventbrite\n\nBuy Tickets\n\n\n\n\n\n\n\n\n\nSubmitters: Contact us for your discounted tickets promo code \n\n\n\nView All Submissions \n\n\n\nLearn about the Board of Directors Award Recipients \n\n\n\nDinner\, drinks\, dessert\, music & valet parking included ~ tour the Rancho from 5 – 6 pm! \n\n\n\nAbout the Rancho:  The historic site of Rancho Los Alamitos features a preserved ranch house\, gardens\, and barns that showcase the region’s deep Native American\, Spanish\, and ranching heritage. Listed on the National Register of Historic Places\, it offers visitors a rich exploration of Southern California’s layered history through tours\, exhibits\, and educational programs. The visitor center’s major remodel\, completed in 2012\, earned a Design Award for Historic Preservation from AIA Long Beach/South Bay in 2013 and a Conservancy Preservation Award from the Los Angeles Conservancy in 2014. \n\n\n\n\n\n\n\n\nKEY EVENT SPONSOR \n\n\n\nWe are a global collective of designers\, engineers and technical experts. We use imagination\, technology and rigour to shape a more sustainable world.  \n\n\n\n\n\n\n\n\nAlso sponsored by\, \n\n\n\n\n\nDinner Sponsor\n\n\n\n\n\n\n\n\n\nVenue Sponsor\n\n\n\n\n\n\n\nEntertainment Sponsor\n\n\n\n\n\nPhotography Sponsor\n\n\n\n\n\nDessert Sponsor\n\n\n\n\n\nPrinting Sponsor\n\n\n\n\n\nThank you for your support!\n\n\n\n\n\n\n\nLearn More about the DA25 program \n\n\n\nLearn More about our Nationally Recognized Jurors \n\n\n\n\n\n\n\nAWARDS GALA SPONSORSHIP OPPORTUNITY \n\n\n\nSponsoring the AIA Long Beach/South Bay Design Awards Gala on May 15 at the Rancho Los Alamitos offers a unique opportunity to highlight your commitment to excellence in architecture and design. This prestigious biennial event\, celebrating outstanding achievements in architecture since 1968\, attracts leading architects\, designers\, and community influencers. Your sponsorship highlights your support for the profession\, connects you with industry leaders\, and aligns your brand with innovation and design excellence. Use the payment link\, below. \n\n\n\nSome Awards Gala Sponsorships are still available and offered on a first-come\, first-served basis — secure your spot today by contacting us immediately! \n\n\n\nDownload the Design Awards 2025 Sponsorship Opportunity and contact us if you have any questions. \n\n\n\n\n  \n  \n  \n    \n      \n        \n        Select your organization's DA25 Sponsorship level: \n      \n    \n    \n      \n        \n          \n            DA25 BAR $1\,500.00 USD\n          \n        \n      \n    \n  \n  \n  \n\n\n\n\nPayment processing through PayPal – no account required. An email address is needed in order to receive a receipt.
URL:https://aialb-sb.org/event/2025-design-awards-gala/
LOCATION:Rancho Los Alamitos\, 6400 E. Bixby Hills Road\, Long Beach\, 90815
CATEGORIES:Design Awards,Programs
ATTACH;FMTTYPE=image/png:https://aialb-sb.org/wp-content/uploads/2024/12/AIA-Long-Beach-South-Bay-biennial-Design-Awards-.png
END:VEVENT
BEGIN:VEVENT
DTSTART;TZID=America/Los_Angeles:20250516T190000
DTEND;TZID=America/Los_Angeles:20250516T220000
DTSTAMP:20260421T174045
CREATED:20250501T171641Z
LAST-MODIFIED:20250501T173209Z
UID:25123-1747422000-1747432800@aialb-sb.org
SUMMARY:Professional Night: CSULB 2025 Senior Show
DESCRIPTION:Learn more & rsvp\n\n\n\n\n\n\n\n\nid-40.25 marks the culminating exhibition of the 2025 Interior Design BFA cohort at California State University\, Long Beach. \n\n\n\nOver the course of their final year\, each student developed an individual thesis—defining a topic\, conducting research\, building a program\, and designing a project within an existing building and urban context. \n\n\n\nfresh ink\, a mark yet to set is both a tagline and a mindset. These projects represent ideas in motion; an imprint of where design thinking stands today\, and where it’s heading next. \n\n\n\nJoin us to explore the work and connect with a new generation of designers. \n\n\n\nOpening Reception \n\n\n\nFriday\, May 16\, 2025 \n\n\n\n7:00 PM – 10:00 PM \n\n\n\nCSULB Design Building \n\n\n\n6300 State University Dr\, Long Beach\, CA 90815 \n\n\n\nParking at E6 (in front of Design Building)
URL:https://aialb-sb.org/event/professional-night-csulb-2025-senior-show/
CATEGORIES:Community,Programs
ATTACH;FMTTYPE=image/jpeg:https://aialb-sb.org/wp-content/uploads/2025/05/Pro-Night-Save-The-Date.jpg
END:VEVENT
BEGIN:VEVENT
DTSTART;TZID=America/Los_Angeles:20250529T170000
DTEND;TZID=America/Los_Angeles:20250529T190000
DTSTAMP:20260421T174045
CREATED:20250415T235238Z
LAST-MODIFIED:20250523T162535Z
UID:24841-1748538000-1748545200@aialb-sb.org
SUMMARY:QUIETLY BOLD: A Multigenerational Compound in a Historic Neighborhood
DESCRIPTION:A Coastal CRAN tour + presentation\n\n\n\n\n\n\nPrices increases May 1 \n\n\n\n\nBuy Tickets on Eventbrite\n\nBuy Tickets\n\n\n\n\n\n\n\n\n2.0 AIA LU/HSW \n\n\n\nDescription:\n\n\n\nThis course explores the transformation of a 1929 Spanish bungalow in Long Beach’s Zaferia district into a multigenerational home that balances privacy\, shared living\, and historical context. Participants will examine how the redesign preserves the architectural integrity of the original structure while incorporating modern interventions inspired by the urban and industrial surroundings. Key topics include designing for multigenerational living\, integrating sustainable and cost-conscious strategies\, and maintaining a strong connection to community and place. Special emphasis is placed on design decisions that enhance occupant health\, safety\, and welfare\, ensuring long-term comfort\, accessibility\, and sustainability. \n\n\n\nLearning objectives:\n\n\n\n\nMultigenerational Design Strategies for Health and Accessibility – Analyze how architectural solutions can accommodate multigenerational living while ensuring safety\, accessibility\, and well-being through features such as universal design\, aging-in-place strategies\, and shared spaces that support social interaction and mental health.\n\n\n\nContextual Adaptation and Historic Preservation for Community Welfare – Evaluate how modifications to historic homes can respect original architectural character while enhancing occupant safety\, structural integrity\, and energy efficiency to improve long-term habitability and resilience.\n\n\n\nSustainable and Cost-Conscious Material Selections for Occupant Health – Identify material choices and energy-efficient strategies that contribute to indoor air quality\, thermal comfort\, and low-maintenance durability\, thereby enhancing the long-term health and safety of residents.\n\n\n\nMaximizing Natural Light and Space Efficiency for Well-Being – Assess the role of spatial planning\, ceiling heights\, glazing strategies\, and outdoor connections in creating an open\, light-filled home that supports circadian rhythms\, mental well-being\, and improved indoor air quality.\n\n\n\n\nBy the end of this course\, participants will have gained insights into how thoughtful design can bridge past and future while prioritizing occupant health\, safety\, and welfare. This approach ensures that evolving family needs\, sustainability\, and affordability shape a home that remains deeply connected to its community and history. \n\n\n\nPresenter:\n\n\n\nBecher Neme\, AIA\, Neme Design Studio\n\n\n\n\n\n\n\n\n\n\n\nSponsored by \n\n\n\n\nJoshua Myers – Area Sales Manager \n\n\n\njoshua.myers@azekco.com \n\n\n\n949-805-8794 \n\n\n\n\n\nAndre Medina – Principal \n\n\n\nandre@amlightstudio.com \n\n\n\n559-546-2644 \n\n\n\n\n\n\n\n\nCoastal CRAN (Custom Residential Architects Network) is a knowledge community of the AIA Long Beach / South Bay
URL:https://aialb-sb.org/event/c-cran-quietly-bold-052925/
LOCATION:Quietly Bold\, 4131 E. 11th St.\, Long Beach\, California\, 90804
CATEGORIES:CEU,CRAN,Programs,Tour
ATTACH;FMTTYPE=image/png:https://aialb-sb.org/wp-content/uploads/2025/04/Copy-of-Copy-of-Copy-of-C-CRAN-Quietly-Bold-45.png
END:VEVENT
BEGIN:VEVENT
DTSTART;TZID=America/Los_Angeles:20250531T100000
DTEND;TZID=America/Los_Angeles:20250531T140000
DTSTAMP:20260421T174045
CREATED:20250507T192716Z
LAST-MODIFIED:20250507T192840Z
UID:25220-1748685600-1748700000@aialb-sb.org
SUMMARY:Home Improvement Expo
DESCRIPTION:May is National Home Improvement Month!\n\n\n\nMeet architects and vendors in the home improvement and remodeling industry!\n\n\n\n\n\n\n\n\n\n\n\n\n\nLearn about this event provided by the City of Long Beach – Community Development Department
URL:https://aialb-sb.org/event/home-improvement-expo/
LOCATION:Whaley Park\, 5620 E. Atherton St.\, Long Beach\, California\, 90815
CATEGORIES:Community,Programs
ATTACH;FMTTYPE=image/png:https://aialb-sb.org/wp-content/uploads/2025/05/Thumbnail-AIA-Square.png
END:VEVENT
END:VCALENDAR