BEGIN:VCALENDAR
VERSION:2.0
PRODID:-//AIA-LBSB - ECPv6.15.20//NONSGML v1.0//EN
CALSCALE:GREGORIAN
METHOD:PUBLISH
X-WR-CALNAME:AIA-LBSB
X-ORIGINAL-URL:https://aialb-sb.org
X-WR-CALDESC:Events for AIA-LBSB
REFRESH-INTERVAL;VALUE=DURATION:PT1H
X-Robots-Tag:noindex
X-PUBLISHED-TTL:PT1H
BEGIN:VTIMEZONE
TZID:America/Los_Angeles
BEGIN:DAYLIGHT
TZOFFSETFROM:-0800
TZOFFSETTO:-0700
TZNAME:PDT
DTSTART:20240310T100000
END:DAYLIGHT
BEGIN:STANDARD
TZOFFSETFROM:-0700
TZOFFSETTO:-0800
TZNAME:PST
DTSTART:20241103T090000
END:STANDARD
BEGIN:DAYLIGHT
TZOFFSETFROM:-0800
TZOFFSETTO:-0700
TZNAME:PDT
DTSTART:20250309T100000
END:DAYLIGHT
BEGIN:STANDARD
TZOFFSETFROM:-0700
TZOFFSETTO:-0800
TZNAME:PST
DTSTART:20251102T090000
END:STANDARD
BEGIN:DAYLIGHT
TZOFFSETFROM:-0800
TZOFFSETTO:-0700
TZNAME:PDT
DTSTART:20260308T100000
END:DAYLIGHT
BEGIN:STANDARD
TZOFFSETFROM:-0700
TZOFFSETTO:-0800
TZNAME:PST
DTSTART:20261101T090000
END:STANDARD
END:VTIMEZONE
BEGIN:VEVENT
DTSTART;TZID=America/Los_Angeles:20250807T180000
DTEND;TZID=America/Los_Angeles:20250807T193000
DTSTAMP:20260421T133726
CREATED:20250627T004603Z
LAST-MODIFIED:20250805T203309Z
UID:25648-1754589600-1754595000@aialb-sb.org
SUMMARY:BARchitecture ~ Special Edition: Sip & Sketch
DESCRIPTION:BARchitecture: Trademark Brewing\, Long Beach\n\n\n\n\nDrinks are on you\, but the appetizers are on us! No reservations required. \n\n\n\nThis Special Edition of BARchitecture will include an opportunity to Sip & Sketch! For those feeling slightly creative\, we will make line drawings of photos of known structures in the Long Beach and South Bay area to be used in a coloring book for kids that we will distribute at our annual Kids Draw Architecture event on October 11 at Whaley Park in Long Beach.  \n\n\n\n\nTrademark Brewing is the first production craft brewery in Long Beach\, and one of the only sustainability-focused breweries in California. Our special equipment and processes allow us to use less than half the water of other breweries our size\, and 30% less energy. At Trademark Brewing\, great beer isn’t enough. We make it better. \n\n\n\n\nFree parking just 500′ from the brewery\,  located at 1401 Long Beach Blvd. \n\n\n\n\n\n\n\nSponsored by \n\n\n\n\n\n\n\n\n\n\nFrank Saldana\, CIA\, CSI\, CDT®\, LEED Green Associate     Building Development Manager  fsaldana@metalsales.us.com                     840-217-1270 \n\n\n\n\n\n\n \n\n\n\n\n\n\n\n\n\nSPONSOR THIS PROGRAM \n\n\n\nSupport an AIA LBSB program that advances our profession\, provides a social opportunity for our community\, and increases visibility for your organization. Contact us to learn how.
URL:https://aialb-sb.org/event/barchitecture-aug-2025/
LOCATION:Trademark Brewing\, 233 E. Anaheim St.\, Long Beach\, California\, 90813
CATEGORIES:BARchitecture,Programs,Social Program
ATTACH;FMTTYPE=image/png:https://aialb-sb.org/wp-content/uploads/2019/09/Special-Edition.png
END:VEVENT
BEGIN:VEVENT
DTSTART;TZID=America/Los_Angeles:20250808T235900
DTEND;TZID=America/Los_Angeles:20250808T235900
DTSTAMP:20260421T133726
CREATED:20250626T003941Z
LAST-MODIFIED:20250626T003942Z
UID:25635-1754697540-1754697540@aialb-sb.org
SUMMARY:ARE Scholarship Application Deadline
DESCRIPTION:The AIA Long Beach/South Bay Architect Registration Examination (ARE) Scholarship recognizes Associate AIA members early in their careers. It encourages them to complete the licensure process by covering the associated costs of becoming a licensed architect in California. \n\n\n\nUp to two (2) ARE Scholarships are offered for Summer 2025. \n\n\n\n\nlearn more & apply
URL:https://aialb-sb.org/event/are-scholarship-application-deadline-5/
CATEGORIES:A.R.E.,Programs,Scholarships
ATTACH;FMTTYPE=image/png:https://aialb-sb.org/wp-content/uploads/2023/06/ARE-Scholarship.png
END:VEVENT
BEGIN:VEVENT
DTSTART;TZID=America/Los_Angeles:20250820T120000
DTEND;TZID=America/Los_Angeles:20250820T130000
DTSTAMP:20260421T133726
CREATED:20250627T010429Z
LAST-MODIFIED:20250814T003355Z
UID:25654-1755691200-1755694800@aialb-sb.org
SUMMARY:COTE Presents: Code Breaker - Multifamily Overview of Energy Code Updates 
DESCRIPTION:AIA Long Beach / South Bay & Southern California Edison\, a Collaborative Partnership \n\n\n\n\n\n1.0 AIA LU/HSW/ZNCD \n\n\n\n\nBuy Tickets on Eventbrite\n\nREGISTER\n\n\n\n\n\n\n\nZOOM LOG-IN WILL BE EMAILED ONE DAY IN ADVANCE OF THE WEBINAR \n\n\n\nDescription: \n\n\n\nWe will review the 2025 Energy Code Mandatory and Prescriptive requirements for Multifamily envelope\, mechanical\, photovoltaic and battery storage systems\, in addition to the new electric-ready and performance compliance metrics introduced in the 2025 Energy Code.   \n\n\n\nLearning Objectives: \n\n\n\n\nCite the date when 2025 Energy Code requirements will go into effect.\n\n\n\nDiscuss updates to 2025 Mandatory and Prescriptive envelope\, mechanical\, photovoltaic and battery storage systems.\n\n\n\nRecognize when electric-ready requirements will apply.\n\n\n\nIdentify online resources for more guidance on these topics. \n\n\n\n\nSpeaker: \n\n\n\n\n\n\n\nBrian Selby is a Principal at Selby Energy\, Inc.\, specializing in developing and delivering comprehensive energy code training\, increasing compliance with California’s Energy Code\, and promoting sustainable building practices. With over 35 years of experience as an energy consultant\, Brian brings a wealth of knowledge and expertise to his role as an energy code subject matter expert. Brian actively collaborates with the California Energy Commission (CEC)\, Investor Owned Utilities (IOUs)\, association professionals\, and other industry stakeholders to foster education and ensure compliance with the Energy Code. His commitment to promoting energy efficiency and sustainable practices is further demonstrated by his role as Chairman on the CABEC board of directors\, showcasing his leadership in the field. \n\n\n\nBrian’s professional background includes successfully owning and operating a building design\, energy consulting\, and HERS rating business. His diverse skill set\, acquired through years of experience\, enables him to provide guidance and support to individuals and organizations seeking sustainable buildings and helping navigate the complexities of Zero Net Carbon design while optimizing energy efficiency and compliance with California’s Energy Code.
URL:https://aialb-sb.org/event/cote-presents-082025/
CATEGORIES:CEU,COTE,HSW,Programs
ATTACH;FMTTYPE=image/png:https://aialb-sb.org/wp-content/uploads/2023/01/ZNCD-3-1.png
END:VEVENT
BEGIN:VEVENT
DTSTART;TZID=America/Los_Angeles:20250822T170000
DTEND;TZID=America/Los_Angeles:20250822T200000
DTSTAMP:20260421T133726
CREATED:20250604T225838Z
LAST-MODIFIED:20250731T025024Z
UID:25535-1755882000-1755892800@aialb-sb.org
SUMMARY:Game Night: Lawn Bowling
DESCRIPTION:$AVE on tickets – discounted pricing through August 1st — bring a guest to $AVE even more! \n\n\n\nAIA Members\, LBSB Allied Members & Sponsors receive discounted pricing ~ ID# required \n\n\n\nAll ticket levels increase August 2! \n\n\n\n\n\n\n\nJoin in the fun this summer and learn to lawn bowl! Everyone is welcome! \n\n\n\nDinner\, drinks\, and instruction included  \n\n\n\n+ a chance to win a Tungsten Smart-Heat Portable Patio Heater provided by BROMIC Heating \n\n\n\n\nBuy Tickets on Eventbrite\n\nBuy Tickets\n\n\n\n\n\n\n\n\n\n\n\n5 – 6 pm – social\, drinks\, dinner \n\n\n\n6 – 7:30 pm – instruction and bowling \n\n\n\n7:30 – 8 pm – more social & awards \n\n\n\n\n\n\n\nPlease note the Rules of the Greens: \n\n\n\n\nAll participants must wear flat soled shoes like tennis shoes or flip flops. No leather soles and no shoes of any kind with protruding heel. If this rule is ignored\, you will be asked to bowl barefoot.\n\n\n\nNo children allowed on the green. Any child attending must be supervised by an adult who is not playing.\n\n\n\nNo smoking on the property.\n\n\n\n\n\n\n\n\nKEY EVENT SPONSORS \n\n\n\n\n\n\n\n\n\n\n\nFarrah Rizzo – Architectural Consultant \n\n\n\nfarrah.rizzo@westernws.com  \n\n\n\n310-924-1627 \n\n\n\n \n\n\n\n\n\n\n\n\n\n\nSebastian Cardenas – Specification Sales Executive \n\n\n\nsebastianc@bromicgroup.com \n\n\n\n858-526-3176 \n\n\n\n\n\n\n\n\n\n\n\n\n\n\n\n\nCheck out clips of past Lawn Bowling events! \n\n\n\n        View this post on Instagram            A post shared by AIA Long Beach/South Bay (@aialbsb)
URL:https://aialb-sb.org/event/game-night-2025/
LOCATION:Long Beach Lawn Bowling Club\, 1109 Federation Drive\, Long Beach\, California\, 90804
CATEGORIES:Programs,Social Program
ATTACH;FMTTYPE=image/png:https://aialb-sb.org/wp-content/uploads/2025/06/IG-GAME-NIGHT-Lawn-Bowling.png
END:VEVENT
END:VCALENDAR