BEGIN:VCALENDAR
VERSION:2.0
PRODID:-//AIA-LBSB - ECPv6.15.20//NONSGML v1.0//EN
CALSCALE:GREGORIAN
METHOD:PUBLISH
X-WR-CALNAME:AIA-LBSB
X-ORIGINAL-URL:https://aialb-sb.org
X-WR-CALDESC:Events for AIA-LBSB
REFRESH-INTERVAL;VALUE=DURATION:PT1H
X-Robots-Tag:noindex
X-PUBLISHED-TTL:PT1H
BEGIN:VTIMEZONE
TZID:America/Los_Angeles
BEGIN:DAYLIGHT
TZOFFSETFROM:-0800
TZOFFSETTO:-0700
TZNAME:PDT
DTSTART:20240310T100000
END:DAYLIGHT
BEGIN:STANDARD
TZOFFSETFROM:-0700
TZOFFSETTO:-0800
TZNAME:PST
DTSTART:20241103T090000
END:STANDARD
BEGIN:DAYLIGHT
TZOFFSETFROM:-0800
TZOFFSETTO:-0700
TZNAME:PDT
DTSTART:20250309T100000
END:DAYLIGHT
BEGIN:STANDARD
TZOFFSETFROM:-0700
TZOFFSETTO:-0800
TZNAME:PST
DTSTART:20251102T090000
END:STANDARD
BEGIN:DAYLIGHT
TZOFFSETFROM:-0800
TZOFFSETTO:-0700
TZNAME:PDT
DTSTART:20260308T100000
END:DAYLIGHT
BEGIN:STANDARD
TZOFFSETFROM:-0700
TZOFFSETTO:-0800
TZNAME:PST
DTSTART:20261101T090000
END:STANDARD
END:VTIMEZONE
BEGIN:VEVENT
DTSTART;TZID=America/Los_Angeles:20251106T170000
DTEND;TZID=America/Los_Angeles:20251106T180000
DTSTAMP:20260421T083100
CREATED:20250920T010335Z
LAST-MODIFIED:20251001T212304Z
UID:26141-1762448400-1762452000@aialb-sb.org
SUMMARY:Architectural Lighting: Design\, Integration\, and Practice
DESCRIPTION:An exclusive project tour of 2nd & PCH with the lighting designer\, manufacturer\, and agent behind the project\n\n\n\n\n\n\nBuy Tickets on Eventbrite\n\nREGISTER\n\n\n\n\n\n\n\n1.0 LU/HSW  \n\n\n\n\n\n\n\nDescription: \n\n\n\nJoin the AIA Long Beach Chapter for an exclusive guided tour of 2nd & PCH\, the ultimate retail and lifestyle destination in Long Beach that integrates modern architecture with innovative lighting design. This program will highlight the collaborative process between the lighting manufacturer and lighting designer\, alongside the lighting representative. Attendees will explore how architectural vision\, design intent\, and product solutions come together to create a vibrant\, welcoming environment that enhances both the retail and pedestrian experience. \n\n\n\nLearning Objectives: \n\n\n\n\nAnalyze the relationship between lighting design and architectural intent in large-scale mixed-use environments\, and how these decisions impact functionality\, aesthetics\, and the user experience.\n\n\n\nEvaluate the collaborative process between lighting designers\, manufacturers\, and the lighting rep\, and understand how integrated communication contributes to project success.\n\n\n\nIdentify key lighting strategies and product solutions used to balance performance\, energy efficiency\, and visual comfort in exterior and retail applications.\n\n\n\nExamine how lighting design contributes to the safety\, comfort\, and overall experience of diverse user groups in mixed-use public spaces.\n\n\n\n\nPresenters: \n\n\n\nErica Peters – SCI – Specification Sales and AIA LBSB Allied Member \n\n\n\n\n\n\n\nDave McCarroll\, AIA\, and Jose Cendejas from KGM Lighting
URL:https://aialb-sb.org/event/architectural-lighting-design-integration-practice/
LOCATION:2ND & PCH – fountain area below the Palapa Bar at Ola Mexican Kitchen\, 6420 Pacific Coast Highway\, Long Beach\, California\, 90803
CATEGORIES:CEU,HSW,Programs,Tour
ATTACH;FMTTYPE=image/png:https://aialb-sb.org/wp-content/uploads/2025/09/SCI-Lighting-walking-tour-110625-thumbnail.png
END:VEVENT
BEGIN:VEVENT
DTSTART;TZID=America/Los_Angeles:20251106T180000
DTEND;TZID=America/Los_Angeles:20251106T193000
DTSTAMP:20260421T083100
CREATED:20250922T195049Z
LAST-MODIFIED:20251106T172623Z
UID:26166-1762452000-1762457400@aialb-sb.org
SUMMARY:BARchitecture
DESCRIPTION:BARchitecture: Palapa Bar at Ola Mexican Kitchen – Long Beach\n\n\n\nDrinks are on you\, but the appetizers are on us! No reservations required. \n\n\n\n\n\n\n\n\n\n\n\nAuthentic Mexican food and cocktails\n\n\n\nOla\, which is Spanish for “wave” and Hawaiian for “life”\, is the inspiration behind Ola Mexican Kitchen.  With some of the best views on the California coast from almost every seat in the house\, our menu fuses authentic Mexican comfort food with elevated\, South of the Border influences. \n\n\n\nSponsored by \n\n\n\n\n\n\n\n\n\n\nErica Peters – Associate Specification Sales and AIA LBSB Allied Member \n\n\n\nepeters@scilights.com  (949) 622-3010
URL:https://aialb-sb.org/event/barchitecture-nov-2025/
LOCATION:Palapa Bar @ Ola Mexican Kitchen\, 6420 E Pacific Coast Hwy\, Long Beach\, California
CATEGORIES:BARchitecture,Programs
ATTACH;FMTTYPE=image/png:https://aialb-sb.org/wp-content/uploads/2020/12/BARchitecture1.png
END:VEVENT
BEGIN:VEVENT
DTSTART;TZID=America/Los_Angeles:20251112T120000
DTEND;TZID=America/Los_Angeles:20251112T130000
DTSTAMP:20260421T083100
CREATED:20251007T005307Z
LAST-MODIFIED:20251007T005851Z
UID:26255-1762948800-1762952400@aialb-sb.org
SUMMARY:2025 CBC Update with Focus on Major Fire Protection & Life Safety Code Changes
DESCRIPTION:1.0 AIA LU/HSW \n\n\n\n\n\n\nBuy Tickets on Eventbrite\n\nREGISTER\n\n\n\n\n\n\n\n\n\n\n\nA summary update on the 2025 California Building Code & Fire Code Changes that is effective January 1\, 2026. This update will focus on major fire protection and life safety code changes. \n\n\n\nLearning Objectives: \n\n\n\n\nThe participant will learn the major fire protection and life safety related code changes that may impact future building design. \n\n\n\nThe participant will understand the options available to resolve design challenges through code exceptions and/or interpretive text. Of key importance\, the participant will understand that in many instances\, the construction documents simply need to clearly identify the fire protection and lie safety approach on the life safety plans.\n\n\n\nThe participant will learn about different code compliance concepts for mixed-use buildings such as residential\, business\, mercantile and assembly occupancies. Numerous CBC hot topics ranging from egress\, tenant construction\, atriums\, parking beneath a building\, and building adjacencies will be discusses.\n\n\n\nThe participant will learn basic fire protection and lie safety approaches to assist the participant in continuing their efforts to become a more well-rounded architect. \n\n\n\n\nPresented by \n\n\n\n\n\n\n\nTHIS PROGRAM WILL BE PRESENTED ON ZOOM. THE LOG-IN LINK WILL BE EMAILED TO ATTENDEES ONE DAY IN ADVANCE OF THE PRESENTATION.
URL:https://aialb-sb.org/event/cci-presentation-2025-cbc-update/
CATEGORIES:CEU,HSW,Programs
ATTACH;FMTTYPE=image/jpeg:https://aialb-sb.org/wp-content/uploads/2025/10/CA-Fire-Code.jpg
ORGANIZER;CN="Code Consultants%2C Inc.":MAILTO:ChrisP@codeconsultants.com
END:VEVENT
BEGIN:VEVENT
DTSTART;TZID=America/Los_Angeles:20251119T120000
DTEND;TZID=America/Los_Angeles:20251119T130000
DTSTAMP:20260421T083100
CREATED:20251029T005011Z
LAST-MODIFIED:20251029T171800Z
UID:26368-1763553600-1763557200@aialb-sb.org
SUMMARY:A Conversation With the 2025 AIA Firm Award Winner
DESCRIPTION:Offered as part of AIA California’s Credit Cram \n\n\n\n\n\nNon-members $25 \n\n\n\n\nregister\n\n\n\n\n\n\n\n\nJoin AIA California for a lunchtime presentation of world-changing ideas with the 2025 AIA Architecture Firm Award winner: LPA Design Studios. Hosted online and moderated by AIA CA President Carina Mills\, the panel will explore how LPA’s integrated teams are cutting carbon and advancing equity on every project\, at every scale and budget. Through the lens of recent civic\, education and healthcare work in the region\, firm leaders will share what it takes to eliminate carbon emissions from buildings — and why an interdisciplinary\, no-excuses approach is central to their practice. From net-zero buildings and carbon-sequestering landscapes to meeting the health challenges of underserved communities\, LPA is helping shape what’s next in California. Come meet the people behind the work — and be part of the conversation. \n\n\n\nModerator:\n\n\n\n\n\n\n\nCarina Mills\, AIA | Senior Director of Talent Management\, Senior Associate | Studio One Eleven \n\n\n\nSpeakers:\n\n\n\n\n\n\n\n\n\nWendy Rogers\, FAIA | CEO/CTO | LPA Design Studios \n\n\n\n\n\n\n\n\n\nKeith Hempel\, FAIA | President/CDO | LPA Design Studios \n\n\n\n\n\n\n\n\n\nKari Kikuta\, PLA\, ASLA | Director of Landscape Architecture | LPA Design Studios \n\n\n\n\n\n\n\n\n\nKate Mraw\, RID\, ALEP | Director of K-12 | LPA Design Studios \n\n\n\n\n\n\n\n\n\nBryan Seamer\, SE | Director of Structural Engineering | LPA Design Studios
URL:https://aialb-sb.org/event/a-conversation-with-the-2025-aia-firm-award-winner/
CATEGORIES:AIA California,Programs
ATTACH;FMTTYPE=image/png:https://aialb-sb.org/wp-content/uploads/2025/10/Credit-Cram-EDI-Track-A-Conversation-with-1200x800-1.png
END:VEVENT
END:VCALENDAR