BEGIN:VCALENDAR
VERSION:2.0
PRODID:-//AIA-LBSB - ECPv6.15.20//NONSGML v1.0//EN
CALSCALE:GREGORIAN
METHOD:PUBLISH
X-ORIGINAL-URL:https://aialb-sb.org
X-WR-CALDESC:Events for AIA-LBSB
REFRESH-INTERVAL;VALUE=DURATION:PT1H
X-Robots-Tag:noindex
X-PUBLISHED-TTL:PT1H
BEGIN:VTIMEZONE
TZID:America/Los_Angeles
BEGIN:DAYLIGHT
TZOFFSETFROM:-0800
TZOFFSETTO:-0700
TZNAME:PDT
DTSTART:20250309T100000
END:DAYLIGHT
BEGIN:STANDARD
TZOFFSETFROM:-0700
TZOFFSETTO:-0800
TZNAME:PST
DTSTART:20251102T090000
END:STANDARD
BEGIN:DAYLIGHT
TZOFFSETFROM:-0800
TZOFFSETTO:-0700
TZNAME:PDT
DTSTART:20260308T100000
END:DAYLIGHT
BEGIN:STANDARD
TZOFFSETFROM:-0700
TZOFFSETTO:-0800
TZNAME:PST
DTSTART:20261101T090000
END:STANDARD
BEGIN:DAYLIGHT
TZOFFSETFROM:-0800
TZOFFSETTO:-0700
TZNAME:PDT
DTSTART:20270314T100000
END:DAYLIGHT
BEGIN:STANDARD
TZOFFSETFROM:-0700
TZOFFSETTO:-0800
TZNAME:PST
DTSTART:20271107T090000
END:STANDARD
END:VTIMEZONE
BEGIN:VEVENT
DTSTART;TZID=America/Los_Angeles:20260305T180000
DTEND;TZID=America/Los_Angeles:20260305T193000
DTSTAMP:20260421T031845
CREATED:20251105T222732Z
LAST-MODIFIED:20260227T215612Z
UID:26432-1772733600-1772739000@aialb-sb.org
SUMMARY:BARchitecture
DESCRIPTION:BARchitecture: Long Beach Beer Lab – Wrigley\n\n\n\n\n\n\n\n \n\n\n\n \n\n\n\n \n\n\n\n \n\n\n\n \n\n\n\n\n\n\n\nGood Brews. Great People. BARchitecture with AIA LBSB. \n\n\n\nJoin us for our monthly social. Come see old friends and make some new ones. Drinks are on you\, but the appetizers are on us! No reservations required. \n\n\n\nNote: We’ll be at LB Beer Lab’s Wrigley location. \n\n\n\nThank you to our sponsor! \n\n\n\nMary E. Yocum\, Schluter SystemsArchitectural Manager\, Southern California Cell: 714-329-0355  | Myocum@schluter.com\n\n\n\nSPONSOR A FUTURE PROGRAM \n\n\n\nSupport an AIA LBSB program that advances our profession\, provides a social opportunity for our community\, and increases visibility for your organization. Contact us to learn more!
URL:https://aialb-sb.org/event/barchitecture-march-2026/
LOCATION:Long Beach Beer Lab – Wrigley\, 518 W Willow Street\, Long Beach\, California\, 90806\, United States
CATEGORIES:BARchitecture,Programs,Social Program
ATTACH;FMTTYPE=image/png:https://aialb-sb.org/wp-content/uploads/2020/12/BARchitecture1.png
END:VEVENT
BEGIN:VEVENT
DTSTART;TZID=America/Los_Angeles:20260311T120000
DTEND;TZID=America/Los_Angeles:20260311T130000
DTSTAMP:20260421T031845
CREATED:20260219T171736Z
LAST-MODIFIED:20260219T171737Z
UID:26686-1773230400-1773234000@aialb-sb.org
SUMMARY:COTE Presents: Code Breaker — Accessory Dwelling Units and the 2025 Energy Code 
DESCRIPTION:AIA Long Beach / South Bay & Southern California Edison\, a Collaborative Partnership \n\n\n\n\n\n\nBuy Tickets on Eventbrite\n\nREGISTER\n\n\n\n\n\n\n\n1.0 LU HSW \n\n\n\nZOOM LOG-IN WILL BE EMAILED ONE DAY IN ADVANCE OF THE WEBINAR. \n\n\n\nDescription: \n\n\n\nJoin us for a focused\, virtual overview of the 2025 Energy Code (Title 24\, Part 6) requirements for accessory dwelling units (ADUs). Presented by Nick Brown\, President of Build Smart\, this session will cover ADU types and how they impact envelope\, mechanical\, PV\, battery storage/readiness\, and ECC (formerly HERS) requirements—along with updated compliance metrics for new construction ADUs. \n\n\n\nLearning Objectives: \n\n\n\n\nEstablish if an ADU design is considered an alteration\, addition\, or a new residential building per the Energy Code. \n\n\n\nDiscuss the envelope (roof\, walls\, floors\, fenestration) requirements associated with the\n\n\n\nRecognize the renewable energy requirements of ADU type including photovoltaics (PV)\, battery energy storage system\, and battery readiness. \n\n\n\nDetermine mechanical equipment requirements\, including any ECC (formerly known as HERS) verification measure options that provide ADU design flexibility\, and how the new compliance metrics may impact those choices. \n\n\n\n\nPresenter: \n\n\n\n\n\n\n\nNick Brown is President of Build Smart\, an independent energy consultancy specializing in California energy modeling\, energy code\, and building performance that supports builders and architects in designing energy-efficient buildings. \n\n\n\nNick is a Certified Energy Analyst (CEA) for residential and an Associate Energy Analyst (AEA) for nonresidential construction by the California Association of Building Energy Consultants (CABEC). He is a Subject Matter Expert on the Energy Code Ace statewide education team and teaches classes for Southern California Edison on Net Zero Design\, All-electric Homes\, Heat Pumps\, and Selling Clean Energy Homes.
URL:https://aialb-sb.org/event/cote-presents-code-breaker-accessory-dwelling-units-and-the-2025-energy-code/
CATEGORIES:CEU,COTE,HSW,Programs
ATTACH;FMTTYPE=image/png:https://aialb-sb.org/wp-content/uploads/2021/09/COTE-events1.png
END:VEVENT
END:VCALENDAR