BEGIN:VCALENDAR
VERSION:2.0
PRODID:-//AIA-LBSB - ECPv6.15.20//NONSGML v1.0//EN
CALSCALE:GREGORIAN
METHOD:PUBLISH
X-ORIGINAL-URL:https://aialb-sb.org
X-WR-CALDESC:Events for AIA-LBSB
REFRESH-INTERVAL;VALUE=DURATION:PT1H
X-Robots-Tag:noindex
X-PUBLISHED-TTL:PT1H
BEGIN:VTIMEZONE
TZID:America/Los_Angeles
BEGIN:DAYLIGHT
TZOFFSETFROM:-0800
TZOFFSETTO:-0700
TZNAME:PDT
DTSTART:20250309T100000
END:DAYLIGHT
BEGIN:STANDARD
TZOFFSETFROM:-0700
TZOFFSETTO:-0800
TZNAME:PST
DTSTART:20251102T090000
END:STANDARD
BEGIN:DAYLIGHT
TZOFFSETFROM:-0800
TZOFFSETTO:-0700
TZNAME:PDT
DTSTART:20260308T100000
END:DAYLIGHT
BEGIN:STANDARD
TZOFFSETFROM:-0700
TZOFFSETTO:-0800
TZNAME:PST
DTSTART:20261101T090000
END:STANDARD
BEGIN:DAYLIGHT
TZOFFSETFROM:-0800
TZOFFSETTO:-0700
TZNAME:PDT
DTSTART:20270314T100000
END:DAYLIGHT
BEGIN:STANDARD
TZOFFSETFROM:-0700
TZOFFSETTO:-0800
TZNAME:PST
DTSTART:20271107T090000
END:STANDARD
END:VTIMEZONE
BEGIN:VEVENT
DTSTART;TZID=America/Los_Angeles:20260507T180000
DTEND;TZID=America/Los_Angeles:20260507T193000
DTSTAMP:20260421T031845
CREATED:20260318T195732Z
LAST-MODIFIED:20260417T200823Z
UID:26739-1778176800-1778182200@aialb-sb.org
SUMMARY:BARchitecture
DESCRIPTION:BARchitecture: The Bamboo Club\n\n\n\n\n\n\n\nGood Brews. Great People. BARchitecture with AIA LB/SB. \n\n\n\nJoin us on the first Thursday of every month for our signature social gathering. Come catch up with old friends\, make new connections\, and enjoy a relaxed evening with the local design community. Drinks are on you\, but the appetizers are on us! No reservations required—just show up and join the fun. \n\n\n\nInterested in hosting? Let us know! \n\n\n\nThank you again to our recent sponsor! \n\n\n\n\n\n\n\nMary E. Yocum\, Schluter SystemsArchitectural Manager\, Southern California Cell: 714-329-0355  | Myocum@schluter.com\n\n\n\nSPONSOR A FUTURE PROGRAM \n\n\n\nSupport an AIA LBSB program that advances our profession\, provides a social opportunity for our community\, and increases visibility for your organization. Contact us to learn more!
URL:https://aialb-sb.org/event/barchitecture/
LOCATION:The Bamboo Club\, 3522 E. Anaheim St.\, Long Beach\, California\, 90804
CATEGORIES:BARchitecture,Programs,Social Program
ATTACH;FMTTYPE=image/png:https://aialb-sb.org/wp-content/uploads/2020/12/BARchitecture1.png
END:VEVENT
END:VCALENDAR