BEGIN:VCALENDAR
VERSION:2.0
PRODID:-//AIA-LBSB - ECPv6.15.20//NONSGML v1.0//EN
CALSCALE:GREGORIAN
METHOD:PUBLISH
X-WR-CALNAME:AIA-LBSB
X-ORIGINAL-URL:https://aialb-sb.org
X-WR-CALDESC:Events for AIA-LBSB
REFRESH-INTERVAL;VALUE=DURATION:PT1H
X-Robots-Tag:noindex
X-PUBLISHED-TTL:PT1H
BEGIN:VTIMEZONE
TZID:America/Los_Angeles
BEGIN:DAYLIGHT
TZOFFSETFROM:-0800
TZOFFSETTO:-0700
TZNAME:PDT
DTSTART:20220313T100000
END:DAYLIGHT
BEGIN:STANDARD
TZOFFSETFROM:-0700
TZOFFSETTO:-0800
TZNAME:PST
DTSTART:20221106T090000
END:STANDARD
BEGIN:DAYLIGHT
TZOFFSETFROM:-0800
TZOFFSETTO:-0700
TZNAME:PDT
DTSTART:20230312T100000
END:DAYLIGHT
BEGIN:STANDARD
TZOFFSETFROM:-0700
TZOFFSETTO:-0800
TZNAME:PST
DTSTART:20231105T090000
END:STANDARD
BEGIN:DAYLIGHT
TZOFFSETFROM:-0800
TZOFFSETTO:-0700
TZNAME:PDT
DTSTART:20240310T100000
END:DAYLIGHT
BEGIN:STANDARD
TZOFFSETFROM:-0700
TZOFFSETTO:-0800
TZNAME:PST
DTSTART:20241103T090000
END:STANDARD
END:VTIMEZONE
BEGIN:VEVENT
DTSTART;TZID=America/Los_Angeles:20230628T120000
DTEND;TZID=America/Los_Angeles:20230628T133000
DTSTAMP:20260421T193651
CREATED:20230614T222801Z
LAST-MODIFIED:20230615T035406Z
UID:18624-1687953600-1687959000@aialb-sb.org
SUMMARY:Path to Fellowship Webinar
DESCRIPTION:REGISTER\n\n\n\n\nDescription:  \n\n\n\nThroughout this webinar\, the AIA CA College of Fellow Regional Representatives will go into a detailed explanation about the process of applying for Fellowship and what steps are needed as members develop their portfolio. Once they are finished reviewing the steps necessary to apply for Fellowship\, they will host a live Q&A and panel discussion for the audience to ask their candid questions about Fellowship. \n\n\n\nCollege of Fellows Regional Representatives:Aaron Hyland\, FAIAJoyce K. Polhamus\, FAIARobert L. Ooley\, FAIAMichael Enomoto\, FAIAWinston Thorne\, AIA
URL:https://aialb-sb.org/event/path-to-fellowship-webinar/
CATEGORIES:AIA California
ATTACH;FMTTYPE=image/png:https://aialb-sb.org/wp-content/uploads/2023/06/Fellows-1.png
END:VEVENT
END:VCALENDAR