BEGIN:VCALENDAR
VERSION:2.0
PRODID:-//AIA-LBSB - ECPv6.15.20//NONSGML v1.0//EN
CALSCALE:GREGORIAN
METHOD:PUBLISH
X-ORIGINAL-URL:https://aialb-sb.org
X-WR-CALDESC:Events for AIA-LBSB
REFRESH-INTERVAL;VALUE=DURATION:PT1H
X-Robots-Tag:noindex
X-PUBLISHED-TTL:PT1H
BEGIN:VTIMEZONE
TZID:America/Los_Angeles
BEGIN:DAYLIGHT
TZOFFSETFROM:-0800
TZOFFSETTO:-0700
TZNAME:PDT
DTSTART:20220313T100000
END:DAYLIGHT
BEGIN:STANDARD
TZOFFSETFROM:-0700
TZOFFSETTO:-0800
TZNAME:PST
DTSTART:20221106T090000
END:STANDARD
BEGIN:DAYLIGHT
TZOFFSETFROM:-0800
TZOFFSETTO:-0700
TZNAME:PDT
DTSTART:20230312T100000
END:DAYLIGHT
BEGIN:STANDARD
TZOFFSETFROM:-0700
TZOFFSETTO:-0800
TZNAME:PST
DTSTART:20231105T090000
END:STANDARD
BEGIN:DAYLIGHT
TZOFFSETFROM:-0800
TZOFFSETTO:-0700
TZNAME:PDT
DTSTART:20240310T100000
END:DAYLIGHT
BEGIN:STANDARD
TZOFFSETFROM:-0700
TZOFFSETTO:-0800
TZNAME:PST
DTSTART:20241103T090000
END:STANDARD
END:VTIMEZONE
BEGIN:VEVENT
DTSTART;TZID=America/Los_Angeles:20230601T180000
DTEND;TZID=America/Los_Angeles:20230601T193000
DTSTAMP:20260422T204108
CREATED:20230520T205350Z
LAST-MODIFIED:20230520T205351Z
UID:18562-1685642400-1685647800@aialb-sb.org
SUMMARY:BARchitecture
DESCRIPTION:Meet us at The Bamboo Club! Appetizers are on us\, the Mai Tai’s\, Rum Runners\, Singapore Slings\, and Zombies are on you! \n\n\n\n\n\n\n\nThe Bamboo Club is a one-of-a-kind neighborhood restaurant & Tiki bar located in the Zaferia District of Long Beach. The Bamboo Club serves a mix of both modern and classic century-old Tiki cocktails\, in an interior designed by award-winning Bamboo Ben Bassham. The Bamboo Club reflects the laid-back sensibilities of tropical Tiki culture while welcoming one and all with extensive booth and bar seating\, outdoor tented seating\, and a private patio to escape from the everyday. While the concept maintains the Tiki culture at heart\, it turns into a lively watering hole for Long Beach music fans after dinner hours\, when local live musical performers and vinyl DJs take the stage and the crowd jams out to everything the local music scene has to offer.
URL:https://aialb-sb.org/event/barchitecture-june-2023/
LOCATION:The Bamboo Club\, 3522 E. Anaheim St.\, Long Beach\, California\, 90804
CATEGORIES:BARchitecture
ATTACH;FMTTYPE=image/png:https://aialb-sb.org/wp-content/uploads/2020/12/BARchitecture1.png
END:VEVENT
END:VCALENDAR