BEGIN:VCALENDAR
VERSION:2.0
PRODID:-//AIA-LBSB - ECPv6.15.20//NONSGML v1.0//EN
CALSCALE:GREGORIAN
METHOD:PUBLISH
X-WR-CALNAME:AIA-LBSB
X-ORIGINAL-URL:https://aialb-sb.org
X-WR-CALDESC:Events for AIA-LBSB
REFRESH-INTERVAL;VALUE=DURATION:PT1H
X-Robots-Tag:noindex
X-PUBLISHED-TTL:PT1H
BEGIN:VTIMEZONE
TZID:America/Los_Angeles
BEGIN:DAYLIGHT
TZOFFSETFROM:-0800
TZOFFSETTO:-0700
TZNAME:PDT
DTSTART:20220313T100000
END:DAYLIGHT
BEGIN:STANDARD
TZOFFSETFROM:-0700
TZOFFSETTO:-0800
TZNAME:PST
DTSTART:20221106T090000
END:STANDARD
BEGIN:DAYLIGHT
TZOFFSETFROM:-0800
TZOFFSETTO:-0700
TZNAME:PDT
DTSTART:20230312T100000
END:DAYLIGHT
BEGIN:STANDARD
TZOFFSETFROM:-0700
TZOFFSETTO:-0800
TZNAME:PST
DTSTART:20231105T090000
END:STANDARD
BEGIN:DAYLIGHT
TZOFFSETFROM:-0800
TZOFFSETTO:-0700
TZNAME:PDT
DTSTART:20240310T100000
END:DAYLIGHT
BEGIN:STANDARD
TZOFFSETFROM:-0700
TZOFFSETTO:-0800
TZNAME:PST
DTSTART:20241103T090000
END:STANDARD
END:VTIMEZONE
BEGIN:VEVENT
DTSTART;TZID=America/Los_Angeles:20230907T180000
DTEND;TZID=America/Los_Angeles:20230907T193000
DTSTAMP:20260422T160846
CREATED:20230715T004431Z
LAST-MODIFIED:20230907T172558Z
UID:18762-1694109600-1694115000@aialb-sb.org
SUMMARY:BARchitecture
DESCRIPTION:A very special BARchitecture for September … We are stepping over into the OC with AIA Orange County!\n\n\n\n\n\n\n\nJoin us for our monthly social: BARchitecture! Bring along a friend or two or three and hang out with architects and design industry professionals. The drinks are on you and the apps are on us! \n\n\n\nGreen Cheek Beer Co was founded in 2017 by two pals who love beer and the community it creates. We’re a small company of parakeets that take our time making a variety of beer styles throughout the year\, but are best known for our hoppy beers\, crispy lagers\, big stouts\, and hard seltzers.
URL:https://aialb-sb.org/event/barchitecture-sept-2023/
LOCATION:Green Cheek Beer Co\, 16685 Pacific Coast Highway\, Sunset Beach\, California\, 92649
CATEGORIES:BARchitecture
ATTACH;FMTTYPE=image/png:https://aialb-sb.org/wp-content/uploads/2020/12/BARchitecture1.png
END:VEVENT
END:VCALENDAR