BEGIN:VCALENDAR
VERSION:2.0
PRODID:-//AIA-LBSB - ECPv6.15.20//NONSGML v1.0//EN
CALSCALE:GREGORIAN
METHOD:PUBLISH
X-ORIGINAL-URL:https://aialb-sb.org
X-WR-CALDESC:Events for AIA-LBSB
REFRESH-INTERVAL;VALUE=DURATION:PT1H
X-Robots-Tag:noindex
X-PUBLISHED-TTL:PT1H
BEGIN:VTIMEZONE
TZID:America/Los_Angeles
BEGIN:DAYLIGHT
TZOFFSETFROM:-0800
TZOFFSETTO:-0700
TZNAME:PDT
DTSTART:20230312T100000
END:DAYLIGHT
BEGIN:STANDARD
TZOFFSETFROM:-0700
TZOFFSETTO:-0800
TZNAME:PST
DTSTART:20231105T090000
END:STANDARD
BEGIN:DAYLIGHT
TZOFFSETFROM:-0800
TZOFFSETTO:-0700
TZNAME:PDT
DTSTART:20240310T100000
END:DAYLIGHT
BEGIN:STANDARD
TZOFFSETFROM:-0700
TZOFFSETTO:-0800
TZNAME:PST
DTSTART:20241103T090000
END:STANDARD
BEGIN:DAYLIGHT
TZOFFSETFROM:-0800
TZOFFSETTO:-0700
TZNAME:PDT
DTSTART:20250309T100000
END:DAYLIGHT
BEGIN:STANDARD
TZOFFSETFROM:-0700
TZOFFSETTO:-0800
TZNAME:PST
DTSTART:20251102T090000
END:STANDARD
END:VTIMEZONE
BEGIN:VEVENT
DTSTART;TZID=America/Los_Angeles:20240404T180000
DTEND;TZID=America/Los_Angeles:20240404T193000
DTSTAMP:20260422T054129
CREATED:20240223T015721Z
LAST-MODIFIED:20240414T215757Z
UID:20437-1712253600-1712259000@aialb-sb.org
SUMMARY:BARchitecture
DESCRIPTION:BARchitecture: Willmore Wine Bar\n\n\n\n\n\n\n\nJoin us for our monthly social. Come see old friends and make some new ones. The vino is on you\, but the cheese board is on us! No reservations required. \n\n\n\n\n\n\n\nErnie Henson selected the name Willmore to mount above the door as  tribute to William E. Willmore\, Long Beach’s first real estate developer– the first person to visualize the area as the perfect place for a thriving city. \n\n\n\nAs you enter Willmore\, you’ll be greeted by vintage and rustic furnishings and décor. Some pieces include an antique upright piano built in 1922\, Employees sometimes dress to evoke eras gone by\, often wearing trademark hats. \n\n\n\nSPONSOR THIS PROGRAM \n\n\n\nSupport an AIA LBSB program that advances our profession and increases visibility for your organization. Contact us to learn how.
URL:https://aialb-sb.org/event/barchitecture-april-2024/
LOCATION:Willmore Wine Bar\, 3848 Atlantic Ave.\, Long Beach\, CA\, 90807
CATEGORIES:BARchitecture,Programs,Social Program
ATTACH;FMTTYPE=image/png:https://aialb-sb.org/wp-content/uploads/2020/12/BARchitecture1.png
END:VEVENT
END:VCALENDAR