BEGIN:VCALENDAR
VERSION:2.0
PRODID:-//AIA-LBSB - ECPv6.15.20//NONSGML v1.0//EN
CALSCALE:GREGORIAN
METHOD:PUBLISH
X-ORIGINAL-URL:https://aialb-sb.org
X-WR-CALDESC:Events for AIA-LBSB
REFRESH-INTERVAL;VALUE=DURATION:PT1H
X-Robots-Tag:noindex
X-PUBLISHED-TTL:PT1H
BEGIN:VTIMEZONE
TZID:America/Los_Angeles
BEGIN:DAYLIGHT
TZOFFSETFROM:-0800
TZOFFSETTO:-0700
TZNAME:PDT
DTSTART:20230312T100000
END:DAYLIGHT
BEGIN:STANDARD
TZOFFSETFROM:-0700
TZOFFSETTO:-0800
TZNAME:PST
DTSTART:20231105T090000
END:STANDARD
BEGIN:DAYLIGHT
TZOFFSETFROM:-0800
TZOFFSETTO:-0700
TZNAME:PDT
DTSTART:20240310T100000
END:DAYLIGHT
BEGIN:STANDARD
TZOFFSETFROM:-0700
TZOFFSETTO:-0800
TZNAME:PST
DTSTART:20241103T090000
END:STANDARD
BEGIN:DAYLIGHT
TZOFFSETFROM:-0800
TZOFFSETTO:-0700
TZNAME:PDT
DTSTART:20250309T100000
END:DAYLIGHT
BEGIN:STANDARD
TZOFFSETFROM:-0700
TZOFFSETTO:-0800
TZNAME:PST
DTSTART:20251102T090000
END:STANDARD
END:VTIMEZONE
BEGIN:VEVENT
DTSTART;TZID=America/Los_Angeles:20240801T180000
DTEND;TZID=America/Los_Angeles:20240801T193000
DTSTAMP:20260419T225449
CREATED:20240723T171059Z
LAST-MODIFIED:20240723T173918Z
UID:22440-1722535200-1722540600@aialb-sb.org
SUMMARY:BARKitecture
DESCRIPTION:BARKitecture: 2nd & PCH\n\n\n\n\nCelebrating dogs! Join us and bring your furry friend! Non-furry friends are allowed too. \n\n\n\n\n\n\n\n\n\nMeet up on the turf at the fountain area inside the 2nd & PCH shopping center at 6 pm  \n\n\n\n\nWe will leave with our pups around 6:30 pm and stroll along the marina . . .  \n\n\n\n\nMeeting back up at Beachwood Brewing at 7 pm \n\n\n\n\nDrinks are on you\, but the appetizers are on us! No reservations required.
URL:https://aialb-sb.org/event/barchitecture-aug-2024/
LOCATION:BARKitecture @ 2nd & PCH\, 6400 E. Pacific Coast Highway\, Long Beach\, California\, 90803
CATEGORIES:BARchitecture,Programs,Social Program
ATTACH;FMTTYPE=image/png:https://aialb-sb.org/wp-content/uploads/2024/07/BARKitecture-web-formatted.png
END:VEVENT
BEGIN:VEVENT
DTSTART;TZID=America/Los_Angeles:20240822T163000
DTEND;TZID=America/Los_Angeles:20240822T183000
DTSTAMP:20260419T225450
CREATED:20240820T154310Z
LAST-MODIFIED:20240822T231547Z
UID:22710-1724344200-1724351400@aialb-sb.org
SUMMARY:Lincoln Hall Acoustics Meet and Greet
DESCRIPTION:THIS PROGRAM HAS BEEN CANCELED DUE TO A FAMILY EMERGENCY – apologies for the inconvenience\n\n\n\nNo cost to attend! \n\n\n\nThirsty Thursday @ rdc. / studioneleven\n\n\n\nA networking opportunity for Architects and Designers! Meet representatives from Lincoln Hall Acoustics\, learn about projects they’ve worked on and see product samples. Wine & cheese provided. \n\n\n\nFree 90-minute parking nearby in the public structure \n\n\n\n\n\n\nBuy Tickets on Eventbrite\n\nRSVP
URL:https://aialb-sb.org/event/meet-and-greet-082224/
LOCATION:rdc. / Studio One Eleven\, 245 E. 3rd St.\, Long Beach\, CA\, 90802\, United States
CATEGORIES:BARchitecture
ATTACH;FMTTYPE=image/png:https://aialb-sb.org/wp-content/uploads/2024/01/LINCOL-HALL-ACOUSTICS.png
END:VEVENT
END:VCALENDAR