BEGIN:VCALENDAR
VERSION:2.0
PRODID:-//AIA-LBSB - ECPv6.15.20//NONSGML v1.0//EN
CALSCALE:GREGORIAN
METHOD:PUBLISH
X-ORIGINAL-URL:https://aialb-sb.org
X-WR-CALDESC:Events for AIA-LBSB
REFRESH-INTERVAL;VALUE=DURATION:PT1H
X-Robots-Tag:noindex
X-PUBLISHED-TTL:PT1H
BEGIN:VTIMEZONE
TZID:America/Los_Angeles
BEGIN:DAYLIGHT
TZOFFSETFROM:-0800
TZOFFSETTO:-0700
TZNAME:PDT
DTSTART:20240310T100000
END:DAYLIGHT
BEGIN:STANDARD
TZOFFSETFROM:-0700
TZOFFSETTO:-0800
TZNAME:PST
DTSTART:20241103T090000
END:STANDARD
BEGIN:DAYLIGHT
TZOFFSETFROM:-0800
TZOFFSETTO:-0700
TZNAME:PDT
DTSTART:20250309T100000
END:DAYLIGHT
BEGIN:STANDARD
TZOFFSETFROM:-0700
TZOFFSETTO:-0800
TZNAME:PST
DTSTART:20251102T090000
END:STANDARD
BEGIN:DAYLIGHT
TZOFFSETFROM:-0800
TZOFFSETTO:-0700
TZNAME:PDT
DTSTART:20260308T100000
END:DAYLIGHT
BEGIN:STANDARD
TZOFFSETFROM:-0700
TZOFFSETTO:-0800
TZNAME:PST
DTSTART:20261101T090000
END:STANDARD
END:VTIMEZONE
BEGIN:VEVENT
DTSTART;TZID=America/Los_Angeles:20250306T180000
DTEND;TZID=America/Los_Angeles:20250306T193000
DTSTAMP:20260419T132501
CREATED:20250219T182051Z
LAST-MODIFIED:20250307T002931Z
UID:24253-1741284000-1741289400@aialb-sb.org
SUMMARY:BARKitecture
DESCRIPTION:THIS EVENT IS CANCELLED DUE TO THE WEATHER\n\n\n\nBARKitecture: Monty’s at Rosie’s Beach\n\n\n\n\nCelebrating dogs! Join us and bring your furry friend! Non-furry friends are allowed too. \n\n\n\n\nDrinks are on you\, but the appetizers are on us! No reservations required.
URL:https://aialb-sb.org/event/barchitecture-march-2025/
LOCATION:Monty’s at Rosie’s Beach\, 5000 E. Ocean Blvd\, Long Beach\, California\, 90803\, United States
CATEGORIES:BARchitecture,Programs,Social Program
ATTACH;FMTTYPE=image/png:https://aialb-sb.org/wp-content/uploads/2020/12/BARchitecture1.png
END:VEVENT
END:VCALENDAR