BEGIN:VCALENDAR
VERSION:2.0
PRODID:-//AIA-LBSB - ECPv6.15.20//NONSGML v1.0//EN
CALSCALE:GREGORIAN
METHOD:PUBLISH
X-ORIGINAL-URL:https://aialb-sb.org
X-WR-CALDESC:Events for AIA-LBSB
REFRESH-INTERVAL;VALUE=DURATION:PT1H
X-Robots-Tag:noindex
X-PUBLISHED-TTL:PT1H
BEGIN:VTIMEZONE
TZID:America/Los_Angeles
BEGIN:DAYLIGHT
TZOFFSETFROM:-0800
TZOFFSETTO:-0700
TZNAME:PDT
DTSTART:20240310T100000
END:DAYLIGHT
BEGIN:STANDARD
TZOFFSETFROM:-0700
TZOFFSETTO:-0800
TZNAME:PST
DTSTART:20241103T090000
END:STANDARD
BEGIN:DAYLIGHT
TZOFFSETFROM:-0800
TZOFFSETTO:-0700
TZNAME:PDT
DTSTART:20250309T100000
END:DAYLIGHT
BEGIN:STANDARD
TZOFFSETFROM:-0700
TZOFFSETTO:-0800
TZNAME:PST
DTSTART:20251102T090000
END:STANDARD
BEGIN:DAYLIGHT
TZOFFSETFROM:-0800
TZOFFSETTO:-0700
TZNAME:PDT
DTSTART:20260308T100000
END:DAYLIGHT
BEGIN:STANDARD
TZOFFSETFROM:-0700
TZOFFSETTO:-0800
TZNAME:PST
DTSTART:20261101T090000
END:STANDARD
END:VTIMEZONE
BEGIN:VEVENT
DTSTART;TZID=America/Los_Angeles:20250605T180000
DTEND;TZID=America/Los_Angeles:20250605T193000
DTSTAMP:20260419T090638
CREATED:20250508T162247Z
LAST-MODIFIED:20250826T004113Z
UID:24999-1749146400-1749151800@aialb-sb.org
SUMMARY:BARchitecture
DESCRIPTION:BARchitecture: Digital Installers\n\n\n\n\nThis time the appetizers AND the drinks are on us! No reservations required.\n\n\n\n\nThe June BARchitecture goes high-tech! Experience in person the latest in home automation\, home theater\, golf simulators\, and outdoor audio at Digital Installers!  \n\n\n					\n											\n											\n							\n				\n					\n					\n					\n				\n				\n											\n											\n					Home Theater				\n										\n									\n						\n						\n							\n				\n					\n					\n					\n				\n				\n											\n											\n					Golf Simulator				\n										\n									\n						\n										\n																		\n									\n\n\n\n\n\n\nSponsored by \n\n\n\n\nRusty Deeble – President \n\n\n\nRusty@digitalinstallers.com \n\n\n\n800-293-6223 \n\n\n\n\n\n\n\n\n\nJoshua Myers – Area Sales Manager \n\n\n\njoshua.myers@azekco.com \n\n\n\n949-805-8794
URL:https://aialb-sb.org/event/barchitecture-june-2025/
LOCATION:Digital Installers\, 1530 E. Wardlow Rd.\, Long Beach\, CA 90807
CATEGORIES:BARchitecture,Programs,Social Program
ATTACH;FMTTYPE=image/png:https://aialb-sb.org/wp-content/uploads/2020/12/BARchitecture1.png
END:VEVENT
END:VCALENDAR