BEGIN:VCALENDAR
VERSION:2.0
PRODID:-//AIA-LBSB - ECPv6.15.20//NONSGML v1.0//EN
CALSCALE:GREGORIAN
METHOD:PUBLISH
X-WR-CALNAME:AIA-LBSB
X-ORIGINAL-URL:https://aialb-sb.org
X-WR-CALDESC:Events for AIA-LBSB
REFRESH-INTERVAL;VALUE=DURATION:PT1H
X-Robots-Tag:noindex
X-PUBLISHED-TTL:PT1H
BEGIN:VTIMEZONE
TZID:America/Los_Angeles
BEGIN:DAYLIGHT
TZOFFSETFROM:-0800
TZOFFSETTO:-0700
TZNAME:PDT
DTSTART:20220313T100000
END:DAYLIGHT
BEGIN:STANDARD
TZOFFSETFROM:-0700
TZOFFSETTO:-0800
TZNAME:PST
DTSTART:20221106T090000
END:STANDARD
BEGIN:DAYLIGHT
TZOFFSETFROM:-0800
TZOFFSETTO:-0700
TZNAME:PDT
DTSTART:20230312T100000
END:DAYLIGHT
BEGIN:STANDARD
TZOFFSETFROM:-0700
TZOFFSETTO:-0800
TZNAME:PST
DTSTART:20231105T090000
END:STANDARD
BEGIN:DAYLIGHT
TZOFFSETFROM:-0800
TZOFFSETTO:-0700
TZNAME:PDT
DTSTART:20240310T100000
END:DAYLIGHT
BEGIN:STANDARD
TZOFFSETFROM:-0700
TZOFFSETTO:-0800
TZNAME:PST
DTSTART:20241103T090000
END:STANDARD
END:VTIMEZONE
BEGIN:VEVENT
DTSTART;TZID=America/Los_Angeles:20231109T120000
DTEND;TZID=America/Los_Angeles:20231109T130000
DTSTAMP:20260419T083959
CREATED:20231011T225613Z
LAST-MODIFIED:20240414T221009Z
UID:19370-1699531200-1699534800@aialb-sb.org
SUMMARY:Weekday Online Webinar: Bringing Nature Indoors - LIGHTLY & LIGHTGLASS - Sustainable Lighting and Daylight Simulation for Transforming Spaces
DESCRIPTION:Buy Tickets on Eventbrite\n\nREGISTER\n\n\n\n\n\n\n\n1.0 AIA LU/HSW  \n\n\n\nDescription: \n\n\n\nLIGHTLY – Lighting borrowed from nature\, high-performance sustainable luminaire made from 95% biodegradable materials\, without any plastic or metal in its housing\, cutting the embodied carbon footprint of in half compared to an aluminum fixture. \n\n\n\nLIGHTGLASS – Simulated Windows and Skylights – bring the experience of a daylit window into any space. Transform windowless spaces. \n\n\n\nLearning Objectives – LIGHTLY: \n\n\n\n\nUnderstand which materials are classified as toxic by the International Living Future Institute\, and where they are found.\n\n\n\nUnderstand embodied carbon\, and how it is measured.\n\n\n\nLearn how to read and interpret a Declare Label from the International Living Future Institute.\n\n\n\nLearn how to read and interpret a Life-Cycle-Analysis (LCA) as part of an Environmental Product Declaration (EPD).\n\n\n\nUnderstand different approaches for measuring sustainability.\n\n\n\nLearn about existing sustainable architectural materials.\n\n\n\n\nLearning Objective – LIGHTGLASS: \n\n\n\n\nLearn how natural light as contributed to the entrainment our circadian rhythm.\n\n\n\nIdentify the visual and biological processing functions of the retina.\n\n\n\nLearn how light affects attentiveness and human sleep patterns.\n\n\n\nLearn how Circadian Balanced Illumination\, biophilic and WELL design improve the health and wellbeing of people in the built environment.\n\n\n\n\n\n\n\n\n\n\n\n\n\n\n\n\n\n\n\n\n\n\nSpeakers: \n\n\n\n\nGeorge C. Bosson  \n\n\n\nGeorge has 29 years of experience in architectural lighting and is now the Chief Spiritual Officer for LIGHTGLASS. Recognized by the IES as an innovator in lighting development\, George has received numerous design awards including the Good Design Award from the Chicago Athenaeum and Product of the year from Interior Design magazine. In 2013\, George founded Be*light Management\, a product development consultation. \n\n\n\n\n\nSean Darras \n\n\n\nMr. Darras is leader and innovator in the lighting industry\, currently serving as Chairman and CEO of three separate brands within the lighting space. These brands have been continually recognized for their innovative products\, winning multiple awards\, such as Architectural Product of The Year. He led the development and commercialization of the industry’s first simulated window as well as the industry’s first architectural luminaires to be made entirely of bio-based ingredients. Mr. Darras is actively involved in developing baseline data for measuring embodied carbon in luminaires and is helping to guide the lighting industry’s strategy on sustainability.  \n\n\n\n\n\n\n\n\n\nAll attendees have a chance to win 1 of 2 National Park Annual Membership Passes! \n\n\n\n\nPresented by Platinum Level sponsor \n\n\n\n\n\n\n\n\n\n\n\n\n\n\n\n\nBuy Tickets on Eventbrite\n\nREGISTER
URL:https://aialb-sb.org/event/wow-110923/
CATEGORIES:CEU,HSW,Programs,W.O.W.
ATTACH;FMTTYPE=image/png:https://aialb-sb.org/wp-content/uploads/2020/05/W.O.W..png
END:VEVENT
BEGIN:VEVENT
DTSTART;TZID=America/Los_Angeles:20231114T120000
DTEND;TZID=America/Los_Angeles:20231114T130000
DTSTAMP:20260419T083959
CREATED:20231017T211415Z
LAST-MODIFIED:20240414T221000Z
UID:19394-1699963200-1699966800@aialb-sb.org
SUMMARY:Weekday Online Webinar: Forging the Future - Exploring Steel Windows & Doors in Residential Architecture
DESCRIPTION:Buy Tickets on Eventbrite\n\nREGISTER\n\n\n\n\n\n\n\n1.0 AIA LU/HSW  \n\n\n\nDescription: \n\n\n\nThis course provides an overview of Steel Windows & Doors in residential architecture.    It will define the history of how steel windows in buildings originated in medieval times from Blacksmiths for churches and the very wealthy who could afford them.   It will delve into the alloy material make-up of steel and the welding process of assembly\, the glazing process for steel windows and the various methods of coating or finishing the steel to protect from elements and corrosion.   This class will assist the residential specifier to identify different performance characteristics of different steel windows defining how hot rolled and cold rolled steel differ as well as thermally broken steel product from non-thermally broken product.   Various window and door operation (venting capabilities) and associative hardware will be reviewed as well as U.S. window “life safety” and code requirements.   The class will conclude reviewing various installation details of steel windows and doors in common wall conditions for typical residential architecture. \n\n\n\nLearning Objectives: \n\n\n\n\nGain a basic understanding of how Steel window and doors originated in medieval architecture.\n\n\n\nReview various types of alloys used historically and today in producing steel fenestration.\n\n\n\nLearn the difference and process in hot rolled vs. cold rolled steel.\n\n\n\nUnderstand the various types (techniques) of welding in existence today and which process is used extensively in modern day manufacturing of steel products.\n\n\n\nUnderstand the difference between a steel profile Manufacturer and a Fabricator.\n\n\n\nReview Architectural styles (genre) where steel windows and doors are most commonly used.\n\n\n\nDefine basic performance needs in a steel window and door and how to write those features into a window & door specification.\n\n\n\nReview wall conditions and installation techniques of steel windows and doors to maximize performance\, operation\, and comfort.\n\n\n\n\nAttendees have a chance at winning a $100 gift card to a restaurant of their choice! \n\n\n\n\n\n\n\n\n\n\n\n\n\n\n\n\n\n\n\n\n\n\n\n\n\nSpeaker: \n\n\n\n\n\n\n\nMitra Ahmadian is an experienced Architectural Consultant at BMD specializing in the fenestration side of the company’s manufacturing. With a Bachelor in Architecture\, she has a three decades strong background in architecture and design and has an exceptional track record of successfully educating and partnering with architects and design firms. Mitra has been a valuable asset to BMD for the past six years\, consistently delivering outstanding results and building long-lasting relationships with clients. Currently\, she is focused on the new product lines with INICIO Windows and Doors and Glenview Doors\, bringing her expertise and passion to provide innovative solutions to architects and design professionals. Mitra’s dedication to her craft and commitment to excellence make her an invaluable resource for anyone in need of architectural consultation on the fenestration industry. \n\n\n\nPresented by Gold Level sponsor
URL:https://aialb-sb.org/event/wow-111423/
CATEGORIES:CEU,HSW,Programs,W.O.W.
ATTACH;FMTTYPE=image/png:https://aialb-sb.org/wp-content/uploads/2020/05/W.O.W..png
END:VEVENT
END:VCALENDAR