BEGIN:VCALENDAR
VERSION:2.0
PRODID:-//AIA-LBSB - ECPv6.15.20//NONSGML v1.0//EN
CALSCALE:GREGORIAN
METHOD:PUBLISH
X-ORIGINAL-URL:https://aialb-sb.org
X-WR-CALDESC:Events for AIA-LBSB
REFRESH-INTERVAL;VALUE=DURATION:PT1H
X-Robots-Tag:noindex
X-PUBLISHED-TTL:PT1H
BEGIN:VTIMEZONE
TZID:America/Los_Angeles
BEGIN:DAYLIGHT
TZOFFSETFROM:-0800
TZOFFSETTO:-0700
TZNAME:PDT
DTSTART:20220313T100000
END:DAYLIGHT
BEGIN:STANDARD
TZOFFSETFROM:-0700
TZOFFSETTO:-0800
TZNAME:PST
DTSTART:20221106T090000
END:STANDARD
BEGIN:DAYLIGHT
TZOFFSETFROM:-0800
TZOFFSETTO:-0700
TZNAME:PDT
DTSTART:20230312T100000
END:DAYLIGHT
BEGIN:STANDARD
TZOFFSETFROM:-0700
TZOFFSETTO:-0800
TZNAME:PST
DTSTART:20231105T090000
END:STANDARD
BEGIN:DAYLIGHT
TZOFFSETFROM:-0800
TZOFFSETTO:-0700
TZNAME:PDT
DTSTART:20240310T100000
END:DAYLIGHT
BEGIN:STANDARD
TZOFFSETFROM:-0700
TZOFFSETTO:-0800
TZNAME:PST
DTSTART:20241103T090000
END:STANDARD
END:VTIMEZONE
BEGIN:VEVENT
DTSTART;TZID=America/Los_Angeles:20230518T180000
DTEND;TZID=America/Los_Angeles:20230518T200000
DTSTAMP:20260423T035930
CREATED:20230323T022413Z
LAST-MODIFIED:20230727T211801Z
UID:17928-1684432800-1684440000@aialb-sb.org
SUMMARY:Coastal CRAN Presents: Local Legends – a Conversation with Grant Kirkpatrick FAIA & Dean Nota FAIA
DESCRIPTION:Coastal CRAN (Custom Residential Architects Network) is a committee of the AIA Long Beach / South Bay \n\n\n\n\n\n\nBuy Tickets on Eventbrite\n\nREGISTER\n\n\n\n\n\n\n\nLight dinner & drinks included \n\n\n\nStudents $10 | AIA Members $20 | General Admission $30 \n\n\n\n \n\n\n\n1.5 LU \n\n\n\nAn in-person conversation with legendary southern California architects Grant Kirkpatrick\, FAIA\, and Dean Nota\, FAIA\, who will share stories of their careers from their beginnings to present day\, lessons learned\, and what they see for the future of the industry. \n\n\n\nLearning Objectives: \n\n\n\n\nAttendees will learn how our guest speakers got started in the architecture industry and when\, why\, and how they made the leap to forge their own paths.\n\n\n\nAttendees will learn about our guest speakers’ modes of operation – how they work and with whom\, and their preferred work environment to be happy and successful.\n\n\n\nAttendees will learn how our guest speakers market their firms and where new clients come from.\n\n\n\nAttendees will be presented with valuable advice on what these two legendary architects would and would not do over again.\n\n\n\n\nModerated by: Bryan Winters\, AIA\, Christopher Kempel\, AIA\, and Asia Zdziarska\, AIA \n\n\n\n\n\n\n\nGrant Kirkpatrick\, FAIA\n\n\n\nA third generation Californian\, Grant Kirkpatrick\, FAIA\, draws his energy and inspiration from his home state’s optimism and progressive ideals. Since its founding over 30 years ago\, Grant has been the visionary force behind KAA Design Group and he and his team strive every day to elevate the human spirit through the benefits and authenticity of warm contemporary residential design. Learn more about Grant and his firm\, KAA Design Group. \n\n\n\n\n\n\n\nDean Nota\, FAIA\n\n\n\nBorn\, raised and educated in Southern California\, Dean Nota received his Bachelor of Architecture degree from the Southern California Institute of Architecture (SCI ARC) in 1976\, where he was a founding student and a member of the first graduating class. He interned\, and over a period of ten years\, rose to the position of senior associate architect in the internationally acclaimed office of Raymond Kappe FAIA\, prior to opening his own office in Los Angeles in 1982. Concurrent with the establishment of his practice\, he served on the design studio faculty at SCI ARC from 1982 to 1988. Learn more about Dean and his firm\, Nota | Architect.
URL:https://aialb-sb.org/event/coastal-cran-presents-local-legends-051823/
LOCATION:KGM Architectural Lighting\, 270 Coral Circle\, El Segundo\, CA\, 90245
CATEGORIES:CEU,CRAN
ATTACH;FMTTYPE=image/jpeg:https://aialb-sb.org/wp-content/uploads/2023/07/Custom-Residential-Architects-Network-logo.jpg
END:VEVENT
END:VCALENDAR