BEGIN:VCALENDAR
VERSION:2.0
PRODID:-//AIA-LBSB - ECPv6.15.20//NONSGML v1.0//EN
CALSCALE:GREGORIAN
METHOD:PUBLISH
X-WR-CALNAME:AIA-LBSB
X-ORIGINAL-URL:https://aialb-sb.org
X-WR-CALDESC:Events for AIA-LBSB
REFRESH-INTERVAL;VALUE=DURATION:PT1H
X-Robots-Tag:noindex
X-PUBLISHED-TTL:PT1H
BEGIN:VTIMEZONE
TZID:America/Los_Angeles
BEGIN:DAYLIGHT
TZOFFSETFROM:-0800
TZOFFSETTO:-0700
TZNAME:PDT
DTSTART:20230312T100000
END:DAYLIGHT
BEGIN:STANDARD
TZOFFSETFROM:-0700
TZOFFSETTO:-0800
TZNAME:PST
DTSTART:20231105T090000
END:STANDARD
BEGIN:DAYLIGHT
TZOFFSETFROM:-0800
TZOFFSETTO:-0700
TZNAME:PDT
DTSTART:20240310T100000
END:DAYLIGHT
BEGIN:STANDARD
TZOFFSETFROM:-0700
TZOFFSETTO:-0800
TZNAME:PST
DTSTART:20241103T090000
END:STANDARD
BEGIN:DAYLIGHT
TZOFFSETFROM:-0800
TZOFFSETTO:-0700
TZNAME:PDT
DTSTART:20250309T100000
END:DAYLIGHT
BEGIN:STANDARD
TZOFFSETFROM:-0700
TZOFFSETTO:-0800
TZNAME:PST
DTSTART:20251102T090000
END:STANDARD
END:VTIMEZONE
BEGIN:VEVENT
DTSTART;TZID=America/Los_Angeles:20240301T000000
DTEND;TZID=America/Los_Angeles:20240331T235959
DTSTAMP:20260422T132759
CREATED:20240301T112903Z
LAST-MODIFIED:20240414T220116Z
UID:20479-1709251200-1711929599@aialb-sb.org
SUMMARY:Living on the Edge - Coastal Residential Design Awards - - Registration Open
DESCRIPTION:The first-ever design awards program specific to Southern California Coastal Custom Residential Design \n\n\n\n2024 DEADLINES & FEES\n\n\n\nRegistration: March 1 – March 31 \n\n\n\n\n$250 AIA Members\n\n\n\n$350 Non-AIA Members\n\n\n\n\nLast day to submit: April 5 \n\n\n\nSubmission upload link will be provided via email upon verification of registration. Please allow up to three business days. \n\n\n\nLearn More \n\n\n\nPresented by the AIA Long Beach / South Bay and the Coastal CRAN Knowledge Community
URL:https://aialb-sb.org/event/living-on-the-edge-coastal-residential-design-awards-registration-open/
CATEGORIES:CRAN,Design Awards,Programs
ATTACH;FMTTYPE=image/png:https://aialb-sb.org/wp-content/uploads/2024/01/thumbnail-Living-on-the-Edge-Coastal-Residential-Design-Awards-.png
END:VEVENT
END:VCALENDAR