BEGIN:VCALENDAR
VERSION:2.0
PRODID:-//AIA-LBSB - ECPv6.15.20//NONSGML v1.0//EN
CALSCALE:GREGORIAN
METHOD:PUBLISH
X-WR-CALNAME:AIA-LBSB
X-ORIGINAL-URL:https://aialb-sb.org
X-WR-CALDESC:Events for AIA-LBSB
REFRESH-INTERVAL;VALUE=DURATION:PT1H
X-Robots-Tag:noindex
X-PUBLISHED-TTL:PT1H
BEGIN:VTIMEZONE
TZID:America/Los_Angeles
BEGIN:DAYLIGHT
TZOFFSETFROM:-0800
TZOFFSETTO:-0700
TZNAME:PDT
DTSTART:20230312T100000
END:DAYLIGHT
BEGIN:STANDARD
TZOFFSETFROM:-0700
TZOFFSETTO:-0800
TZNAME:PST
DTSTART:20231105T090000
END:STANDARD
BEGIN:DAYLIGHT
TZOFFSETFROM:-0800
TZOFFSETTO:-0700
TZNAME:PDT
DTSTART:20240310T100000
END:DAYLIGHT
BEGIN:STANDARD
TZOFFSETFROM:-0700
TZOFFSETTO:-0800
TZNAME:PST
DTSTART:20241103T090000
END:STANDARD
BEGIN:DAYLIGHT
TZOFFSETFROM:-0800
TZOFFSETTO:-0700
TZNAME:PDT
DTSTART:20250309T100000
END:DAYLIGHT
BEGIN:STANDARD
TZOFFSETFROM:-0700
TZOFFSETTO:-0800
TZNAME:PST
DTSTART:20251102T090000
END:STANDARD
END:VTIMEZONE
BEGIN:VEVENT
DTSTART;TZID=America/Los_Angeles:20241016T180000
DTEND;TZID=America/Los_Angeles:20241016T200000
DTSTAMP:20260422T041256
CREATED:20240918T171628Z
LAST-MODIFIED:20241015T183150Z
UID:22474-1729101600-1729108800@aialb-sb.org
SUMMARY:Coastal CRAN Presents: City Conversations
DESCRIPTION:a Candid Discussion with City Building Departments \n\n\n\n1.5 AIA LU  \n\n\n\n\n\n\nBuy Tickets on Eventbrite\n\nREGISTER\n\n\n\n\n\n\n\nPrice increases October 12 \n\n\n\nRefreshments and apps at archemy.LA then walk to Manhattan Beach Library for presentation \n\n\n\n \n\n\n\nDescription: \n\n\n\nAn in-person conversation with two LA area city representatives who will share critical insights into the status of their respective city agencies\, including processes\, workflow\, and what is coming in terms of new changes and better implementation in permitting. We will discuss their experience with other local cities and how architects and city officials can collaborate to help each other to thrive in the often-frustrating experience that we call architecture. \n\n\n\n \n\n\n\nPanelists: \n\n\n\nChristopher Koontz – Director of Development Services Department\, City of Long Beach \n\n\n\nMarc Wiener – Community Development Director\, City of Redondo Beach \n\n\n\nRepresentative TBD – City of Manhattan Beach \n\n\n\nLearning Objectives: \n\n\n\n\nAttendees will gain important information on how they\, as architects\, can connect with city officials\, nurture those relationships\, and receive relevant information on how to better navigate the process from kick off through certificate of occupancy.\n\n\n\nAttendees will learn the common process on how architects can help the city officials better their plan-check process and make it more of a two-way street.\n\n\n\nAttendees will learn how architects can assist city officials in determining potential alternatives in getting projects ready to issue and assessing their feasibility.\n\n\n\nAttendees will be presented with valuable advice on where the cities are heading\, including artificial intelligence\, social media\, and marketing.\n\n\n\n\nModerated by: Bryan Winters\, AIA\, Christopher Kempel\, AIA\, and Asia Zdziarska\, AIA \n\n\n\n\n\n\n\nCoastal CRAN (Custom Residential Architects Network) is a knowledge community of the AIA Long Beach / South Bay \n\n\n\n\n\n\n\nSponsored by \n\n\n\n\n\n\n\n\nRepresented by: \n\n\n\nEve Guilbaud\, LEED AP – Architectural Territory Manager – Southern California | 310-781-0450 \n\n\n\n\n\n\n\nWith additional support by \n\n\n\n\n\n\n\n\n\n\n\n\n\n\n\n\nWine sponsored by \n\n\n\n\n\n\n\nSocial 6 – 6:30 pm: \n\n\n\n\n\nPresentation 6:30 – 8 pm: \n\n\n\nManhattan Beach Library \n\n\n\n1320 Highland Ave\, Manhattan Beach\, CA 90266
URL:https://aialb-sb.org/event/coastal-cran-presents-oct-2024/
LOCATION:archemy.LA\, 1220 Highland Ave\, Manhattan Beach\, 90266
CATEGORIES:CEU,CRAN,Programs
ATTACH;FMTTYPE=image/png:https://aialb-sb.org/wp-content/uploads/2023/07/Coastal-CRAN-logo-800x800-1.png
END:VEVENT
END:VCALENDAR