BEGIN:VCALENDAR
VERSION:2.0
PRODID:-//AIA-LBSB - ECPv6.15.20//NONSGML v1.0//EN
CALSCALE:GREGORIAN
METHOD:PUBLISH
X-WR-CALNAME:AIA-LBSB
X-ORIGINAL-URL:https://aialb-sb.org
X-WR-CALDESC:Events for AIA-LBSB
REFRESH-INTERVAL;VALUE=DURATION:PT1H
X-Robots-Tag:noindex
X-PUBLISHED-TTL:PT1H
BEGIN:VTIMEZONE
TZID:America/Los_Angeles
BEGIN:DAYLIGHT
TZOFFSETFROM:-0800
TZOFFSETTO:-0700
TZNAME:PDT
DTSTART:20240310T100000
END:DAYLIGHT
BEGIN:STANDARD
TZOFFSETFROM:-0700
TZOFFSETTO:-0800
TZNAME:PST
DTSTART:20241103T090000
END:STANDARD
BEGIN:DAYLIGHT
TZOFFSETFROM:-0800
TZOFFSETTO:-0700
TZNAME:PDT
DTSTART:20250309T100000
END:DAYLIGHT
BEGIN:STANDARD
TZOFFSETFROM:-0700
TZOFFSETTO:-0800
TZNAME:PST
DTSTART:20251102T090000
END:STANDARD
BEGIN:DAYLIGHT
TZOFFSETFROM:-0800
TZOFFSETTO:-0700
TZNAME:PDT
DTSTART:20260308T100000
END:DAYLIGHT
BEGIN:STANDARD
TZOFFSETFROM:-0700
TZOFFSETTO:-0800
TZNAME:PST
DTSTART:20261101T090000
END:STANDARD
END:VTIMEZONE
BEGIN:VEVENT
DTSTART;TZID=America/Los_Angeles:20250320T170000
DTEND;TZID=America/Los_Angeles:20250320T193000
DTSTAMP:20260419T193744
CREATED:20250227T163316Z
LAST-MODIFIED:20250318T151508Z
UID:24324-1742490000-1742499000@aialb-sb.org
SUMMARY:Coastal CRAN Presents: A Conversation with the California Coastal Commission
DESCRIPTION:2.0 AIA LUs  \n\n\n\n\n\n5 – 6 pm social \n\n\n\n6 pm panel + Q&A \n\n\n\n\n\n\n\n\nBuy Tickets on Eventbrite\n\nREGISTER\n\n\n\n\n\n\n\nDescription: \n\n\n\nThis program provides an in-depth look at the California Coastal Commission’s purpose\, history\, and role in protecting California’s iconic coastal resources. Attendees will gain practical insights into navigating the Coastal Commission’s review process\, understanding when Commission oversight applies\, and learning how the Commission collaborates with cities\, homeowners\, and architects to ensure compliance with coastal development policies. Special attention will be given to the impact of Executive Orders\, including the current exemption of Commission review for fire rebuilds\, and how these provisions may influence rebuilding and development scenarios. \n\n\n\nLearning objectives: \n\n\n\n\nUnderstand the California Coastal Commission’s mission\, history and impact\, and how its efforts protect the California coastline environment.\n\n\n\nParticipants will learn about the resources and support provided by the California Coastal Commission to Architects and homeowners to design and execute projects that meet regulatory requirements and prioritize public access\, safety and environmental sustainability.\n\n\n\nEvaluate how and when California Coastal Commission review is required for development of projects\, including the jurisdictional overlap with local governments and the implications for community access\, safety and environmental preservation.\n\n\n\nParticipants will understand the current policies exempting fire rebuilds from California Coastal Commission review\, including their implications\, limitations\, and the Commission’s role in approving modifications to rebuilding plans.\n\n\n\n\nPanelists: \n\n\n\nMeagan Harmon\, Commissioner – Governor’s Appointments\, South Central Coast Representative \n\n\n\nAmber Dobson\, District Supervisor \n\n\n\nDani Ziff\, District Supervisor and Tribal Liaison \n\n\n\nhttps://www.coastal.ca.gov \n\n\n\n\n\n\n\n\nKEY EVENT SPONSOR \n\n\n\n35 Years of Contemporary Architecture & Landscape Architecture \n\n\n\n\n\n\n\n\nAlso sponsored by\, \n\n\n\n\n\n\n\n\n\n\n\n\n\n\n\n\n\n\n\n\n\n\n\n\n\n\n\n\n\n\n\n\n\n\n\n\n\n\n\n\n\nCoastal CRAN (Custom Residential Architects Network) is a knowledge community of the AIA Long Beach / South Bay \n\n\n\nThis event is part of a series of LA Fire Response events presented in conjunction with AIA California and So Cal area AIA local chapters
URL:https://aialb-sb.org/event/coastal-cran-presents-a-conversation-with-the-california-coastal-commission/
LOCATION:Santa Monica Public Library – MLK Auditorium\, 601 Santa Monica Blvd\, Santa Monica\, CA\, 90401\, United States
CATEGORIES:CEU,CRAN,Programs
ATTACH;FMTTYPE=image/png:https://aialb-sb.org/wp-content/uploads/2023/07/Coastal-CRAN-logo-800x800-1.png
END:VEVENT
END:VCALENDAR