BEGIN:VCALENDAR
VERSION:2.0
PRODID:-//AIA-LBSB - ECPv6.15.20//NONSGML v1.0//EN
CALSCALE:GREGORIAN
METHOD:PUBLISH
X-ORIGINAL-URL:https://aialb-sb.org
X-WR-CALDESC:Events for AIA-LBSB
REFRESH-INTERVAL;VALUE=DURATION:PT1H
X-Robots-Tag:noindex
X-PUBLISHED-TTL:PT1H
BEGIN:VTIMEZONE
TZID:America/Los_Angeles
BEGIN:DAYLIGHT
TZOFFSETFROM:-0800
TZOFFSETTO:-0700
TZNAME:PDT
DTSTART:20240310T100000
END:DAYLIGHT
BEGIN:STANDARD
TZOFFSETFROM:-0700
TZOFFSETTO:-0800
TZNAME:PST
DTSTART:20241103T090000
END:STANDARD
BEGIN:DAYLIGHT
TZOFFSETFROM:-0800
TZOFFSETTO:-0700
TZNAME:PDT
DTSTART:20250309T100000
END:DAYLIGHT
BEGIN:STANDARD
TZOFFSETFROM:-0700
TZOFFSETTO:-0800
TZNAME:PST
DTSTART:20251102T090000
END:STANDARD
BEGIN:DAYLIGHT
TZOFFSETFROM:-0800
TZOFFSETTO:-0700
TZNAME:PDT
DTSTART:20260308T100000
END:DAYLIGHT
BEGIN:STANDARD
TZOFFSETFROM:-0700
TZOFFSETTO:-0800
TZNAME:PST
DTSTART:20261101T090000
END:STANDARD
END:VTIMEZONE
BEGIN:VEVENT
DTSTART;TZID=America/Los_Angeles:20250529T170000
DTEND;TZID=America/Los_Angeles:20250529T190000
DTSTAMP:20260419T165336
CREATED:20250415T235238Z
LAST-MODIFIED:20250523T162535Z
UID:24841-1748538000-1748545200@aialb-sb.org
SUMMARY:QUIETLY BOLD: A Multigenerational Compound in a Historic Neighborhood
DESCRIPTION:A Coastal CRAN tour + presentation\n\n\n\n\n\n\nPrices increases May 1 \n\n\n\n\nBuy Tickets on Eventbrite\n\nBuy Tickets\n\n\n\n\n\n\n\n\n2.0 AIA LU/HSW \n\n\n\nDescription:\n\n\n\nThis course explores the transformation of a 1929 Spanish bungalow in Long Beach’s Zaferia district into a multigenerational home that balances privacy\, shared living\, and historical context. Participants will examine how the redesign preserves the architectural integrity of the original structure while incorporating modern interventions inspired by the urban and industrial surroundings. Key topics include designing for multigenerational living\, integrating sustainable and cost-conscious strategies\, and maintaining a strong connection to community and place. Special emphasis is placed on design decisions that enhance occupant health\, safety\, and welfare\, ensuring long-term comfort\, accessibility\, and sustainability. \n\n\n\nLearning objectives:\n\n\n\n\nMultigenerational Design Strategies for Health and Accessibility – Analyze how architectural solutions can accommodate multigenerational living while ensuring safety\, accessibility\, and well-being through features such as universal design\, aging-in-place strategies\, and shared spaces that support social interaction and mental health.\n\n\n\nContextual Adaptation and Historic Preservation for Community Welfare – Evaluate how modifications to historic homes can respect original architectural character while enhancing occupant safety\, structural integrity\, and energy efficiency to improve long-term habitability and resilience.\n\n\n\nSustainable and Cost-Conscious Material Selections for Occupant Health – Identify material choices and energy-efficient strategies that contribute to indoor air quality\, thermal comfort\, and low-maintenance durability\, thereby enhancing the long-term health and safety of residents.\n\n\n\nMaximizing Natural Light and Space Efficiency for Well-Being – Assess the role of spatial planning\, ceiling heights\, glazing strategies\, and outdoor connections in creating an open\, light-filled home that supports circadian rhythms\, mental well-being\, and improved indoor air quality.\n\n\n\n\nBy the end of this course\, participants will have gained insights into how thoughtful design can bridge past and future while prioritizing occupant health\, safety\, and welfare. This approach ensures that evolving family needs\, sustainability\, and affordability shape a home that remains deeply connected to its community and history. \n\n\n\nPresenter:\n\n\n\nBecher Neme\, AIA\, Neme Design Studio\n\n\n\n\n\n\n\n\n\n\n\nSponsored by \n\n\n\n\nJoshua Myers – Area Sales Manager \n\n\n\njoshua.myers@azekco.com \n\n\n\n949-805-8794 \n\n\n\n\n\nAndre Medina – Principal \n\n\n\nandre@amlightstudio.com \n\n\n\n559-546-2644 \n\n\n\n\n\n\n\n\nCoastal CRAN (Custom Residential Architects Network) is a knowledge community of the AIA Long Beach / South Bay
URL:https://aialb-sb.org/event/c-cran-quietly-bold-052925/
LOCATION:Quietly Bold\, 4131 E. 11th St.\, Long Beach\, California\, 90804
CATEGORIES:CEU,CRAN,Programs,Tour
ATTACH;FMTTYPE=image/png:https://aialb-sb.org/wp-content/uploads/2025/04/Copy-of-Copy-of-Copy-of-C-CRAN-Quietly-Bold-45.png
END:VEVENT
END:VCALENDAR