BEGIN:VCALENDAR
VERSION:2.0
PRODID:-//AIA-LBSB - ECPv6.15.20//NONSGML v1.0//EN
CALSCALE:GREGORIAN
METHOD:PUBLISH
X-WR-CALNAME:AIA-LBSB
X-ORIGINAL-URL:https://aialb-sb.org
X-WR-CALDESC:Events for AIA-LBSB
REFRESH-INTERVAL;VALUE=DURATION:PT1H
X-Robots-Tag:noindex
X-PUBLISHED-TTL:PT1H
BEGIN:VTIMEZONE
TZID:America/Los_Angeles
BEGIN:DAYLIGHT
TZOFFSETFROM:-0800
TZOFFSETTO:-0700
TZNAME:PDT
DTSTART:20240310T100000
END:DAYLIGHT
BEGIN:STANDARD
TZOFFSETFROM:-0700
TZOFFSETTO:-0800
TZNAME:PST
DTSTART:20241103T090000
END:STANDARD
BEGIN:DAYLIGHT
TZOFFSETFROM:-0800
TZOFFSETTO:-0700
TZNAME:PDT
DTSTART:20250309T100000
END:DAYLIGHT
BEGIN:STANDARD
TZOFFSETFROM:-0700
TZOFFSETTO:-0800
TZNAME:PST
DTSTART:20251102T090000
END:STANDARD
BEGIN:DAYLIGHT
TZOFFSETFROM:-0800
TZOFFSETTO:-0700
TZNAME:PDT
DTSTART:20260308T100000
END:DAYLIGHT
BEGIN:STANDARD
TZOFFSETFROM:-0700
TZOFFSETTO:-0800
TZNAME:PST
DTSTART:20261101T090000
END:STANDARD
END:VTIMEZONE
BEGIN:VEVENT
DTSTART;TZID=America/Los_Angeles:20250612T120000
DTEND;TZID=America/Los_Angeles:20250612T130000
DTSTAMP:20260419T153605
CREATED:20250531T134345Z
LAST-MODIFIED:20250606T222356Z
UID:25477-1749729600-1749733200@aialb-sb.org
SUMMARY:The Bend House: A Case Study in ADU Integration and Innovative Residential Design
DESCRIPTION:A Coastal CRAN tour + presentation\n\n\n\n\n\n\n \n\n\n\n\nBuy Tickets on Eventbrite\n\nBuy Tickets\n\n\n\n\n\n\n\n\n1.0 AIA LU/HSW  \n\n\n\nDescription:\n\n\n\nJoin us for a guided tour and discussion at The Bend House\, a newly completed residential project in Torrance that features a fully reimagined main home and a newly constructed ADU (Accessory Dwelling Unit) situated in the front yard – novel and intentional design decision. Located on a corner lot\, this project creatively explores the relationship between site conditions and architectural expression\, with playful nods to the concept of “bending” through the use of half arches and curved forms inside and out. \n\n\n\nDesigned to clearly delineate between new construction and remodeled spaces through materiality and color\, this project showcases a thoughtful integration of architecture\, interior design\, and landscape collaboration. Attendees will hear from the design team about the project’s conception\, design challenges\, and the potential of ADUs to improve housing accessibility and sustainability in the South Bay. Whether you’re designing for added square footage\, potential rental income\, or multi-generational living\, this program will provide practical strategies and inspiration for incorporating ADUs into residential design. \n\n\n\nLearning objectives:\n\n\n\n\nExplore how site characteristics—such as a corner lot—influence design choices that enhance livability\, access to daylight\, and neighborhood engagement.\n\n\n\nDescribe the planning\, design\, and construction phases involved in integrating an ADU with an existing home\, including key code considerations\, spatial planning\, and coordination with city requirements.\n\n\n\nExamine strategies for clearly delineating new construction from remodeled spaces to support intuitive wayfinding\, functional layout\, and long-term adaptability of the home.\n\n\n\nDiscuss the financial\, social\, and environmental benefits of incorporating an ADU into residential projects\, including increased housing flexibility\, rental potential\, and support for multi-generational living.\n\n\n\n\n\n\n\n\nPresenter:\n\n\n\nAsia Zdziarska\, AIA\, archemy.LA\n\n\n\n\n\n\n\n\n\n\n\nCoastal CRAN (Custom Residential Architects Network) is a knowledge community of the AIA Long Beach / South Bay \n\n\n\n\n\n\n\nSPONSOR THIS PROGRAM \n\n\n\nSupport an AIA LBSB program that advances our profession and increases visibility for your organization. Contact us to learn how.
URL:https://aialb-sb.org/event/c-cran-061225/
LOCATION:The Bend House\, 2302 West 171st Street\, Torrance\, CA\, 90504
CATEGORIES:CEU,CRAN,Programs,Tour
ATTACH;FMTTYPE=image/png:https://aialb-sb.org/wp-content/uploads/2025/05/C-CRAN-The-BEND-House-45.png
END:VEVENT
END:VCALENDAR